Workbook

Sheet Содержание книги
A1: Содержание
A4: № листа | B4: Электросетевой участок | C4: Центр питания
A5: 1, 2 | B5: г. Вологда | C5: ПС "АНАНЬИНО"
A6: 3 | B6: г. Вологда | C6: ПС ЕРМАКОВО
A7: 4 | B7: г. Вологда | C7: ПС "МАЕГА"
A8: 5,6, 7, 8, 9 | B8: г. Вологда | C8: ПС "ЗАПАДНАЯ
A9: 10 | B9: г. Вологда | C9: ПС "СЕВЕРНАЯ 35/6 кВ
A10: 11 | B10: г. Вологда | C10: РТП "ТЕПЛИЧНОГО ХОЗ - ВА"
A11: 12,13, 14 | B11: г. Вологда | C11: ГПП 110/10 кВ "ВОМЗ"
A12: 15,16,17,18,19,20, 21, 21-1, 21-2, 21-3, 21-4 | B12: г. Вологда | C12: ПС ВОЛОГДА-ЮЖНАЯ РУ - 6 -10 кВ
A13: 21-5, | C13: ПС ВОЛОГДА-ЮЖНАЯ РУ 6 кВ ОАО "БМЗ"
A14: 22 | B14: г. Вологда | C14: ГПП ВОЛОГДА - ТЯГОВАЯ 110/27,5/6 кВ
A15: 23 | B15: г. Вологда | C15: ТП 10 РЖД
A16: 24 | B16: г. Вологда | C16: ТП 34 РЖД
A17: 25,26,27,28,29 | B17: г. Вологда | C17: ТГК- 2 ВТЭЦ РП 6 кВ
A18: 30,31,32,33,34,34-1 | B18: г. Вологда | C18: ПС "ЦЕНТРАЛЬНАЯ" 110/6 кВ
A19: 35, 36 | B19: г. Вологда | C19: ПС "ГОРОДСКАЯ" 35/6 кВ
A20: 37, 38, 39, 39-1 | B20: г. Вологда | C20: ПС "ВОСТОЧНАЯ" 110/35/10 кВ
A21: 40, 40-1, 41,41-1 | B21: г. Вологда | C21: ПС "ЛУГОВАЯ"
A22: 42 | B22: г. Вологда | C22: РП "ГОРКА"
A23: 43, 44 | B23: г. Вологда | C23: ГПП 2 ЗАО ВПЗ
A24: 45 | B24: г. Вологда | C24: ГПП 1 ЗАО ВПЗ
A25: 46 | B25: ЭСУ "Кубенское" | C25: ПС "Кубенское"
A26: 47, 48, 48-1,48-2 | B26: ЭСУ п. Молочное | C26: ПС "Молочное" 35/10 кВ
A27: 49, 50, 50-1, 50-2, 50-3 | B27: ЭСУ "Устье-Кубенское" | C27: РТП "КОРНИЛОВО" 35/10 кВ
A28: 51, 52, | B28: ЭСУ "Шуйское" | C28: ПС "ШУЙСКОЕ" 35/ 10 кВ
A29: 53 | B29: ЭСУ г. Сокол | C29: ПС ИП Сокол 110/10/10
A30: 54.55 | B30: ЭСУ г. Сокол | C30: ПС "ГДЗ" 110/6 кВ
A31: 56, 57, 58, | B31: ЭСУ г. Сокол | C31: ОАО "Сокольский" ЦБК" ГПП 35/6 кВ
A32: 59 | B32: ЭСУ г. Сокол | C32: ОАО "Сокольский" ЦБК" ГПП 110/6 кВ
A33: 60, 61, 62, 63 | B33: ЭСУ г. Сокол | C33: ООО "Сухонский ЦБК" ГПП 110/6 кВ
A34: 64-66-1 | B34: ЭСУ "Белозерск" | C34: ПС Белозерск, ПС Вашки
A35: 67-75 | B35: ЭСУ "Вытегра" | C35: ПС 35 кВ Вытегра, ПС 110 кВ Восточная ПС
A36: 76-81_1 | B36: ЭСУ "Харовск" | C36: ПС 110 кВ Харовск (Р), ПС 110 кВ Харовск-Тяговая
A37: 82-86 | B37: ЭТУ "Вожега" | C37: ПС 110 кВ Вожега
A38: 87-91 | B38: ЭТУ "Тотьма" | C38: ПС 110 кВ Тоьма-1, ПС 110 кВ Тотьма-2
A39: 92-95 | B39: ЭСУ "Сямжа" | C39: ПС 110 кВ Сямжа
A40: 96-97 | B40: ЭСУ "Грязовец" | C40: ПС 110 кВ Грязовец
A42: Содержание
A45: № листа | B45: Электросетевой участок | C45: Центр питания
A46: 1 а | B46: г. Вологда | C46: ОАО "БМЗ"
A48: 1, 2 | B48: г. Вологда | C48: ПС "АНАНЬИНО"
A51: 3 | B51: г. Вологда | C51: ПС "ИСКРА"
A53: 4 | B53: г. Вологда | C53: ПС "МАЕГА"
A55: 5,6, 7, 8, 9 | B55: г. Вологда | C55: ПС "ЗАПАДНАЯ
A61: 10 | B61: г. Вологда | C61: ПС "СЕВЕРНАЯ 35/6 кВ
A63: 11 | B63: г. Вологда | C63: РТП "ТЕПЛИЧНОГО ХОЗ - ВА"
A65: 12,13, 14 | B65: г. Вологда | C65: ГПП 110/10 кВ "ВОМЗ"
A69: 15,16,17,18,19,20, 21 | B69: г. Вологда | C69: ПС ВОЛОГДА-ЮЖНАЯ РУ - 6 -10 кВ
A78: 22 | B78: г. Вологда | C78: ГПП ВОЛОГДА - ТЯГОВАЯ 110/27,5/6 кВ
A80: 23 | B80: г. Вологда | C80: ТП 10 СЖД ОАО РЖД
A82: 24 | B82: г. Вологда | C82: ТП 34 СЖД ОАО РЖД
A84: 25,26,27,28,29 | B84: г. Вологда | C84: ТГК- 2 ВТЭЦ РП 6 кВ
A90: 30,31,32,33,34,34-1 | B90: г. Вологда | C90: ПС "ЦЕНТРАЛЬНАЯ" 110/6 кВ
A97: 35, 36 | B97: г. Вологда | C97: ПС "ГОРОДСКАЯ" 35/6 кВ
A100: 37, 38, 39 | B100: г. Вологда | C100: ПС "ВОСТОЧНАЯ" 110/35/10 кВ
A104: 40, 41 | B104: г. Вологда | C104: ПС "ЛУГОВАЯ"
A107: 42 | B107: г. Вологда | C107: РП "ГОРКА"
A109: 43, 44 | B109: г. Вологда | C109: ГПП 2 ЗАО ВПЗ
A112: 45 | B112: г. Вологда | C112: ГПП 1 ЗАО ВПЗ
A114: 46 | B114: ЭСУ "Кубенское" | C114: ПС "Кубенское"
A116: 47, 48 | B116: ЭСУ п. Молочное | C116: ПС "Молочное" 35/10 кВ
A119: 49, 50 | B119: ЭСУ "Устье-Кубенское" | C119: РТП "КОРНИЛОВО" 35/10 кВ
A124: 51, 52, 53 | B124: ЭСУ "Шуйское" | C124: ПС "ШУЙСКОЕ" 35/ 10 кВ
A128: 54 | B128: ЭСУ г. Сокол | C128: ПС "ГДЗ" 110/6 кВ
A131: 55 | B131: ЭСУ г. Сокол | C131: ОАО "СОКОЛРЕММАШ"
A133: 56, 57, 58, | B133: ЭСУ г. Сокол | C133: ОАО "Сокольский" ЦБК" ГПП 35/6 кВ
A137: 59 | B137: ЭСУ г. Сокол | C137: ОАО "Сокольский" ЦБК" ГПП 110/6 кВ
A139: 60, 61, 62, 63 | B139: ЭСУ г. Сокол | C139: ООО "Сухонский ЦБК" ГПП 110/6 кВ
A144: 64, 65, 66 | B144: ЭСУ "Белозерск" | C144: ПС "Белозерск"
A148: 67, 68, 69, 70, 71, 72, | B148: ЭСУ "Вытегра" | C148: ПС "Белоусово"
A149: 73, 74, 75
C150: ПС "Ольховская"
C152: ПС "Восточная"
C155: ПС "Мегра"
C157: ПС "Вытегра"
C161: ПС "Анненская"

Sheet 1
B1: АО "Вологдаоблэнерго" | J1: код 900151 | N1: ПС "АНАНЬИНО"
B2: наименование предприятия | N2: наименование источника питания
N3: _________________________________
B4: ул. Горького, 99 | I4: Таблица № 1 | O4: ВЛ 10 кВ № 31
B5: адрес
A6: почасовых записей показаний электрических счетчиков
A7: в режимный день 20 Декабря 2023 г.
A8: 1629
A9: часы суток | B9: Активная энергия | J9: Реактивная энергия
B10: ЯЧ. № 7 - Ф."Город 7" | J10: ЯЧ. № 7 - Ф."Город 7"
B11: Расчет. Коэф. | E11: 3600 | F11: Расчет. Коэф. | J11: Расчет. Коэф. | M11: =E11 -> 3600 | N11: Расчет. Коэф.
B12: показания счетчика | C12: разность | E12: расход эл.энергии за час | F12: показания счетчика | G12: разность | I12: расход эл.энергии за час | J12: показания счетчика | K12: разность | M12: расход эл.энергии за час | N12: показания счетчика | O12: разность | Q12: расход эл.энергии за час
A13: 1 | B13: 2 | C13: 3 | E13: 4 | F13: 5 | G13: 6 | I13: 7 | J13: 8 | K13: 9 | M13: 10 | N13: 11 | O13: 12 | Q13: 13
A14: 0 | E14: 668 | M14: 286
A15: 1 | E15: 657 | M15: 290
A16: 2 | E16: 672 | M16: 287
A17: 3 | E17: 614 | M17: 258
A18: 4 | E18: 641 | M18: 255
A19: 5 | E19: 673 | M19: 255
A20: 6 | E20: 739 | M20: 255
A21: 7 | E21: 784 | M21: 245
A22: 8 | E22: 825 | M22: 253
A23: 9 | E23: 863 | M23: 322
A24: 10 | E24: 879 | M24: 331
A25: 11 | E25: 883 | M25: 283
... A37: 23 | E37: 698 | M37: 269
A38: Итого | E38: =SUM(E14:E37) -> 18523 | I38: =SUM(I14:I37) -> 0 | M38: =SUM(M14:M37) -> 6793 | Q38: =SUM(Q14:Q37) -> 0
A39: 1. При наличии на предприятии отклонений от нормальных режимов электропотребления (временное изменение схем питания, остановка на ремонт, резкое снижение
A40: эл.потребления и т.д.) последние необходимо перечислить.
A41: Главный инженер АО "Вологдаоблэнерго" А.В. Чурляев
A42: составляется самим предприятием с соблюдением всех пунктов настоящей таблицы.

Sheet 2
B1: АО "Вологдаоблэнерго" | J1: код 900151 | N1: ПС "АНАНЬИНО"
B2: наименование предприятия | N2: наименование источника питания
N3: _________________________________
B4: ул. Горького, 99 | I4: Таблица № 1 | O4: РП 36 ф 16; ТП 360
B5: адрес
A6: почасовых записей показаний электрических счетчиков
A7: в режимный день 20 Декабря 2023 г.
A8: 1630 | B8: 1628
A9: часы суток | B9: Активная энергия | J9: Реактивная энергия
B10: ЯЧ. № 2 - Ф."Овощехранилище" | F10: ЯЧ. № 8 - Ф."Городской" | J10: ЯЧ. № 2 - Ф."Овощехранилище" | N10: ЯЧ. № 8 - Ф."Городской"
B11: Расчет. Коэф. | E11: 3600 | F11: Расчет. Коэф. | I11: 2400 | J11: Расчет. Коэф. | M11: =E11 -> 3600 | N11: Расчет. Коэф. | Q11: =I11 -> 2400
B12: показания счетчика | C12: разность | E12: расход эл.энергии за час | F12: показания счетчика | G12: разность | I12: расход эл.энергии за час | J12: показания счетчика | K12: разность | M12: расход эл.энергии за час | N12: показания счетчика | O12: разность | Q12: расход эл.энергии за час
A13: 1 | B13: 2 | C13: 3 | E13: 4 | F13: 5 | G13: 6 | I13: 7 | J13: 8 | K13: 9 | M13: 10 | N13: 11 | O13: 12 | Q13: 13
A14: 0 | E14: 179 | I14: 260 | M14: 94 | Q14: 82
A15: 1 | E15: 154 | I15: 249 | M15: 75 | Q15: 80
A16: 2 | E16: 155 | I16: 246 | M16: 68 | Q16: 79
A17: 3 | E17: 153 | I17: 254 | M17: 67 | Q17: 80
A18: 4 | E18: 155 | I18: 258 | M18: 58 | Q18: 76
A19: 5 | E19: 269 | I19: 282 | M19: 60 | Q19: 77
A20: 6 | E20: 231 | I20: 300 | M20: 56 | Q20: 78
A21: 7 | E21: 314 | I21: 311 | M21: 61 | Q21: 83
A22: 8 | E22: 545 | I22: 321 | M22: 309 | Q22: 89
A23: 9 | E23: 660 | I23: 345 | M23: 395 | Q23: 100
A24: 10 | E24: 597 | I24: 330 | M24: 325 | Q24: 93
A25: 11 | E25: 701 | I25: 345 | M25: 389 | Q25: 100
... A37: 23 | E37: 162 | I37: 273 | M37: 62 | Q37: 77
A38: Итого | E38: =SUM(E14:E37) -> 9108 | I38: =SUM(I14:I37) -> 7080 | M38: =SUM(M14:M37) -> 4263 | Q38: =SUM(Q14:Q37) -> 1979
A39: 1. При наличии на предприятии отклонений от нормальных режимов электропотребления (временное изменение схем питания, остановка на ремонт, резкое снижение
A40: эл.потребления и т.д.) последние необходимо перечислить.
A41: Главный инженер АО "Вологдаоблэнерго" А.В. Чурляев
A42: составляется самим предприятием с соблюдением всех пунктов настоящей таблицы.

Sheet 3
B1: АО "Вологдаоблэнерго" | J1: код 900151 | N1: ПС 110 кВ ЕРМАКОВО
B2: наименование предприятия | N2: наименование источника питания
N3: яч. 18 ф."РУБЦОВО"
B4: ул. Горького, 99 | I4: Таблица № 1 | O4: ВЛ-10кВ № 2
B5: адрес
A6: почасовых записей показаний электрических счетчиков
A7: в режимный день 20 Декабря 2023 г.
A8: 374
A9: часы суток | B9: Активная энергия | J9: Реактивная энергия
B10: яч. 18 ф."РУБЦОВО"- ПКУ - ВЛ№2 | J10: яч. 18 ф."РУБЦОВО"- ПКУ - ВЛ№2
B11: Расчет. Коэф. | E11: 1000 | F11: Расчет. Коэф. | I11: 0 | J11: Расчет. Коэф. | M11: =E11 -> 1000 | N11: Расчет. Коэф. | Q11: =I11 -> 0
B12: показания счетчика | C12: разность | E12: расход эл.энергии за час | F12: показания счетчика | G12: разность | I12: расход эл.энергии за час | J12: показания счетчика | K12: разность | M12: расход эл.энергии за час | N12: показания счетчика | O12: разность | Q12: расход эл.энергии за час
A13: 1 | B13: 2 | C13: 3 | E13: 4 | F13: 5 | G13: 6 | I13: 7 | J13: 8 | K13: 9 | M13: 10 | N13: 11 | O13: 12 | Q13: 13
A14: 0 | E14: 497.4 | M14: 20.6
A15: 1 | E15: 489.6 | M15: 18.2
A16: 2 | E16: 461.6 | M16: 16.6
A17: 3 | E17: 470.8 | M17: 16.4
A18: 4 | E18: 493.8 | M18: 18
A19: 5 | E19: 505.4 | M19: 19.4
A20: 6 | E20: 541.6 | M20: 20.6
A21: 7 | E21: 541.6 | M21: 19.8
A22: 8 | E22: 515.8 | M22: 17
A23: 9 | E23: 484.6 | M23: 19
A24: 10 | E24: 482.4 | M24: 23.8
A25: 11 | E25: 479 | M25: 23
... A37: 23 | E37: 523.2 | M37: 20.8
A38: Итого | E38: =SUM(E14:E37) -> 12473 | I38: =SUM(I14:I37) -> 0 | M38: =SUM(M14:M37) -> 550.4 | Q38: =SUM(Q14:Q37) -> 0
A39: 1. При наличии на предприятии отклонений от нормальных режимов электропотребления (временное изменение схем питания, остановка на ремонт, резкое снижение
A40: эл.потребления и т.д.) последние необходимо перечислить.
A41: Главный инженер АО "Вологдаоблэнерго" А.В. Чурляев
A42: составляется самим предприятием с соблюдением всех пунктов настоящей таблицы.

Sheet 4
B1: АО "Вологдаоблэнерго" | J1: код 900151 | N1: ПС "МАЕГА"
B2: наименование предприятия | N2: наименование источника питания
N3: яч. 13 - Ф НИКИТИНО
B4: ул. Горького, 99 | I4: Таблица № 1 | O4: ВЛ 10 кВ №27
B5: адрес
A6: почасовых записей показаний электрических счетчиков
A7: в режимный день 20 Декабря 2023 г.
A8: 363
A9: часы суток | B9: Активная энергия | J9: Реактивная энергия
B10: яч. 13 - Ф НИКИТИНО-СВ - ВЛ№27 | J10: яч. 13 - Ф НИКИТИНО-СВ - ВЛ№27
B11: Расчет. Коэф. | E11: 1500 | F11: Расчет. Коэф. | I11: 0 | J11: Расчет. Коэф. | M11: =E11 -> 1500 | N11: Расчет. Коэф. | Q11: =I11 -> 0
B12: показания счетчика | C12: разность | E12: расход эл.энергии за час | F12: показания счетчика | G12: разность | I12: расход эл.энергии за час | J12: показания счетчика | K12: разность | M12: расход эл.энергии за час | N12: показания счетчика | O12: разность | Q12: расход эл.энергии за час
A13: 1 | B13: 2 | C13: 3 | E13: 4 | F13: 5 | G13: 6 | I13: 7 | J13: 8 | K13: 9 | M13: 10 | N13: 11 | O13: 12 | Q13: 13
A14: 0 | E14: 763.35 | M14: 59.25
A15: 1 | E15: 748.8 | M15: 57.45
A16: 2 | E16: 733.05 | M16: 55.05
A17: 3 | E17: 728.25 | M17: 54
A18: 4 | E18: 728.55 | M18: 54.3
A19: 5 | E19: 777 | M19: 57.6
A20: 6 | E20: 836.85 | M20: 56.55
A21: 7 | E21: 907.35 | M21: 73.95
A22: 8 | E22: 945.45 | M22: 94.35
A23: 9 | E23: 1456.35 | M23: 185.7
A24: 10 | E24: 1441.05 | M24: 187.95
A25: 11 | E25: 1405.2 | M25: 184.65
... A37: 23 | E37: 1246.5 | M37: 116.7
A38: Итого | E38: =SUM(E14:E37) -> 28875.9 | I38: =SUM(I14:I37) -> 0 | M38: =SUM(M14:M37) -> 2898.75 | Q38: =SUM(Q14:Q37) -> 0
A39: 1. При наличии на предприятии отклонений от нормальных режимов электропотребления (временное изменение схем питания, остановка на ремонт, резкое снижение
A40: эл.потребления и т.д.) последние необходимо перечислить.
A41: Главный инженер АО "Вологдаоблэнерго" А.В. Чурляев
A42: составляется самим предприятием с соблюдением всех пунктов настоящей таблицы.

Sheet 5
B1: АО "Вологдаоблэнерго" | J1: код 900151 | N1: ПС "ЗАПАДНАЯ"
B2: наименование предприятия | N2: наименование источника питания
N3: _________________________________
B4: ул. Горького, 99 | I4: Таблица № 1 | O4: РП 16
B5: адрес
A6: почасовых записей показаний электрических счетчиков
A7: в режимный день 20 Декабря 2023 г.
A8: 372 | B8: 368
A9: часы суток | B9: Активная энергия | J9: Реактивная энергия
B10: Яч. 21 - "РМЗ-1" | F10: Яч. 28 - "РМЗ-2" | J10: Яч. 21 - "РМЗ-1" | N10: Яч. 28 - "РМЗ-2"
B11: Расчет. Коэф. | E11: 7200 | F11: Расчет. Коэф. | I11: 7200 | J11: Расчет. Коэф. | M11: =E11 -> 7200 | N11: Расчет. Коэф. | Q11: =I11 -> 7200
B12: показания счетчика | C12: разность | E12: расход эл.энергии за час | F12: показания счетчика | G12: разность | I12: расход эл.энергии за час | J12: показания счетчика | K12: разность | M12: расход эл.энергии за час | N12: показания счетчика | O12: разность | Q12: расход эл.энергии за час
A13: 1 | B13: 2 | C13: 3 | E13: 4 | F13: 5 | G13: 6 | I13: 7 | J13: 8 | K13: 9 | M13: 10 | N13: 11 | O13: 12 | Q13: 13
A14: 0 | E14: 501.1375 | I14: 1130.8832
A15: 1 | E15: 472.16377 | I15: 1072.1909
A16: 2 | E16: 481.96371 | I16: 1032.094
A17: 3 | E17: 493.21164 | I17: 1033.9958
A18: 4 | E18: 550.71225 | I18: 1046.7402
A19: 5 | E19: 564.00055 | I19: 1148.6748
A20: 6 | E20: 639.23041 | I20: 1335.5215
A21: 7 | E21: 842.20932 | I21: 1586.6583
A22: 8 | E22: 1060.6312 | I22: 1730.2141
A23: 9 | E23: 1111.415 | I23: 1799.7836
A24: 10 | E24: 1152.5096 | I24: 1795.4397
A25: 11 | E25: 1114.737 | I25: 1842.2155
... A37: 23 | E37: 486.62985 | I37: 1236.1122
A38: Итого | E38: =SUM(E14:E37) -> 19239.501 | I38: =SUM(I14:I37) -> 36489.244 | M38: =SUM(M14:M37) -> 0 | Q38: =SUM(Q14:Q37) -> 0
A39: 1. При наличии на предприятии отклонений от нормальных режимов электропотребления (временное изменение схем питания, остановка на ремонт, резкое снижение
A40: эл.потребления и т.д.) последние необходимо перечислить.
A41: Главный инженер АО "Вологдаоблэнерго" А.В. Чурляев
A42: составляется самим предприятием с соблюдением всех пунктов настоящей таблицы.

Sheet 6
B1: АО "Вологдаоблэнерго" | J1: код 900151 | N1: ПС "ЗАПАДНАЯ"
B2: наименование предприятия | N2: наименование источника питания
N3: _________________________________
B4: ул. Горького, 99 | I4: Таблица № 1 | N4: РП 10 ф7 | Q4: РП 36 ф17
B5: адрес
A6: почасовых записей показаний электрических счетчиков
A7: в режимный день 20 Декабря 2023 г.
A8: 370 | B8: 365
A9: часы суток | B9: Активная энергия | J9: Реактивная энергия
B10: яч. 16 - ф."ОЧИСТНЫЕ-1" | F10: яч. 24 - "ГОРОД-1" | J10: яч. 16 - ф."ОЧИСТНЫЕ-1" | N10: яч. 24 - "ГОРОД-1"
B11: Расчет. Коэф. | E11: 4800 | F11: Расчет. Коэф. | I11: 7200 | J11: Расчет. Коэф. | M11: =E11 -> 4800 | N11: Расчет. Коэф. | Q11: =I11 -> 7200
B12: показания счетчика | C12: разность | E12: расход эл.энергии за час | F12: показания счетчика | G12: разность | I12: расход эл.энергии за час | J12: показания счетчика | K12: разность | M12: расход эл.энергии за час | N12: показания счетчика | O12: разность | Q12: расход эл.энергии за час
A13: 1 | B13: 2 | C13: 3 | E13: 4 | F13: 5 | G13: 6 | I13: 7 | J13: 8 | K13: 9 | M13: 10 | N13: 11 | O13: 12 | Q13: 13
A14: 0 | E14: 336.86296 | I14: 1338.1583
A15: 1 | E15: 266.80151 | I15: 1385.3476
A16: 2 | E16: 298.61237 | I16: 1404.6275
A17: 3 | E17: 305.72069 | I17: 1307.5884
A18: 4 | E18: 230.14442 | I18: 1339.3472
A19: 5 | E19: 283.64399 | I19: 1331.4075
A20: 6 | E20: 650.50952 | I20: 1198.4026
A21: 7 | E21: 756.82275 | I21: 1220.4011
A22: 8 | E22: 622.336 | I22: 1428.6586
A23: 9 | E23: 607.04889 | I23: 1592.4705
A24: 10 | E24: 615.24496 | I24: 1627.0269
A25: 11 | E25: 617.42386 | I25: 1884.4983
... A37: 23 | E37: 367.02142 | I37: 1548.4652
A38: Итого | E38: =SUM(E14:E37) -> 12586.454 | I38: =SUM(I14:I37) -> 36229.264 | M38: =SUM(M14:M37) -> 0 | Q38: =SUM(Q14:Q37) -> 0
A39: 1. При наличии на предприятии отклонений от нормальных режимов электропотребления (временное изменение схем питания, остановка на ремонт, резкое снижение
A40: эл.потребления и т.д.) последние необходимо перечислить.
A41: Главный инженер АО "Вологдаоблэнерго" А.В. Чурляев
A42: составляется самим предприятием с соблюдением всех пунктов настоящей таблицы.

Sheet 7
B1: АО "Вологдаоблэнерго" | J1: код 900151 | N1: ПС "ЗАПАДНАЯ"
B2: наименование предприятия | N2: наименование источника питания
N3: _________________________________
B4: ул. Горького, 99 | I4: Таблица № 1 | O4: РП 7
B5: адрес
A6: почасовых записей показаний электрических счетчиков
A7: в режимный день 20 Декабря 2023 г.
A8: 371 | B8: 367
A9: часы суток | B9: Активная энергия | J9: Реактивная энергия
B10: яч. 3 "П/Я-1" | F10: яч. 10 "П/Я-2" | J10: яч. 3 "П/Я-1" | N10: яч. 10 "П/Я-2"
B11: Расчет. Коэф. | E11: 12000 | F11: Расчет. Коэф. | I11: 7200 | J11: Расчет. Коэф. | M11: =E11 -> 12000 | N11: Расчет. Коэф. | Q11: =I11 -> 7200
B12: показания счетчика | C12: разность | E12: расход эл.энергии за час | F12: показания счетчика | G12: разность | I12: расход эл.энергии за час | J12: показания счетчика | K12: разность | M12: расход эл.энергии за час | N12: показания счетчика | O12: разность | Q12: расход эл.энергии за час
A13: 1 | B13: 2 | C13: 3 | E13: 4 | F13: 5 | G13: 6 | I13: 7 | J13: 8 | K13: 9 | M13: 10 | N13: 11 | O13: 12 | Q13: 13
A14: 0 | E14: 1417.0872 | I14: 2114.0294
A15: 1 | E15: 1333.7894 | I15: 2045.2705
A16: 2 | E16: 1302.3769 | I16: 1983.4052
A17: 3 | E17: 1306.6447 | I17: 1987.3681
A18: 4 | E18: 1389.8039 | I18: 1971.7623
A19: 5 | E19: 1494.3643 | I19: 2088.7726
A20: 6 | E20: 1543.0557 | I20: 2357.625
A21: 7 | E21: 1638.6164 | I21: 2565.4883
A22: 8 | E22: 1849.788 | I22: 2782.2509
A23: 9 | E23: 1681.4396 | I23: 2856.2545
A24: 10 | E24: 1593.4238 | I24: 2907.5889
A25: 11 | E25: 1512.246 | I25: 2837.6212
... A37: 23 | E37: 1324.1453 | I37: 2202.9425
A38: Итого | E38: =SUM(E14:E37) -> 35954.457 | I38: =SUM(I14:I37) -> 60802.838 | M38: =SUM(M14:M37) -> 0 | Q38: =SUM(Q14:Q37) -> 0
A39: 1. При наличии на предприятии отклонений от нормальных режимов электропотребления (временное изменение схем питания, остановка на ремонт, резкое снижение
A40: эл.потребления и т.д.) последние необходимо перечислить.
A41: Главный инженер АО "Вологдаоблэнерго" А.В. Чурляев
A42: составляется самим предприятием с соблюдением всех пунктов настоящей таблицы.

Sheet 8
B1: АО "Вологдаоблэнерго" | J1: код 900151 | N1: ПС "ЗАПАДНАЯ"
B2: наименование предприятия | I2: _ | N2: наименование источника питания
N3: _________________________________
B4: ул. Горького, 99 | I4: Таблица № 1 | O4: РП 35; РП 37
B5: адрес
A6: почасовых записей показаний электрических счетчиков
A7: в режимный день 20 Декабря 2023 г.
A8: 129 | B8: 130
A9: часы суток | B9: Активная энергия | J9: Реактивная энергия
B10: яч. 15 "РП -35" | F10: яч. 35 "РП-37" | J10: яч. 15 "РП -35" | N10: яч. 35 "РП-37"
B11: Расчет. Коэф. | E11: 3600 | F11: Расчет. Коэф. | I11: 4800 | J11: Расчет. Коэф. | M11: =E11 -> 3600 | N11: Расчет. Коэф. | Q11: =I11 -> 4800
B12: показания счетчика | C12: разность | E12: расход эл.энергии за час | F12: показания счетчика | G12: разность | I12: расход эл.энергии за час | J12: показания счетчика | K12: разность | M12: расход эл.энергии за час | N12: показания счетчика | O12: разность | Q12: расход эл.энергии за час
A13: 1 | B13: 2 | C13: 3 | E13: 4 | F13: 5 | G13: 6 | I13: 7 | J13: 8 | K13: 9 | M13: 10 | N13: 11 | O13: 12 | Q13: 13
A14: 0 | E14: 286.6716 | I14: 556.23749
A15: 1 | E15: 285.08504 | I15: 522.02258
A16: 2 | E16: 284.46843 | I16: 583.41681
A17: 3 | E17: 283.92456 | I17: 551.0275
A18: 4 | E18: 284.36105 | I18: 513.71913
A19: 5 | E19: 285.00539 | I19: 570.07312
A20: 6 | E20: 285.86795 | I20: 637.4187
A21: 7 | E21: 286.00305 | I21: 666.97437
A22: 8 | E22: 284.53772 | I22: 701.6431
A23: 9 | E23: 284.48576 | I23: 742.05527
A24: 10 | E24: 284.87025 | I24: 778.3244
A25: 11 | E25: 284.43379 | I25: 819.02417
... A37: 23 | E37: 285.39336 | I37: 645.2233
A38: Итого | E38: =SUM(E14:E37) -> 6820.2866 | I38: =SUM(I14:I37) -> 16466.34 | M38: =SUM(M14:M37) -> 0 | Q38: =SUM(Q14:Q37) -> 0
A39: 1. При наличии на предприятии отклонений от нормальных режимов электропотребления (временное изменение схем питания, остановка на ремонт, резкое снижение
A40: эл.потребления и т.д.) последние необходимо перечислить.
A41: Главный инженер АО "Вологдаоблэнерго" А.В. Чурляев
A42: составляется самим предприятием с соблюдением всех пунктов настоящей таблицы.

Sheet 9
B1: АО "Вологдаоблэнерго" | J1: код 900151 | N1: ПС "ЗАПАДНАЯ"
B2: наименование предприятия | N2: наименование источника питания
N3: _________________________________
B4: ул. Горького, 99 | I4: Таблица № 1 | O4: РП 28
B5: адрес
A6: почасовых записей показаний электрических счетчиков
A7: в режимный день 20 Декабря 2023 г.
A8: 366 | B8: 369
A9: часы суток | B9: Активная энергия | J9: Реактивная энергия
B10: яч. 17 "ГОРОД-2" | F10: яч. 22 - "ОЧИСТНЫЕ-2" | J10: ЯЧ. №17 - "ГОРОД-2" | N10: ЯЧ. №22 - "ОЧИСТНЫЕ-2"
B11: Расчет. Коэф. | E11: 7200 | F11: Расчет. Коэф. | I11: 7200 | J11: Расчет. Коэф. | M11: =E11 -> 7200 | N11: Расчет. Коэф. | Q11: =I11 -> 7200
B12: показания счетчика | C12: разность | E12: расход эл.энергии за час | F12: показания счетчика | G12: разность | I12: расход эл.энергии за час | J12: показания счетчика | K12: разность | M12: расход эл.энергии за час | N12: показания счетчика | O12: разность | Q12: расход эл.энергии за час
A13: 1 | B13: 2 | C13: 3 | E13: 4 | F13: 5 | G13: 6 | I13: 7 | J13: 8 | K13: 9 | M13: 10 | N13: 11 | O13: 12 | Q13: 13
A14: 0 | E14: 752.99146 | I14: 681.59634
A15: 1 | E15: 721.6344 | I15: 681.59979
A16: 2 | E16: 716.59763 | I16: 771.25418
A17: 3 | E17: 708.26642 | I17: 707.62213
A18: 4 | E18: 721.99121 | I18: 667.9166
A19: 5 | E19: 735.19986 | I19: 678.85623
A20: 6 | E20: 834.5329 | I20: 688.55569
A21: 7 | E21: 931.51035 | I21: 720.0929
A22: 8 | E22: 1176.8171 | I22: 824.78491
A23: 9 | E23: 1240.2795 | I23: 879.03616
A24: 10 | E24: 1217.7802 | I24: 950.20612
A25: 11 | E25: 1220.4717 | I25: 860.34738
... A37: 23 | E37: 796.62183 | I37: 730.53024
A38: Итого | E38: =SUM(E14:E37) -> 23908.738 | I38: =SUM(I14:I37) -> 18528.949 | M38: =SUM(M14:M37) -> 0 | Q38: =SUM(Q14:Q37) -> 0
A39: 1. При наличии на предприятии отклонений от нормальных режимов электропотребления (временное изменение схем питания, остановка на ремонт, резкое снижение
A40: эл.потребления и т.д.) последние необходимо перечислить.
A41: Главный инженер АО "Вологдаоблэнерго" А.В. Чурляев
A42: составляется самим предприятием с соблюдением всех пунктов настоящей таблицы.

Sheet 10
B1: АО "Вологдаоблэнерго" | J1: код 900151 | N1: ПС "СЕВЕРНАЯ 35/6 кВ
B2: наименование предприятия | N2: наименование источника питания
N3: _________________________________
B4: ул, Горького, 99 | I4: Таблица № 1 | N4: Т1, Т2 | O4: РП 5
B5: адрес
A6: почасовых записей показаний электрических счетчиков
A7: в режимный день 20 Декабря 2023 г,
A8: 325 | B8: 328
A9: часы суток | B9: Активная энергия | J9: Реактивная энергия
B10: Т 1 -РП 5 Ф 3 ввод № 1 | F10: Т 2 - РП 5 Ф 17 ввод № 2 | J10: Т 1 -РП 5 Ф 3 ввод № 1 | N10: Т 2 - РП 5 Ф 17 ввод № 2
B11: Расчет, Коэф, | E11: 18000 | F11: Расчет, Коэф, | I11: 18000 | J11: Расчет, Коэф, | M11: =E11 -> 18000 | N11: Расчет, Коэф, | Q11: =I11 -> 18000
B12: показания счетчика | C12: разность | E12: расход эл,энергии за час | F12: показания счетчика | G12: разность | I12: расход эл,энергии за час | J12: показания счетчика | K12: разность | M12: расход эл,энергии за час | N12: показания счетчика | O12: разность | Q12: расход эл,энергии за час
A13: 1 | B13: 2 | C13: 3 | E13: 4 | F13: 5 | G13: 6 | I13: 7 | J13: 8 | K13: 9 | M13: 10 | N13: 11 | O13: 12 | Q13: 13
A14: 0 | E14: 1864.8 | I14: 2466 | M14: 369 | Q14: 360
A15: 1 | E15: 1742.4 | I15: 2300.4 | M15: 365.4 | Q15: 372.6
A16: 2 | E16: 1666.8 | I16: 2158.2 | M16: 349.2 | Q16: 379.8
A17: 3 | E17: 1638 | I17: 2061 | M17: 351 | Q17: 367.2
A18: 4 | E18: 1654.2 | I18: 2041.2 | M18: 345.6 | Q18: 352.8
A19: 5 | E19: 1657.8 | I19: 2120.4 | M19: 343.8 | Q19: 327.6
A20: 6 | E20: 1744.2 | I20: 2226.6 | M20: 360 | Q20: 320.4
A21: 7 | E21: 1920.6 | I21: 2592 | M21: 383.4 | Q21: 320.4
A22: 8 | E22: 2131.2 | I22: 2907 | M22: 378 | Q22: 329.4
A23: 9 | E23: 2394 | I23: 3317.4 | M23: 480.6 | Q23: 466.2
A24: 10 | E24: 2356.2 | I24: 3515.4 | M24: 478.8 | Q24: 532.8
A25: 11 | E25: 2318.4 | I25: 3524.4 | M25: 478.8 | Q25: 565.2
... A37: 23 | E37: 1949.4 | I37: 2826 | M37: 405 | Q37: 340.2
A38: Итого | E38: =SUM(E14:E37) -> 50346 | I38: =SUM(I14:I37) -> 72493.2 | M38: =SUM(M14:M37) -> 10141.2 | Q38: =SUM(Q14:Q37) -> 10206
A39: 1, При наличии на предприятии отклонений от нормальных режимов электропотребления (временное изменение схем питания, остановка на ремонт, резкое снижение
A40: эл,потребления и т,д,) последние необходимо перечислить,
A41: Главный инженер АО "Вологдаоблэнерго" А,В, Чурляев
A42: составляется самим предприятием с соблюдением всех пунктов настоящей таблицы,

Sheet 11
B1: АО "Вологдаоблэнерго" | G1: код 900151 | I1: ПС "ВОЛОГДА-ЮЖНАЯ" 110/6 транзит через РТП "ТЕПЛИЧНОГО ХОЗ - ВА"
B2: наименование предприятия | N2: наименование источника питания
N3: _________________________________
B4: ул. Горького, 99 | I4: Таблица № 1 | O4: ТП 438
B5: адрес
A6: почасовых записей показаний электрических счетчиков
A7: в режимный день 20 Декабря 2023 г.
A8: 635 | B8: 634
A9: часы суток | B9: Активная энергия | J9: Реактивная энергия
B10: ЯЧ. 3 - ф. "Микрорайон-1" ввод № 1 | F10: яч. 13 - ф. "Микрорайон-2" ввод № 2 | J10: ЯЧ. 3 - ф. "Микрорайон-1" ввод № 1 | N10: яч. 13 - ф. "Микрорайон-2" ввод № 2
B11: Расчет. Коэф. | E11: 3600 | F11: Расчет. Коэф. | I11: 3600 | J11: Расчет. Коэф. | M11: =E11 -> 3600 | N11: Расчет. Коэф. | Q11: =I11 -> 3600
B12: показания счетчика | C12: разность | E12: расход эл.энергии за час | F12: показания счетчика | G12: разность | I12: расход эл.энергии за час | J12: показания счетчика | K12: разность | M12: расход эл.энергии за час | N12: показания счетчика | O12: разность | Q12: расход эл.энергии за час
A13: 1 | B13: 2 | C13: 3 | E13: 4 | F13: 5 | G13: 6 | I13: 7 | J13: 8 | K13: 9 | M13: 10 | N13: 11 | O13: 12 | Q13: 13
A14: 0 | E14: 111.24 | I14: 158.76 | M14: 46.08 | Q14: 48.24
A15: 1 | E15: 99.36 | I15: 146.16 | M15: 42.48 | Q15: 48.24
A16: 2 | E16: 95.76 | I16: 137.16 | M16: 43.56 | Q16: 45.72
A17: 3 | E17: 95.4 | I17: 133.92 | M17: 41.4 | Q17: 45.72
A18: 4 | E18: 96.48 | I18: 133.56 | M18: 40.68 | Q18: 43.2
A19: 5 | E19: 139.68 | I19: 178.56 | M19: 43.92 | Q19: 46.8
A20: 6 | E20: 153 | I20: 201.96 | M20: 42.48 | Q20: 49.32
A21: 7 | E21: 174.6 | I21: 218.16 | M21: 45 | Q21: 48.6
A22: 8 | E22: 200.16 | I22: 236.16 | M22: 47.52 | Q22: 50.4
A23: 9 | E23: 222.84 | I23: 241.92 | M23: 47.52 | Q23: 50.04
A24: 10 | E24: 223.92 | I24: 236.16 | M24: 49.32 | Q24: 51.84
A25: 11 | E25: 225.36 | I25: 240.12 | M25: 54.72 | Q25: 50.76
... A37: 23 | E37: 128.52 | I37: 180.72 | M37: 45 | Q37: 51.12
A38: Итого | E38: =SUM(E14:E37) -> 4178.16 | I38: =SUM(I14:I37) -> 5257.8 | M38: =SUM(M14:M37) -> 1144.08 | Q38: =SUM(Q14:Q37) -> 1224.72
A39: 1. При наличии на предприятии отклонений от нормальных режимов электропотребления (временное изменение схем питания, остановка на ремонт, резкое снижение
A40: эл.потребления и т.д.) последние необходимо перечислить.
A41: Главный инженер АО "Вологдаоблэнерго" А.В. Чурляев
A42: составляется самим предприятием с соблюдением всех пунктов настоящей таблицы.

Sheet 12
B1: АО "Вологдаоблэнерго" | J1: код 900151 | N1: ГПП 110/10 кВ "ВОМЗ"
B2: наименование предприятия | N2: наименование источника питания
N3: _________________________________
B4: ул. Горького, 99 | I4: Таблица № 1 | O4: РП 29
B5: адрес
A6: почасовых записей показаний электрических счетчиков
A7: в режимный день 20 Декабря 2023 г.
A8: 613 | B8: 610
A9: часы суток | B9: Активная энергия | J9: Реактивная энергия
B10: ЯЧ.47 - РП 29 ввод № 1 | F10: ЯЧ.31 - РП 29 ввод № 2 | J10: ЯЧ.47 - РП 29 ввод № 1 | N10: ЯЧ.31 - РП 29 ввод № 2
B11: Расчет. Коэф. | E11: 12000 | F11: Расчет. Коэф. | I11: 20000 | J11: Расчет. Коэф. | M11: =E11 -> 12000 | N11: Расчет. Коэф. | Q11: =I11 -> 20000
B12: показания счетчика | C12: разность | E12: расход эл.энергии за час | F12: показания счетчика | G12: разность | I12: расход эл.энергии за час | J12: показания счетчика | K12: разность | M12: расход эл.энергии за час | N12: показания счетчика | O12: разность | Q12: расход эл.энергии за час
A13: 1 | B13: 2 | C13: 3 | E13: 4 | F13: 5 | G13: 6 | I13: 7 | J13: 8 | K13: 9 | M13: 10 | N13: 11 | O13: 12 | Q13: 13
A14: 0 | E14: 977 | I14: 804 | M14: 251 | Q14: 108
A15: 1 | E15: 902 | I15: 760 | M15: 249 | Q15: 108
A16: 2 | E16: 862 | I16: 724 | M16: 238 | Q16: 96
A17: 3 | E17: 846 | I17: 706 | M17: 231 | Q17: 94
A18: 4 | E18: 848 | I18: 738 | M18: 222 | Q18: 88
A19: 5 | E19: 1001 | I19: 828 | M19: 222 | Q19: 76
A20: 6 | E20: 1281 | I20: 1030 | M20: 231 | Q20: 84
A21: 7 | E21: 1544 | I21: 1290 | M21: 270 | Q21: 124
A22: 8 | E22: 1831 | I22: 1584 | M22: 321 | Q22: 180
A23: 9 | E23: 2035 | I23: 1686 | M23: 319 | Q23: 184
A24: 10 | E24: 2056 | I24: 1740 | M24: 319 | Q24: 190
A25: 11 | E25: 1993 | I25: 1674 | M25: 315 | Q25: 182
... A37: 23 | E37: 1114 | I37: 900 | M37: 246 | Q37: 108
A38: Итого | E38: =SUM(E14:E37) -> 37581 | I38: =SUM(I14:I37) -> 30880 | M38: =SUM(M14:M37) -> 6651 | Q38: =SUM(Q14:Q37) -> 3180
A39: 1. При наличии на предприятии отклонений от нормальных режимов электропотребления (временное изменение схем питания, остановка на ремонт, резкое снижение
A40: эл.потребления и т.д.) последние необходимо перечислить.
A41: Главный инженер АО "Вологдаоблэнерго" А.В. Чурляев
A42: составляется самим предприятием с соблюдением всех пунктов настоящей таблицы.

Sheet 13
B1: АО "Вологдаоблэнерго" | J1: код 900151 | N1: ГПП 110/10 кВ "ВОМЗ"
B2: наименование предприятия | N2: наименование источника питания
N3: _________________________________
B4: ул. Горького, 99 | I4: Таблица № 1 | O4: РП 14
B5: адрес
A6: почасовых записей показаний электрических счетчиков
A7: в режимный день 20 Декабря 2023 г.
A8: 614 | B8: 615
A9: часы суток | B9: Активная энергия | J9: Реактивная энергия
B10: ЯЧ.5 - РП 14 ввод № 1 | F10: ЯЧ.22 - РП 14 ввод № 2 | J10: ЯЧ.5 - РП 14 ввод № 1 | N10: ЯЧ.22 - РП 14 ввод № 2
B11: Расчет. Коэф. | E11: 12000 | F11: Расчет. Коэф. | I11: 12000 | J11: Расчет. Коэф. | M11: =E11 -> 12000 | N11: Расчет. Коэф. | Q11: =I11 -> 12000
B12: показания счетчика | C12: разность | E12: расход эл.энергии за час | F12: показания счетчика | G12: разность | I12: расход эл.энергии за час | J12: показания счетчика | K12: разность | M12: расход эл.энергии за час | N12: показания счетчика | O12: разность | Q12: расход эл.энергии за час
A13: 1 | B13: 2 | C13: 3 | E13: 4 | F13: 5 | G13: 6 | I13: 7 | J13: 8 | K13: 9 | M13: 10 | N13: 11 | O13: 12 | Q13: 13
A14: 0 | E14: 1511 | I14: 2682 | M14: 6 | Q14: 159
A15: 1 | E15: 1403 | I15: 2478 | M15: 11 | Q15: 164
A16: 2 | E16: 1328 | I16: 2380 | M16: 2 | Q16: 91
A17: 3 | E17: 1322 | I17: 2354 | M17: 3 | Q17: 79
A18: 4 | E18: 1339 | I18: 2365 | M18: 0 | Q18: 24
A19: 5 | E19: 1435 | I19: 2615 | M19: 1 | Q19: 70
A20: 6 | E20: 1716 | I20: 3277 | M20: 5 | Q20: 145
A21: 7 | E21: 2014 | I21: 3951 | M21: 21 | Q21: 230
A22: 8 | E22: 2210 | I22: 4480 | M22: 51 | Q22: 441
A23: 9 | E23: 2442 | I23: 4812 | M23: 58 | Q23: 525
A24: 10 | E24: 2564 | I24: 4799 | M24: 117 | Q24: 490
A25: 11 | E25: 2548 | I25: 4691 | M25: 109 | Q25: 444
... A37: 23 | E37: 1685 | I37: 2968 | M37: 2 | Q37: 86
A38: Итого | E38: =SUM(E14:E37) -> 51261 | I38: =SUM(I14:I37) -> 92719 | M38: =SUM(M14:M37) -> 949 | Q38: =SUM(Q14:Q37) -> 6361
A39: 1. При наличии на предприятии отклонений от нормальных режимов электропотребления (временное изменение схем питания, остановка на ремонт, резкое снижение
A40: эл.потребления и т.д.) последние необходимо перечислить.
A41: Главный инженер АО "Вологдаоблэнерго" А.В. Чурляев
A42: составляется самим предприятием с соблюдением всех пунктов настоящей таблицы.

Sheet 14
B1: АО "Вологдаоблэнерго" | J1: код 900151 | N1: ГПП 110/10 кВ "ВОМЗ"
B2: наименование предприятия | N2: наименование источника питания
N3: _________________________________
B4: ул. Горького, 99 | I4: Таблица № 1 | O4: РП 2
B5: адрес
A6: почасовых записей показаний электрических счетчиков
A7: в режимный день 20 Декабря 2023 г.
A8: 612 | B8: 611
A9: часы суток | B9: Активная энергия | J9: Реактивная энергия
B10: ЯЧ.44 - РП 2 ввод № 1 | F10: ЯЧ.26в - РП 2 ввод № 2 | J10: ЯЧ.44 - РП 2 ввод № 1 | N10: ЯЧ.26в - РП 2 ввод № 2
B11: Расчет. Коэф. | E11: 12000 | F11: Расчет. Коэф. | I11: 12000 | J11: Расчет. Коэф. | M11: =E11 -> 12000 | N11: Расчет. Коэф. | Q11: =I11 -> 12000
B12: показания счетчика | C12: разность | E12: расход эл.энергии за час | F12: показания счетчика | G12: разность | I12: расход эл.энергии за час | J12: показания счетчика | K12: разность | M12: расход эл.энергии за час | N12: показания счетчика | O12: разность | Q12: расход эл.энергии за час
A13: 1 | B13: 2 | C13: 3 | E13: 4 | F13: 5 | G13: 6 | I13: 7 | J13: 8 | K13: 9 | M13: 10 | N13: 11 | O13: 12 | Q13: 13
A14: 0 | E14: 581 | I14: 439 | M14: 36 | Q14: 2
A15: 1 | E15: 540 | I15: 408 | M15: 45 | Q15: 1
A16: 2 | E16: 535 | I16: 377 | M16: 26 | Q16: 1
A17: 3 | E17: 511 | I17: 372 | M17: 20 | Q17: 0
A18: 4 | E18: 509 | I18: 398 | M18: 21 | Q18: 0
A19: 5 | E19: 553 | I19: 423 | M19: 20 | Q19: 1
A20: 6 | E20: 713 | I20: 503 | M20: 25 | Q20: 1
A21: 7 | E21: 824 | I21: 577 | M21: 35 | Q21: 5
A22: 8 | E22: 915 | I22: 696 | M22: 67 | Q22: 11
A23: 9 | E23: 989 | I23: 755 | M23: 88 | Q23: 5
A24: 10 | E24: 1012 | I24: 772 | M24: 88 | Q24: 3
A25: 11 | E25: 974 | I25: 786 | M25: 84 | Q25: 5
... A37: 23 | E37: 680 | I37: 473 | M37: 36 | Q37: 1
A38: Итого | E38: =SUM(E14:E37) -> 20158 | I38: =SUM(I14:I37) -> 15053 | M38: =SUM(M14:M37) -> 1129 | Q38: =SUM(Q14:Q37) -> 77
A39: 1. При наличии на предприятии отклонений от нормальных режимов электропотребления (временное изменение схем питания, остановка на ремонт, резкое снижение
A40: эл.потребления и т.д.) последние необходимо перечислить.
A41: Главный инженер АО "Вологдаоблэнерго" А.В. Чурляев
A42: составляется самим предприятием с соблюдением всех пунктов настоящей таблицы.

Sheet 15
B1: АО "Вологдаоблэнерго" | J1: код 900151 | N1: ПС ВОЛОГДА-ЮЖНАЯ РУ - 6 кВ
B2: наименование предприятия | N2: наименование источника питания
N3: _________________________________
B4: ул. Горького, 99 | I4: Таблица № 1 | N4: ТП 450 | Q4: ТП 630
B5: адрес
A6: почасовых записей показаний электрических счетчиков
A7: в режимный день 20 Декабря 2023 г.
A8: 591 | B8: 595
A9: часы суток | B9: Активная энергия | J9: Реактивная энергия
B10: ЯЧ.№ 206 - "ГОРОД-15" | F10: ЯЧ.№103 - "ТУБДИСПАНСЕР" | J10: =B10 -> ЯЧ.№ 206 - "ГОРОД-15" | N10: =F10 -> ЯЧ.№103 - "ТУБДИСПАНСЕР"
B11: Расчет. Коэф. | E11: 4800 | F11: Расчет. Коэф. | I11: 2400 | J11: Расчет. Коэф. | M11: =E11 -> 4800 | N11: Расчет. Коэф. | Q11: =I11 -> 2400
B12: показания счетчика | C12: разность | E12: расход эл.энергии за час | F12: показания счетчика | G12: разность | I12: расход эл.энергии за час | J12: показания счетчика | K12: разность | M12: расход эл.энергии за час | N12: показания счетчика | O12: разность | Q12: расход эл.энергии за час
A13: 1 | B13: 2 | C13: 3 | E13: 4 | F13: 5 | G13: 6 | I13: 7 | J13: 8 | K13: 9 | M13: 10 | N13: 11 | O13: 12 | Q13: 13
A14: 0 | E14: 186.84 | I14: 263.16 | M14: 42.3 | Q14: 35.82
A15: 1 | E15: 172.35 | I15: 241.74 | M15: 38.16 | Q15: 37.98
A16: 2 | E16: 168.39 | I16: 235.35 | M16: 35.46 | Q16: 35.01
A17: 3 | E17: 161.64 | I17: 233.64 | M17: 32.4 | Q17: 34.2
A18: 4 | E18: 160.38 | I18: 227.7 | M18: 26.46 | Q18: 31.05
A19: 5 | E19: 184.05 | I19: 246.42 | M19: 28.44 | Q19: 32.67
A20: 6 | E20: 238.23 | I20: 294.39 | M20: 37.98 | Q20: 36.36
A21: 7 | E21: 303.3 | I21: 339.12 | M21: 109.08 | Q21: 41.49
A22: 8 | E22: 410.67 | I22: 387.81 | M22: 179.37 | Q22: 56.88
A23: 9 | E23: 450.27 | I23: 399.96 | M23: 212.67 | Q23: 66.87
A24: 10 | E24: 445.95 | I24: 370.62 | M24: 206.73 | Q24: 51.84
A25: 11 | E25: 445.05 | I25: 389.25 | M25: 201.24 | Q25: 56.97
... A37: 23 | E37: 210.69 | I37: 301.95 | M37: 52.38 | Q37: 36.09
A38: Итого | E38: =SUM(E14:E37) -> 7352.1 | I38: =SUM(I14:I37) -> 8215.38 | M38: =SUM(M14:M37) -> 2461.5 | Q38: =SUM(Q14:Q37) -> 1043.01
A39: 1. При наличии на предприятии отклонений от нормальных режимов электропотребления (временное изменение схем питания, остановка на ремонт, резкое снижение
A40: эл.потребления и т.д.) последние необходимо перечислить.
A41: Главный инженер АО "Вологдаоблэнерго" А.В. Чурляев
A42: составляется самим предприятием с соблюдением всех пунктов настоящей таблицы.

Sheet 16
B1: АО "Вологдаоблэнерго" | J1: код 900151 | N1: ПС ВОЛОГДА-ЮЖНАЯ РУ-10 кВ
B2: наименование предприятия | I2: _ | N2: наименование источника питания
N3: _________________________________
B4: ул. Горького, 99 | I4: Таблица № 1 | O4: РП 32
B5: адрес
A6: почасовых записей показаний электрических счетчиков
A7: в режимный день 20 Декабря 2023 г.
A8: 590 | B8: 593
A9: часы суток | B9: Активная энергия | J9: Реактивная энергия
B10: ЯЧ.№206 - "ГОРОД-10" | F10: ЯЧ.№404- "ГОРОД-14" | J10: =B10 -> ЯЧ.№206 - "ГОРОД-10" | N10: =F10 -> ЯЧ.№404- "ГОРОД-14"
B11: Расчет. Коэф. | E11: 6000 | F11: Расчет. Коэф. | I11: 3000 | J11: Расчет. Коэф. | M11: =E11 -> 6000 | N11: Расчет. Коэф. | Q11: =I11 -> 3000
B12: показания счетчика | C12: разность | E12: расход эл.энергии за час | F12: показания счетчика | G12: разность | I12: расход эл.энергии за час | J12: показания счетчика | K12: разность | M12: расход эл.энергии за час | N12: показания счетчика | O12: разность | Q12: расход эл.энергии за час
A13: 1 | B13: 2 | C13: 3 | E13: 4 | F13: 5 | G13: 6 | I13: 7 | J13: 8 | K13: 9 | M13: 10 | N13: 11 | O13: 12 | Q13: 13
A14: 0 | E14: 824.7 | I14: 762.3 | M14: 106.5 | Q14: 53.4
A15: 1 | E15: 761.4 | I15: 755.4 | M15: 87.6 | Q15: 51.9
A16: 2 | E16: 761.4 | I16: 706.2 | M16: 84.9 | Q16: 59.1
A17: 3 | E17: 804.9 | I17: 712.8 | M17: 89.7 | Q17: 62.4
A18: 4 | E18: 834.9 | I18: 762.9 | M18: 76.8 | Q18: 67.8
A19: 5 | E19: 814.5 | I19: 781.8 | M19: 71.1 | Q19: 66.6
A20: 6 | E20: 933.3 | I20: 906.9 | M20: 80.1 | Q20: 59.4
A21: 7 | E21: 1164.9 | I21: 1172.4 | M21: 103.2 | Q21: 60.3
A22: 8 | E22: 1417.2 | I22: 1497 | M22: 211.2 | Q22: 13.8
A23: 9 | E23: 1479.9 | I23: 1459.5 | M23: 222.6 | Q23: 11.4
A24: 10 | E24: 1475.1 | I24: 1377.9 | M24: 226.5 | Q24: 13.8
A25: 11 | E25: 1434.3 | I25: 1348.5 | M25: 200.1 | Q25: 8.4
... A37: 23 | E37: 956.7 | I37: 794.7 | M37: 140.4 | Q37: 60.6
A38: Итого | E38: =SUM(E14:E37) -> 27243 | I38: =SUM(I14:I37) -> 25222.5 | M38: =SUM(M14:M37) -> 3625.5 | Q38: =SUM(Q14:Q37) -> 1168.5
A39: 1. При наличии на предприятии отклонений от нормальных режимов электропотребления (временное изменение схем питания, остановка на ремонт, резкое снижение
A40: эл.потребления и т.д.) последние необходимо перечислить.
A41: Главный инженер АО "Вологдаоблэнерго" А.В. Чурляев
A42: составляется самим предприятием с соблюдением всех пунктов настоящей таблицы.

Sheet 17
B1: АО "Вологдаоблэнерго" | J1: код 900151 | N1: ПС ВОЛОГДА-ЮЖНАЯ РУ-10 кВ
B2: наименование предприятия | N2: наименование источника питания
N3: РП-44
B4: ул. Горького, 99 | I4: Таблица № 1
B5: адрес
A6: почасовых записей показаний электрических счетчиков
A7: в режимный день 20 Декабря 2023 г.
A9: часы суток | B9: Активная энергия | J9: Реактивная энергия
B10: яч. 307 ф "Охмыльцево-1" | F10: яч. 409 ф "Охмыльцево-2" | J10: яч. 307 ф "Охмыльцево-1" | N10: яч. 409 ф "Охмыльцево-2"
B11: Расчет. Коэф. | F11: Расчет. Коэф. | J11: Расчет. Коэф. | N11: Расчет. Коэф.
B12: показания счетчика | C12: разность | E12: расход эл.энергии за час | F12: показания счетчика | G12: разность | I12: расход эл.энергии за час | J12: показания счетчика | K12: разность | M12: расход эл.энергии за час | N12: показания счетчика | O12: разность | Q12: расход эл.энергии за час
A13: 1 | B13: 2 | C13: 3 | E13: 4 | F13: 5 | G13: 6 | I13: 7 | J13: 8 | K13: 9 | M13: 10 | N13: 11 | O13: 12 | Q13: 13
A14: 0 | E14: 961.2 | I14: 325.2 | M14: 48 | Q14: 16.5
A15: 1 | E15: 865.5 | I15: 291.9 | M15: 48 | Q15: 13.8
A16: 2 | E16: 814.5 | I16: 270.6 | M16: 54 | Q16: 20.7
A17: 3 | E17: 811.8 | I17: 273.3 | M17: 56.4 | Q17: 24.6
A18: 4 | E18: 821.7 | I18: 274.5 | M18: 78 | Q18: 31.5
A19: 5 | E19: 999.3 | I19: 330 | M19: 84.6 | Q19: 35.1
A20: 6 | E20: 1291.2 | I20: 450.9 | M20: 80.4 | Q20: 30.3
A21: 7 | E21: 1437.9 | I21: 542.1 | M21: 87.9 | Q21: 22.8
A22: 8 | E22: 1450.2 | I22: 535.2 | M22: 102.9 | Q22: 28.8
A23: 9 | E23: 1477.2 | I23: 544.5 | M23: 94.5 | Q23: 31.2
A24: 10 | E24: 1551 | I24: 562.5 | M24: 84.6 | Q24: 31.8
A25: 11 | E25: 1625.4 | I25: 579.6 | M25: 79.5 | Q25: 27.6
... A37: 23 | E37: 1182.3 | I37: 432.3 | M37: 69.3 | Q37: 17.4
A38: Итого | E38: =SUM(E14:E37) -> 34493.7 | I38: =SUM(I14:I37) -> 12414.3 | M38: =SUM(M14:M37) -> 1886.7 | Q38: =SUM(Q14:Q37) -> 541.5
A39: 1. При наличии на предприятии отклонений от нормальных режимов электропотребления (временное изменение схем питания, остановка на ремонт, резкое снижение
A40: эл.потребления и т.д.) последние необходимо перечислить.
A41: Главный инженер АО "Вологдаоблэнерго" А.В. Чурляев
A42: составляется самим предприятием с соблюдением всех пунктов настоящей таблицы.

Sheet 18
B1: АО "Вологдаоблэнерго" | J1: код 900151 | N1: ПС ВОЛОГДА-ЮЖНАЯ РУ-10 кВ
B2: наименование предприятия | N2: наименование источника питания
N3: _________________________________
B4: ул. Горького, 99 | I4: Таблица № 1 | O4: РП 26
B5: адрес
A6: почасовых записей показаний электрических счетчиков
A7: в режимный день 20 Декабря 2023 г.
A8: 589 | B8: 592
A9: часы суток | B9: Активная энергия | J9: Реактивная энергия
B10: ЯЧ. № 107- ф."ГОРОД 7" | F10: ЯЧ. № 204 - ф."ГОРОД 17" | J10: ЯЧ. № 107- ф."ГОРОД 7" | N10: ЯЧ. № 204 - ф."ГОРОД 17"
B11: Расчет. Коэф. | E11: 8000 | F11: Расчет. Коэф. | I11: 8000 | J11: Расчет. Коэф. | M11: =E11 -> 8000 | N11: Расчет. Коэф. | Q11: =I11 -> 8000
B12: показания счетчика | C12: разность | E12: расход эл.энергии за час | F12: показания счетчика | G12: разность | I12: расход эл.энергии за час | J12: показания счетчика | K12: разность | M12: расход эл.энергии за час | N12: показания счетчика | O12: разность | Q12: расход эл.энергии за час
A13: 1 | B13: 2 | C13: 3 | E13: 4 | F13: 5 | G13: 6 | I13: 7 | J13: 8 | K13: 9 | M13: 10 | N13: 11 | O13: 12 | Q13: 13
A14: 0 | E14: 1535.4 | I14: 1306.2 | M14: 157.5 | Q14: 108.6
A15: 1 | E15: 1394.1 | I15: 1199.1 | M15: 153.6 | Q15: 102.3
A16: 2 | E16: 1331.7 | I16: 1138.2 | M16: 137.4 | Q16: 96.3
A17: 3 | E17: 1305 | I17: 1132.5 | M17: 128.4 | Q17: 89.7
A18: 4 | E18: 1312.8 | I18: 1150.5 | M18: 115.5 | Q18: 75.9
A19: 5 | E19: 1399.8 | I19: 1379.1 | M19: 115.8 | Q19: 92.7
A20: 6 | E20: 1800.3 | I20: 1737.9 | M20: 145.2 | Q20: 116.4
A21: 7 | E21: 2125.5 | I21: 2115.6 | M21: 267.6 | Q21: 186
A22: 8 | E22: 2207.7 | I22: 2262.6 | M22: 240.9 | Q22: 156.6
A23: 9 | E23: 2193 | I23: 2196.9 | M23: 221.7 | Q23: 140.4
A24: 10 | E24: 2196 | I24: 2123.4 | M24: 213.9 | Q24: 137.4
A25: 11 | E25: 2213.4 | I25: 2122.2 | M25: 222 | Q25: 140.4
... A37: 23 | E37: 1820.4 | I37: 1496.7 | M37: 143.4 | Q37: 114.6
A38: Итого | E38: =SUM(E14:E37) -> 50046 | I38: =SUM(I14:I37) -> 45021.6 | M38: =SUM(M14:M37) -> 4898.4 | Q38: =SUM(Q14:Q37) -> 3370.2
A39: 1. При наличии на предприятии отклонений от нормальных режимов электропотребления (временное изменение схем питания, остановка на ремонт, резкое снижение
A40: эл.потребления и т.д.) последние необходимо перечислить.
A41: Главный инженер АО "Вологдаоблэнерго" А.В. Чурляев
A42: составляется самим предприятием с соблюдением всех пунктов настоящей таблицы.

Sheet 19
B1: АО "Вологдаоблэнерго" | J1: код 900151 | N1: ПС ВОЛОГДА-ЮЖНАЯ РУ - 10 кВ
B2: наименование предприятия | N2: наименование источника питания
N3: _________________________________
B4: ул. Горького, 99 | I4: Таблица № 1 | O4: РП 43
B5: адрес
A6: почасовых записей показаний электрических счетчиков
A7: в режимный день 20 Декабря 2023 г.
A8: 597 | B8: 596
A9: часы суток | B9: Активная энергия | J9: Реактивная энергия
B10: ЯЧ.№ 407 - "ГОРОД-3" | F10: ЯЧ.№ 305 - "ГОРОД-5" | J10: ЯЧ.№ 407- "ГОРОД-3" | N10: ЯЧ.№ 305- "ГОРОД-5"
B11: Расчет. Коэф. | E11: 6000 | F11: Расчет. Коэф. | I11: 4000 | J11: Расчет. Коэф. | M11: =E11 -> 6000 | N11: Расчет. Коэф. | Q11: =I11 -> 4000
B12: показания счетчика | C12: разность | E12: расход эл.энергии за час | F12: показания счетчика | G12: разность | I12: расход эл.энергии за час | J12: показания счетчика | K12: разность | M12: расход эл.энергии за час | N12: показания счетчика | O12: разность | Q12: расход эл.энергии за час
A13: 1 | B13: 2 | C13: 3 | E13: 4 | F13: 5 | G13: 6 | I13: 7 | J13: 8 | K13: 9 | M13: 10 | N13: 11 | O13: 12 | Q13: 13
A14: 0 | E14: 2448 | I14: 2005.2 | M14: 264.6 | Q14: 294
A15: 1 | E15: 2283.9 | I15: 1868.7 | M15: 255.9 | Q15: 285.9
A16: 2 | E16: 2237.4 | I16: 1750.8 | M16: 233.7 | Q16: 268.2
A17: 3 | E17: 2234.1 | I17: 1771.8 | M17: 228 | Q17: 267.9
A18: 4 | E18: 2314.8 | I18: 1848.9 | M18: 207.6 | Q18: 261.9
A19: 5 | E19: 2536.2 | I19: 2088.9 | M19: 224.4 | Q19: 269.4
A20: 6 | E20: 2862.6 | I20: 2520.9 | M20: 243.9 | Q20: 306.9
A21: 7 | E21: 3296.1 | I21: 2835.3 | M21: 306 | Q21: 375.6
A22: 8 | E22: 3608.7 | I22: 3243.6 | M22: 363.6 | Q22: 405.3
A23: 9 | E23: 3787.2 | I23: 3369.3 | M23: 369.6 | Q23: 419.4
A24: 10 | E24: 3858 | I24: 3459.6 | M24: 357 | Q24: 428.1
A25: 11 | E25: 3847.5 | I25: 3416.7 | M25: 369 | Q25: 430.5
... A37: 23 | E37: 2693.7 | I37: 2495.7 | M37: 237.9 | Q37: 309.6
A38: Итого | E38: =SUM(E14:E37) -> 80285.1 | I38: =SUM(I14:I37) -> 72360.3 | M38: =SUM(M14:M37) -> 7456.5 | Q38: =SUM(Q14:Q37) -> 9120.3
A39: 1. При наличии на предприятии отклонений от нормальных режимов электропотребления (временное изменение схем питания, остановка на ремонт, резкое снижение
A40: эл.потребления и т.д.) последние необходимо перечислить.
A41: Главный инженер АО "Вологдаоблэнерго" А.В. Чурляев
A42: составляется самим предприятием с соблюдением всех пунктов настоящей таблицы.

Sheet 20
B1: АО "Вологдаоблэнерго" | J1: код 900151 | N1: ПС ВОЛОГДА-ЮЖНАЯ РУ-10 кВ
B2: наименование предприятия | N2: наименование источника питания
N3: _________________________________
B4: ул. Горького, 99 | I4: Таблица № 1 | O4: РП 27
B5: адрес
A6: почасовых записей показаний электрических счетчиков
A7: в режимный день 20 Декабря 2023 г.
A8: 30 | B8: 49
A9: часы суток | B9: Активная энергия | J9: Реактивная энергия
B10: ЯЧ. № 408 - "ГОРОД -1" | F10: ЯЧ.№ 105 - "РП 27" | J10: ЯЧ. № 408 - "ГОРОД -1" | N10: ЯЧ.№ 105 - "РП 27"
B11: Расчет. Коэф. | E11: 12000 | F11: Расчет. Коэф. | I11: 12000 | J11: Расчет. Коэф. | M11: =E11 -> 12000 | N11: Расчет. Коэф. | Q11: =I11 -> 12000
B12: показания счетчика | C12: разность | E12: расход эл.энергии за час | F12: показания счетчика | G12: разность | I12: расход эл.энергии за час | J12: показания счетчика | K12: разность | M12: расход эл.энергии за час | N12: показания счетчика | O12: разность | Q12: расход эл.энергии за час
A13: 1 | B13: 2 | C13: 3 | E13: 4 | F13: 5 | G13: 6 | I13: 7 | J13: 8 | K13: 9 | M13: 10 | N13: 11 | O13: 12 | Q13: 13
A14: 0 | E14: 0 | I14: 0 | M14: 0 | Q14: 0
A15: 1 | E15: 0 | I15: 0 | M15: 0 | Q15: 0
A16: 2 | E16: 0 | I16: 0 | M16: 0 | Q16: 0
A17: 3 | E17: 0 | I17: 0 | M17: 0 | Q17: 0
A18: 4 | E18: 0 | I18: 0 | M18: 0 | Q18: 0
A19: 5 | E19: 0 | I19: 0 | M19: 0 | Q19: 0
A20: 6 | E20: 0 | I20: 0 | M20: 0 | Q20: 0
A21: 7 | E21: 0 | I21: 0 | M21: 0 | Q21: 0
A22: 8 | E22: 0 | I22: 0 | M22: 0 | Q22: 0
A23: 9 | E23: 0 | I23: 0 | M23: 0 | Q23: 0
A24: 10 | E24: 0 | I24: 0 | M24: 0 | Q24: 0
A25: 11 | E25: 0 | I25: 0 | M25: 0 | Q25: 0
... A37: 23 | E37: 0 | I37: 0 | M37: 0 | Q37: 0
A38: Итого | E38: =SUM(E14:E37) -> 0 | I38: =SUM(I14:I37) -> 0 | M38: =SUM(M14:M37) -> 0 | Q38: =SUM(Q14:Q37) -> 0
A39: 1. При наличии на предприятии отклонений от нормальных режимов электропотребления (временное изменение схем питания, остановка на ремонт, резкое снижение
A40: эл.потребления и т.д.) последние необходимо перечислить.
A41: Главный инженер АО "Вологдаоблэнерго" А.В. Чурляев
A42: составляется самим предприятием с соблюдением всех пунктов настоящей таблицы.

Sheet 21
B1: АО "Вологдаоблэнерго" | J1: код 900151 | N1: ПС ВОЛОГДА-ЮЖНАЯ РУ-10 кВ
B2: наименование предприятия | N2: наименование источника питания
N3: яч. 406 ф "РОДИОНЦЕВО",
B4: ул. Горького, 99 | I4: Таблица № 1 | N4: КТП-906, ПКУ- ЛЭП-43
B5: адрес
A6: почасовых записей показаний электрических счетчиков
A7: в режимный день 20 Декабря 2023 г.
A8: 362 | B8: 985
A9: часы суток | B9: Активная энергия | J9: Реактивная энергия
B10: яч. 406 ф "РОДИОНЦЕВО" - ПКУ | F10: КТП-906 | J10: яч. 406 ф "РОДИОНЦЕВО" - ПКУ | N10: КТП-906
B11: Расчет. Коэф. | E11: 2000 | F11: Расчет. Коэф. | I11: 80 | J11: Расчет. Коэф. | M11: =E11 -> 2000 | N11: Расчет. Коэф. | Q11: =I11 -> 80
B12: показания счетчика | C12: разность | E12: расход эл.энергии за час | F12: показания счетчика | G12: разность | I12: расход эл.энергии за час | J12: показания счетчика | K12: разность | M12: расход эл.энергии за час | N12: показания счетчика | O12: разность | Q12: расход эл.энергии за час
A13: 1 | B13: 2 | C13: 3 | E13: 4 | F13: 5 | G13: 6 | I13: 7 | J13: 8 | K13: 9 | M13: 10 | N13: 11 | O13: 12 | Q13: 13
A14: 0 | E14: 28 | I14: 32.28 | M14: 0 | Q14: 3.56
A15: 1 | E15: 29.2 | I15: 32.16 | M15: 0 | Q15: 3.56
A16: 2 | E16: 29.4 | I16: 29.88 | M16: 0 | Q16: 3.08
A17: 3 | E17: 29 | I17: 31.76 | M17: 0 | Q17: 2.84
A18: 4 | E18: 28.6 | I18: 31.6 | M18: 0 | Q18: 3.12
A19: 5 | E19: 30.4 | I19: 33.24 | M19: 0 | Q19: 2.92
A20: 6 | E20: 31.2 | I20: 37.52 | M20: 0 | Q20: 3.24
A21: 7 | E21: 35.2 | I21: 39.04 | M21: 0 | Q21: 4.48
A22: 8 | E22: 39.4 | I22: 39.92 | M22: 0 | Q22: 4.32
A23: 9 | E23: 32.6 | I23: 35.28 | M23: 0 | Q23: 3.52
A24: 10 | E24: 32.8 | I24: 35.72 | M24: 0 | Q24: 3.4
A25: 11 | E25: 34 | I25: 34.96 | M25: 0 | Q25: 2.44
... A37: 23 | E37: 28.6 | I37: 36.2 | M37: 0 | Q37: 3.92
A38: Итого | E38: =SUM(E14:E37) -> 755.4 | I38: =SUM(I14:I37) -> 867.92 | M38: =SUM(M14:M37) -> 0 | Q38: =SUM(Q14:Q37) -> 88.76
A39: 1. При наличии на предприятии отклонений от нормальных режимов электропотребления (временное изменение схем питания, остановка на ремонт, резкое снижение
A40: эл.потребления и т.д.) последние необходимо перечислить.
A41: Главный инженер АО "Вологдаоблэнерго" А.В. Чурляев
A42: составляется самим предприятием с соблюдением всех пунктов настоящей таблицы.

Sheet 21_1
B1: АО "Вологдаоблэнерго" | J1: код 900151 | N1: ПС ВОЛОГДА-ЮЖНАЯ РУ- 6 кВ
B2: наименование предприятия | N2: наименование источника питания
N3: _________________________________
B4: ул. Горького, 99 | I4: Таблица № 1 | O4: ТП 461
B5: адрес
A6: почасовых записей показаний электрических счетчиков
A7: в режимный день 20 Декабря 2023 г.
A8: 594
A9: часы суток | B9: Активная энергия | J9: Реактивная энергия
B10: ЯЧ.№203 - "ГОРОД 20" | J10: ЯЧ.№203 - "ГОРОД 20"
B11: Расчет. Коэф. | E11: 7200 | F11: Расчет. Коэф. | I11: 0 | J11: Расчет. Коэф. | M11: =E11 -> 7200 | N11: Расчет. Коэф. | Q11: =I11 -> 0
B12: показания счетчика | C12: разность | E12: расход эл.энергии за час | F12: показания счетчика | G12: разность | I12: расход эл.энергии за час | J12: показания счетчика | K12: разность | M12: расход эл.энергии за час | N12: показания счетчика | O12: разность | Q12: расход эл.энергии за час
A13: 1 | B13: 2 | C13: 3 | E13: 4 | F13: 5 | G13: 6 | I13: 7 | J13: 8 | K13: 9 | M13: 10 | N13: 11 | O13: 12 | Q13: 13
A14: 0 | E14: 259.83 | M14: 52.2
A15: 1 | E15: 233.91 | M15: 43.2
A16: 2 | E16: 222.75 | M16: 40.5
A17: 3 | E17: 215.1 | M17: 40.41
A18: 4 | E18: 237.33 | M18: 35.01
A19: 5 | E19: 328.68 | M19: 53.01
A20: 6 | E20: 351.27 | M20: 51.39
A21: 7 | E21: 392.67 | M21: 52.74
A22: 8 | E22: 433.8 | M22: 58.14
A23: 9 | E23: 462.87 | M23: 58.86
A24: 10 | E24: 462.69 | M24: 65.34
A25: 11 | E25: 435.24 | M25: 58.86
... A37: 23 | E37: 276.66 | M37: 44.01
A38: Итого | E38: =SUM(E14:E37) -> 8545.41 | I38: =SUM(I14:I37) -> 0 | M38: =SUM(M14:M37) -> 1239.3 | Q38: =SUM(Q14:Q37) -> 0
A39: 1. При наличии на предприятии отклонений от нормальных режимов электропотребления (временное изменение схем питания, остановка на ремонт, резкое снижение
A40: эл.потребления и т.д.) последние необходимо перечислить.
A41: Главный инженер АО "Вологдаоблэнерго" А.В. Чурляев
A42: составляется самим предприятием с соблюдением всех пунктов настоящей таблицы.

Sheet 21_2
B1: АО "Вологдаоблэнерго" | J1: код 900151 | N1: ПС ВОЛОГДА-ЮЖНАЯ РУ-10 кВ
B2: наименование предприятия | N2: наименование источника питания
N3: яч. 104 ф 6 кВ Керамик-1
B4: ул. Горького, 99 | I4: Таблица № 1
B5: адрес
A6: почасовых записей показаний электрических счетчиков
A7: в режимный день 20 Декабря 2023 г.
A9: часы суток | B9: Активная энергия | J9: Реактивная энергия
B10: яч. 104 ф 6 кВ Керамик-1 ТП-841Т-1 | F10: яч. 104 ф 6 кВ Керамик-1 ТП-417 | J10: яч. 104 ф 6 кВ Керамик-1 ТП-841Т-1 | N10: яч. 104 ф 6 кВ Керамик-1 ТП-417
B11: Расчет. Коэф. | F11: Расчет. Коэф. | I11: 200 | J11: Расчет. Коэф. | N11: Расчет. Коэф. | Q11: 200
B12: показания счетчика | C12: разность | E12: расход эл.энергии за час | F12: показания счетчика | G12: разность | I12: расход эл.энергии за час | J12: показания счетчика | K12: разность | M12: расход эл.энергии за час | N12: показания счетчика | O12: разность | Q12: расход эл.энергии за час
A13: 1 | B13: 2 | C13: 3 | E13: 4 | F13: 5 | G13: 6 | I13: 7 | J13: 8 | K13: 9 | M13: 10 | N13: 11 | O13: 12 | Q13: 13
A14: 0 | E14: 28.95 | I14: 1.36
A15: 1 | E15: 23.7 | I15: 1.36
A16: 2 | E16: 23.55 | I16: 1.52
A17: 3 | E17: 22.8 | I17: 1.28
A18: 4 | E18: 22.8 | I18: 1.48
A19: 5 | E19: 25.95 | I19: 1.64
A20: 6 | E20: 44.55 | I20: 1.4
A21: 7 | E21: 44.85 | I21: 1.6
A22: 8 | E22: 54.15 | I22: 1.36
A23: 9 | E23: 46.2 | I23: 1.64
A24: 10 | E24: 52.35 | I24: 1.76
A25: 11 | E25: 54.45 | I25: 1.52
... A37: 23 | E37: 39 | I37: 1.28
A38: Итого | E38: =SUM(E14:E37) -> 1098.6 | I38: =SUM(I14:I37) -> 39.04 | M38: =SUM(M14:M37) -> 0 | Q38: =SUM(Q14:Q37) -> 0
A39: 1. При наличии на предприятии отклонений от нормальных режимов электропотребления (временное изменение схем питания, остановка на ремонт, резкое снижение
A40: эл.потребления и т.д.) последние необходимо перечислить.
A41: Главный инженер АО "Вологдаоблэнерго" А.В. Чурляев
A42: составляется самим предприятием с соблюдением всех пунктов настоящей таблицы.

Sheet 21_3
B1: АО "Вологдаоблэнерго" | J1: код 900151 | N1: ПС ВОЛОГДА-ЮЖНАЯ РУ-10 кВ
B2: наименование предприятия | N2: наименование источника питания
N3: яч, 104 ф 6 кВ Керамик-1
B4: ул, Горького, 99 | I4: Таблица № 1
B5: адрес
A6: почасовых записей показаний электрических счетчиков
A7: в режимный день 20 Декабря 2023 г.
A9: часы суток | B9: Активная энергия | J9: Реактивная энергия
B10: яч, 104 ф 6 кВ Керамик-1 КТП-1004 | J10: яч, 104 ф 6 кВ Керамик-1 КТП-1004
B11: Расчет, Коэф, | F11: Расчет, Коэф, | J11: Расчет, Коэф, | N11: Расчет, Коэф,
B12: показания счетчика | C12: разность | E12: расход эл,энергии за час | F12: показания счетчика | G12: разность | I12: расход эл,энергии за час | J12: показания счетчика | K12: разность | M12: расход эл,энергии за час | N12: показания счетчика | O12: разность | Q12: расход эл,энергии за час
A13: 1 | B13: 2 | C13: 3 | E13: 4 | F13: 5 | G13: 6 | I13: 7 | J13: 8 | K13: 9 | M13: 10 | N13: 11 | O13: 12 | Q13: 13
A14: 0 | E14: 18.75 | M14: 0.044
A15: 1 | E15: 15.526 | M15: 0
A16: 2 | E16: 19.064 | M16: 0.014
A17: 3 | E17: 16.87 | M17: 0.012
A18: 4 | E18: 18.036 | M18: 0.012
A19: 5 | E19: 17.164 | M19: 0.002
A20: 6 | E20: 17.072 | M20: 0.014
A21: 7 | E21: 19.686 | M21: 0.006
A22: 8 | E22: 17.986 | M22: 0.05
A23: 9 | E23: 17.386 | M23: 0.3
A24: 10 | E24: 24.114 | M24: 0.194
A25: 11 | E25: 21.618 | M25: 0.008
A26: 12 | E26: 17.4 | M26: 0.146
A27: 13 | E27: 19.76 | M27: 0.006
... A37: 23 | E37: 20.462 | M37: 0.124
A38: Итого | E38: =SUM(E14:E37) -> 470.592 | I38: =SUM(I14:I37) -> 0 | M38: =SUM(M14:M37) -> 1.114 | Q38: =SUM(Q14:Q37) -> 0
A39: 1, При наличии на предприятии отклонений от нормальных режимов электропотребления (временное изменение схем питания, остановка на ремонт, резкое снижение
A40: эл,потребления и т,д,) последние необходимо перечислить,
A41: Главный инженер АО "Вологдаоблэнерго" А,В, Чурляев
A42: составляется самим предприятием с соблюдением всех пунктов настоящей таблицы,

Sheet 21_4
B1: АО "Вологдаоблэнерго" | J1: код 900151 | N1: ПС ВОЛОГДА-ЮЖНАЯ РУ-10 кВ
B2: наименование предприятия | N2: наименование источника питания
N3: яч. 207 ф 10 кВ Керамик 2
B4: ул. Горького, 99 | I4: Таблица № 1
B5: адрес
A6: почасовых записей показаний электрических счетчиков
A7: в режимный день 20 Декабря 2023 г.
A9: часы суток | B9: Активная энергия | J9: Реактивная энергия
B10: яч. 207 ф 10 кВ Керамик 2 ТП841 Т-2 | J10: яч. 207 ф 10 кВ Керамик 2 ТП841 Т-2
B11: Расчет. Коэф. | F11: Расчет. Коэф. | J11: Расчет. Коэф. | N11: Расчет. Коэф.
B12: показания счетчика | C12: разность | E12: расход эл.энергии за час | F12: показания счетчика | G12: разность | I12: расход эл.энергии за час | J12: показания счетчика | K12: разность | M12: расход эл.энергии за час | N12: показания счетчика | O12: разность | Q12: расход эл.энергии за час
A13: 1 | B13: 2 | C13: 3 | E13: 4 | F13: 5 | G13: 6 | I13: 7 | J13: 8 | K13: 9 | M13: 10 | N13: 11 | O13: 12 | Q13: 13
A14: 0 | E14: 70.8
A15: 1 | E15: 66.6
A16: 2 | E16: 66.15
A17: 3 | E17: 62.7
A18: 4 | E18: 59.7
A19: 5 | E19: 70.05
A20: 6 | E20: 84
A21: 7 | E21: 86.55
A22: 8 | E22: 84.6
A23: 9 | E23: 90.75
A24: 10 | E24: 92.7
A25: 11 | E25: 94.5
... A37: 23 | E37: 90.6
A38: Итого | E38: =SUM(E14:E37) -> 2288.1 | I38: =SUM(I14:I37) -> 0 | M38: =SUM(M14:M37) -> 0 | Q38: =SUM(Q14:Q37) -> 0
A39: 1. При наличии на предприятии отклонений от нормальных режимов электропотребления (временное изменение схем питания, остановка на ремонт, резкое снижение
A40: эл.потребления и т.д.) последние необходимо перечислить.
A41: Главный инженер АО "Вологдаоблэнерго" А.В. Чурляев
A42: составляется самим предприятием с соблюдением всех пунктов настоящей таблицы.

Sheet 21_5
B1: АО "Вологдаоблэнерго" | J1: код 900151 | K1: ПС "Вологда-Южная"РУ 6кВ - транзит через "БМЗ"
B2: наименование предприятия | N2: наименование источника питания
N3: ф 6 кВ БМЗ-1, БМЗ-2
B4: ул. Горького, 99 | I4: Таблица № 1
B5: адрес
A6: почасовых записей показаний электрических счетчиков
A7: в режимный день 20 Декабря 2023 г.
A9: часы суток | B9: Активная энергия | J9: Реактивная энергия
B10: яч. 106 ф 6 кВ БМЗ-1 РТП 25 Т1 | F10: яч. 204 ф 6 кВ БМЗ-2 РТП 25 Т2 | J10: яч. 204 ф 6 кВ БМЗ-2 РТП 25 Т1 | N10: яч. 204 ф 6 кВ БМЗ-2 РТП 25 Т2
B11: Расчет. Коэф. | F11: Расчет. Коэф. | J11: Расчет. Коэф. | N11: Расчет. Коэф.
B12: показания счетчика | C12: разность | E12: расход эл.энергии за час | F12: показания счетчика | G12: разность | I12: расход эл.энергии за час | J12: показания счетчика | K12: разность | M12: расход эл.энергии за час | N12: показания счетчика | O12: разность | Q12: расход эл.энергии за час
A13: 1 | B13: 2 | C13: 3 | E13: 4 | F13: 5 | G13: 6 | I13: 7 | J13: 8 | K13: 9 | M13: 10 | N13: 11 | O13: 12 | Q13: 13
A14: 0 | E14: 106.56 | I14: 65.04 | M14: 24.12 | Q14: 33.72
A15: 1 | E15: 100.56 | I15: 59.4 | M15: 24.36 | Q15: 34.08
A16: 2 | E16: 95.88 | I16: 54.3 | M16: 22.44 | Q16: 32.16
A17: 3 | E17: 93.6 | I17: 50.88 | M17: 21.72 | Q17: 31.44
A18: 4 | E18: 94.44 | I18: 60.84 | M18: 22.08 | Q18: 31.08
A19: 5 | E19: 99.6 | I19: 69.36 | M19: 21.36 | Q19: 30.78
A20: 6 | E20: 112.08 | I20: 111.18 | M20: 24 | Q20: 32.88
A21: 7 | E21: 126.6 | I21: 110.22 | M21: 25.92 | Q21: 35.94
A22: 8 | E22: 165.24 | I22: 118.38 | M22: 33.84 | Q22: 37.74
A23: 9 | E23: 171.72 | I23: 106.38 | M23: 35.04 | Q23: 37.2
A24: 10 | E24: 170.76 | I24: 109.74 | M24: 34.68 | Q24: 39.72
A25: 11 | E25: 171.6 | I25: 104.82 | M25: 35.04 | Q25: 38.64
... A37: 23 | E37: 124.56 | I37: 79.5 | M37: 25.2 | Q37: 34.2
A38: Итого | E38: =SUM(E14:E37) -> 3495.36 | I38: =SUM(I14:I37) -> 2279.46 | M38: =SUM(M14:M37) -> 692.52 | Q38: =SUM(Q14:Q37) -> 856.68
A39: 1. При наличии на предприятии отклонений от нормальных режимов электропотребления (временное изменение схем питания, остановка на ремонт, резкое снижение
A40: эл.потребления и т.д.) последние необходимо перечислить.
A41: Главный инженер АО "Вологдаоблэнерго" А.В. Чурляев
A42: составляется самим предприятием с соблюдением всех пунктов настоящей таблицы.

Sheet 21_5.1
B1: АО "Вологдаоблэнерго" | J1: код 900151 | K1: ПС "Вологда-Южная"РУ 6кВ - транзит через "БМЗ"
B2: наименование предприятия | N2: наименование источника питания
N3: ф 6 кВ БМЗ-1, БМЗ-2
B4: ул. Горького, 99 | I4: Таблица № 1
B5: адрес
A6: почасовых записей показаний электрических счетчиков
A7: в режимный день 20 Декабря 2023 г.
A9: часы суток | B9: Активная энергия | J9: Реактивная энергия
B10: яч. 204 ф 6 кВ БМЗ КТП-1038 Т1 | F10: яч. 106 ф 6 кВ БМЗ-1 КТП-1038 Т2 | J10: яч. 204 ф 6 кВ БМЗ КТП-1038 Т1 | N10: яч. 106 ф 6 кВ БМЗ-1 КТП-1038 Т2
B11: Расчет. Коэф. | F11: Расчет. Коэф. | J11: Расчет. Коэф. | N11: Расчет. Коэф.
B12: показания счетчика | C12: разность | E12: расход эл.энергии за час | F12: показания счетчика | G12: разность | I12: расход эл.энергии за час | J12: показания счетчика | K12: разность | M12: расход эл.энергии за час | N12: показания счетчика | O12: разность | Q12: расход эл.энергии за час
A13: 1 | B13: 2 | C13: 3 | E13: 4 | F13: 5 | G13: 6 | I13: 7 | J13: 8 | K13: 9 | M13: 10 | N13: 11 | O13: 12 | Q13: 13
A14: 0 | E14: 49.6 | I14: 60.4
A15: 1 | E15: 37.8 | I15: 53.6
A16: 2 | E16: 33.7 | I16: 49
A17: 3 | E17: 30.7 | I17: 47.2
A18: 4 | E18: 30.7 | I18: 46.2
A19: 5 | E19: 32.7 | I19: 46.9
A20: 6 | E20: 38.8 | I20: 54.6
A21: 7 | E21: 52.3 | I21: 65.5
A22: 8 | E22: 47.3 | I22: 72.7
A23: 9 | E23: 49.4 | I23: 84.1
A24: 10 | E24: 47.9 | I24: 80.8
A25: 11 | E25: 56.3 | I25: 69.7
... A37: 23 | E37: 57.8 | I37: 71.1
A38: Итого | E38: =SUM(E14:E37) -> 1287.8 | I38: =SUM(I14:I37) -> 1677.6 | M38: =SUM(M14:M37) -> 0 | Q38: =SUM(Q14:Q37) -> 0
A39: 1. При наличии на предприятии отклонений от нормальных режимов электропотребления (временное изменение схем питания, остановка на ремонт, резкое снижение
A40: эл.потребления и т.д.) последние необходимо перечислить.
A41: Главный инженер АО "Вологдаоблэнерго" А.В. Чурляев
A42: составляется самим предприятием с соблюдением всех пунктов настоящей таблицы.

Sheet 22
B1: АО "Вологдаоблэнерго" | J1: код 900151 | M1: ПС ВОЛОГДА - ТЯГОВАЯ 110/27,5/6 кВ
B2: наименование предприятия | N2: наименование источника питания
N3: _________________________________
B4: ул. Горького, 99 | I4: Таблица № 1 | O4: ТП 450
A6: почасовых записей показаний электрических счетчиков
A7: в режимный день 20 Декабря 2023 г.
A8: 636
A9: часы суток | B9: Активная энергия | J9: Реактивная энергия
B10: ЯЧ. 1 - ТП 450 | J10: ЯЧ. 1 - ТП 450
B11: Расчет. Коэф. | E11: 7200 | F11: Расчет. Коэф. | I11: =Q11 -> 0 | J11: Расчет. Коэф. | M11: =E11 -> 7200 | N11: Расчет. Коэф. | Q11: 0
B12: показания счетчика | C12: разность | E12: расход эл.энергии за час | F12: показания счетчика | G12: разность | I12: расход эл.энергии за час | J12: показания счетчика | K12: разность | M12: расход эл.энергии за час | N12: показания счетчика | O12: разность | Q12: расход эл.энергии за час
A13: 1 | B13: 2 | C13: 3 | E13: 4 | F13: 5 | G13: 6 | I13: 7 | J13: 8 | K13: 9 | M13: 10 | N13: 11 | O13: 12 | Q13: 13
A14: 0 | E14: 0 | M14: 0
A15: 1 | E15: 0 | M15: 0
A16: 2 | E16: 0 | M16: 0
A17: 3 | E17: 0 | M17: 0
A18: 4 | E18: 0 | M18: 0
A19: 5 | E19: 0 | M19: 0
A20: 6 | E20: 0 | M20: 0
A21: 7 | E21: 0 | M21: 0
A22: 8 | E22: 0 | M22: 0
A23: 9 | E23: 0 | M23: 0
A24: 10 | E24: 0 | M24: 0
A25: 11 | E25: 0 | M25: 0
... A37: 23 | E37: 0 | M37: 0
A38: Итого | E38: =SUM(E14:E37) -> 0 | I38: =SUM(I14:I37) -> 0 | M38: =SUM(M14:M37) -> 0 | Q38: =SUM(Q14:Q37) -> 0
A39: 1. При наличии на предприятии отклонений от нормальных режимов электропотребления (временное изменение схем питания, остановка на ремонт, резкое снижение
A40: эл.потребления и т.д.) последние необходимо перечислить.
A41: Главный инженер АО "Вологдаоблэнерго" А.В. Чурляев
A42: составляется самим предприятием с соблюдением всех пунктов настоящей таблицы.

Sheet 23
B1: АО "Вологдаоблэнерго" | I1: код 900151 | K1: ТГК -2 "ВТЭЦ" РП 6 кВ танзит через ТП 10 СЖД ОАО РЖД
B2: наименование предприятия | N2: наименование источника питания
N3: _________________________________
B4: ул. Горького, 99 | I4: Таблица № 1 | O4: ТП 238; ТП 651
A6: почасовых записей показаний электрических счетчиков
A7: в режимный день 20 Декабря 2023 г.
A8: 640 | B8: 641
A9: часы суток | B9: Активная энергия | J9: Реактивная энергия
B10: ЯЧ.5 - ТП 238 | F10: ЯЧ.7 - ТП 651 | J10: ЯЧ.5 - ТП 238 | N10: ЯЧ.7 - ТП 651
B11: Расчет. Коэф. | E11: 1800 | F11: Расчет. Коэф. | I11: 1800 | J11: Расчет. Коэф. | M11: =E11 -> 1800 | N11: Расчет. Коэф. | Q11: =I11 -> 1800
B12: показания счетчика | C12: разность | E12: расход эл.энергии за час | F12: показания счетчика | G12: разность | I12: расход эл.энергии за час | J12: показания счетчика | K12: разность | M12: расход эл.энергии за час | N12: показания счетчика | O12: разность | Q12: расход эл.энергии за час
A13: 1 | B13: 2 | C13: 3 | E13: 4 | F13: 5 | G13: 6 | I13: 7 | J13: 8 | K13: 9 | M13: 10 | N13: 11 | O13: 12 | Q13: 13
A14: 0 | E14: 148.68 | I14: 269.64 | M14: 39.6 | Q14: 82.26
A15: 1 | E15: 140.04 | I15: 240.3 | M15: 37.44 | Q15: 81.72
A16: 2 | E16: 132.84 | I16: 225.54 | M16: 37.26 | Q16: 82.98
A17: 3 | E17: 147.42 | I17: 217.62 | M17: 38.7 | Q17: 81.18
A18: 4 | E18: 182.88 | I18: 234.54 | M18: 36.72 | Q18: 78.66
A19: 5 | E19: 203.04 | I19: 260.28 | M19: 41.94 | Q19: 82.44
A20: 6 | E20: 233.82 | I20: 312.66 | M20: 43.56 | Q20: 79.92
A21: 7 | E21: 311.04 | I21: 366.84 | M21: 62.28 | Q21: 97.38
A22: 8 | E22: 327.42 | I22: 392.4 | M22: 56.88 | Q22: 103.14
A23: 9 | E23: 315.54 | I23: 402.66 | M23: 46.26 | Q23: 105.12
A24: 10 | E24: 306.9 | I24: 392.22 | M24: 62.1 | Q24: 100.44
A25: 11 | E25: 302.94 | I25: 396.18 | M25: 66.96 | Q25: 100.08
... A37: 23 | E37: 162 | I37: 323.82 | M37: 40.32 | Q37: 87.48
A38: Итого | E38: =SUM(E14:E37) -> 5522.22 | I38: =SUM(I14:I37) -> 8913.96 | M38: =SUM(M14:M37) -> 1132.02 | Q38: =SUM(Q14:Q37) -> 2204.64
A39: 1. При наличии на предприятии отклонений от нормальных режимов электропотребления (временное изменение схем питания, остановка на ремонт, резкое снижение
A40: эл.потребления и т.д.) последние необходимо перечислить.
A41: Главный инженер АО "Вологдаоблэнерго" А.В. Чурляев
A42: составляется самим предприятием с соблюдением всех пунктов настоящей таблицы.

Sheet 24
B1: АО "Вологдаоблэнерго" | G1: код 900151 | I1: ГПП ВОЛОГДА -ТЯГОВАЯ СЖД 110 /27,5/6 кВ транзит через ТП 34 СЖД ОАО РЖД
B2: наименование предприятия | N2: наименование источника питания
N3: _________________________________
B4: ул. Горького, 99 | I4: Таблица № 1 | O4: ТП 660; ТП 662
A6: почасовых записей показаний электрических счетчиков
A7: в режимный день 20 Декабря 2023 г.
A8: 637 | B8: 639
A9: часы суток | B9: Активная энергия | J9: Реактивная энергия
B10: ЯЧ.2 - ТП 660 | F10: ЯЧ.6 - ТП 662 | J10: ЯЧ.2 - ТП 660 | N10: ЯЧ.6 - ТП 662
B11: Расчет. Коэф. | E11: 2400 | F11: Расчет. Коэф. | I11: 2400 | J11: Расчет. Коэф. | M11: =E11 -> 2400 | N11: Расчет. Коэф. | Q11: =I11 -> 2400
B12: показания счетчика | C12: разность | E12: расход эл.энергии за час | F12: показания счетчика | G12: разность | I12: расход эл.энергии за час | J12: показания счетчика | K12: разность | M12: расход эл.энергии за час | N12: показания счетчика | O12: разность | Q12: расход эл.энергии за час
A13: 1 | B13: 2 | C13: 3 | E13: 4 | F13: 5 | G13: 6 | I13: 7 | J13: 8 | K13: 9 | M13: 10 | N13: 11 | O13: 12 | Q13: 13
A14: 0 | E14: 377.28 | I14: 393.12 | M14: 137.52 | Q14: 132.24
A15: 1 | E15: 349.92 | I15: 367.92 | M15: 131.52 | Q15: 131.28
A16: 2 | E16: 334.8 | I16: 356.4 | M16: 130.56 | Q16: 130.56
A17: 3 | E17: 323.04 | I17: 349.68 | M17: 126.48 | Q17: 127.2
A18: 4 | E18: 326.16 | I18: 346.32 | M18: 118.08 | Q18: 122.88
A19: 5 | E19: 345.6 | I19: 365.52 | M19: 119.04 | Q19: 124.08
A20: 6 | E20: 433.92 | I20: 443.28 | M20: 117.84 | Q20: 126.24
A21: 7 | E21: 465.84 | I21: 496.32 | M21: 120.24 | Q21: 148.32
A22: 8 | E22: 485.28 | I22: 503.76 | M22: 115.44 | Q22: 150.24
A23: 9 | E23: 496.08 | I23: 485.76 | M23: 119.28 | Q23: 144.48
A24: 10 | E24: 509.52 | I24: 510.24 | M24: 117.6 | Q24: 144
A25: 11 | E25: 514.32 | I25: 502.08 | M25: 125.28 | Q25: 141.36
... A37: 23 | E37: 436.56 | I37: 426.96 | M37: 133.44 | Q37: 127.68
A38: Итого | E38: =SUM(E14:E37) -> 11945.76 | I38: =SUM(I14:I37) -> 11544.24 | M38: =SUM(M14:M37) -> 3005.52 | Q38: =SUM(Q14:Q37) -> 3341.04
A39: 1. При наличии на предприятии отклонений от нормальных режимов электропотребления (временное изменение схем питания, остановка на ремонт, резкое снижение
A40: эл.потребления и т.д.) последние необходимо перечислить.
A41: Главный инженер АО "Вологдаоблэнерго" А.В. Чурляев
A42: составляется самим предприятием с соблюдением всех пунктов настоящей таблицы.

Sheet 25
B1: АО "Вологдаоблэнерго" | J1: код 900151 | N1: ТГК-2 ВТЭЦ РП 6 кВ
B2: наименование предприятия | N2: наименование источника питания
N3: _________________________________
B4: ул. Горького, 99 | I4: Таблица № 1 | O4: РТП 3
B5: адрес
A6: почасовых записей показаний электрических счетчиков
A7: в режимный день 20 Декабря 2023 г.
A8: 381 | B8: 384
A9: часы суток | B9: Активная энергия | J9: Реактивная энергия
B10: ЯЧ.10 - РП 3 ввод № 1 | F10: ЯЧ. 115 - РП 3 ввод № 2 | J10: ЯЧ.10 - РП 3 ввод № 1 | N10: ЯЧ. 115 - РП 3 ввод № 2
B11: Расчет. Коэф. | E11: 7200 | F11: Расчет. Коэф. | I11: 3600 | J11: Расчет. Коэф. | M11: =E11 -> 7200 | N11: Расчет. Коэф. | Q11: =I11 -> 3600
B12: показания счетчика | C12: разность | E12: расход эл.энергии за час | F12: показания счетчика | G12: разность | I12: расход эл.энергии за час | J12: показания счетчика | K12: разность | M12: расход эл.энергии за час | N12: показания счетчика | O12: разность | Q12: расход эл.энергии за час
A13: 1 | B13: 2 | C13: 3 | E13: 4 | F13: 5 | G13: 6 | I13: 7 | J13: 8 | K13: 9 | M13: 10 | N13: 11 | O13: 12 | Q13: 13
A14: 0 | E14: 1493 | I14: 285 | M14: 633 | Q14: 64
A15: 1 | E15: 1517 | I15: 277 | M15: 634 | Q15: 63
A16: 2 | E16: 1525 | I16: 269 | M16: 632 | Q16: 64
A17: 3 | E17: 1521 | I17: 273 | M17: 634 | Q17: 65
A18: 4 | E18: 1501 | I18: 269 | M18: 626 | Q18: 62
A19: 5 | E19: 1557 | I19: 306 | M19: 628 | Q19: 79
A20: 6 | E20: 1748 | I20: 313 | M20: 646 | Q20: 69
A21: 7 | E21: 2200 | I21: 391 | M21: 767 | Q21: 71
A22: 8 | E22: 2452 | I22: 531 | M22: 888 | Q22: 104
A23: 9 | E23: 2470 | I23: 570 | M23: 890 | Q23: 143
A24: 10 | E24: 2503 | I24: 570 | M24: 920 | Q24: 138
A25: 11 | E25: 2373 | I25: 509 | M25: 820 | Q25: 113
... A37: 23 | E37: 1533 | I37: 287 | M37: 630 | Q37: 72
A38: Итого | E38: =SUM(E14:E37) -> 47011 | I38: =SUM(I14:I37) -> 9312 | M38: =SUM(M14:M37) -> 17543 | Q38: =SUM(Q14:Q37) -> 2119
A39: 1. При наличии на предприятии отклонений от нормальных режимов электропотребления (временное изменение схем питания, остановка на ремонт, резкое снижение
A40: эл.потребления и т.д.) последние необходимо перечислить.
A41: Главный инженер АО "Вологдаоблэнерго" А.В. Чурляев
A42: составляется самим предприятием с соблюдением всех пунктов настоящей таблицы.

Sheet 26
B1: АО "Вологдаоблэнерго" | J1: код 900151 | N1: ТГК-2 ВТЭЦ РП 6 кВ
B2: наименование предприятия | N2: наименование источника питания
N3: _________________________________
B4: ул. Горького, 99 | I4: Таблица № 1 | O4: РП 23
B5: адрес
A6: почасовых записей показаний электрических счетчиков
A7: в режимный день 20 Декабря 2023 г.
A8: 385 | B8: 383
A9: часы суток | B9: Активная энергия | J9: Реактивная энергия
B10: ЯЧ. 114 - РП 23 ввод № 1 | F10: ЯЧ. 107 - РП 23 ввод № 2 | J10: ЯЧ. 114 - РП 23 ввод № 1 | N10: ЯЧ. 107 - РП 23 ввод № 2
B11: Расчет. Коэф. | E11: 3600 | F11: Расчет. Коэф. | I11: 3600 | J11: Расчет. Коэф. | M11: =E11 -> 3600 | N11: Расчет. Коэф. | Q11: =I11 -> 3600
B12: показания счетчика | C12: разность | E12: расход эл.энергии за час | F12: показания счетчика | G12: разность | I12: расход эл.энергии за час | J12: показания счетчика | K12: разность | M12: расход эл.энергии за час | N12: показания счетчика | O12: разность | Q12: расход эл.энергии за час
A13: 1 | B13: 2 | C13: 3 | E13: 4 | F13: 5 | G13: 6 | I13: 7 | J13: 8 | K13: 9 | M13: 10 | N13: 11 | O13: 12 | Q13: 13
A14: 0 | E14: 1006 | I14: 144 | M14: 669 | Q14: 2
A15: 1 | E15: 1038 | I15: 148 | M15: 683 | Q15: 3
A16: 2 | E16: 1035 | I16: 146 | M16: 687 | Q16: 2
A17: 3 | E17: 1062 | I17: 145 | M17: 680 | Q17: 2
A18: 4 | E18: 1069 | I18: 144 | M18: 661 | Q18: 2
A19: 5 | E19: 1101 | I19: 145 | M19: 691 | Q19: 3
A20: 6 | E20: 1106 | I20: 156 | M20: 697 | Q20: 3
A21: 7 | E21: 1213 | I21: 250 | M21: 734 | Q21: 28
A22: 8 | E22: 1387 | I22: 280 | M22: 820 | Q22: 63
A23: 9 | E23: 1430 | I23: 286 | M23: 827 | Q23: 87
A24: 10 | E24: 1416 | I24: 305 | M24: 828 | Q24: 82
A25: 11 | E25: 1450 | I25: 319 | M25: 832 | Q25: 104
... A37: 23 | E37: 1052 | I37: 141 | M37: 687 | Q37: 4
A38: Итого | E38: =SUM(E14:E37) -> 29481 | I38: =SUM(I14:I37) -> 5087 | M38: =SUM(M14:M37) -> 18144 | Q38: =SUM(Q14:Q37) -> 846
A39: 1. При наличии на предприятии отклонений от нормальных режимов электропотребления (временное изменение схем питания, остановка на ремонт, резкое снижение
A40: эл.потребления и т.д.) последние необходимо перечислить.
A41: Главный инженер АО "Вологдаоблэнерго" А.В. Чурляев
A42: составляется самим предприятием с соблюдением всех пунктов настоящей таблицы.

Sheet 27
B1: АО "Вологдаоблэнерго" | J1: код 900151 | N1: ТГК-2 ВТЭЦ РП 6 кВ
B2: наименование предприятия | N2: наименование источника питания
N3: _________________________________
B4: ул. Горького, 99 | I4: Таблица № 1 | O4: ТП 217
B5: адрес
A6: почасовых записей показаний электрических счетчиков
A7: в режимный день 20 Декабря 2023 г.
A8: 375
A9: часы суток | B9: Активная энергия | J9: Реактивная энергия
B10: ЯЧ. 3 - ТП 217 | J10: ЯЧ. 3 - ТП 217
B11: Расчет. Коэф. | E11: 3600 | F11: Расчет. Коэф. | I11: 0 | J11: Расчет. Коэф. | M11: =E11 -> 3600 | N11: Расчет. Коэф. | Q11: =I11 -> 0
B12: показания счетчика | C12: разность | E12: расход эл.энергии за час | F12: показания счетчика | G12: разность | I12: расход эл.энергии за час | J12: показания счетчика | K12: разность | M12: расход эл.энергии за час | N12: показания счетчика | O12: разность | Q12: расход эл.энергии за час
A13: 1 | B13: 2 | C13: 3 | E13: 4 | F13: 5 | G13: 6 | I13: 7 | J13: 8 | K13: 9 | M13: 10 | N13: 11 | O13: 12 | Q13: 13
A14: 0 | E14: 337 | M14: 56
A15: 1 | E15: 305 | M15: 53
A16: 2 | E16: 282 | M16: 53
A17: 3 | E17: 269 | M17: 51
A18: 4 | E18: 269 | M18: 51
A19: 5 | E19: 286 | M19: 52
A20: 6 | E20: 369 | M20: 57
A21: 7 | E21: 409 | M21: 55
A22: 8 | E22: 417 | M22: 59
A23: 9 | E23: 423 | M23: 54
A24: 10 | E24: 451 | M24: 63
A25: 11 | E25: 457 | M25: 63
... A37: 23 | E37: 381 | M37: 63
A38: Итого | E38: =SUM(E14:E37) -> 10347 | I38: =SUM(I14:I37) -> 0 | M38: =SUM(M14:M37) -> 1418 | Q38: =SUM(Q14:Q37) -> 0
A39: 1. При наличии на предприятии отклонений от нормальных режимов электропотребления (временное изменение схем питания, остановка на ремонт, резкое снижение
A40: эл.потребления и т.д.) последние необходимо перечислить.
A41: Главный инженер АО "Вологдаоблэнерго" А.В. Чурляев
A42: составляется самим предприятием с соблюдением всех пунктов настоящей таблицы.

Sheet 28
B1: АО "Вологдаоблэнерго" | J1: код 900151 | N1: ТГК-2 ВТЭЦ РП 6 кВ
B2: наименование предприятия | N2: наименование источника питания
N3: _________________________________
B4: ул. Горького, 99 | I4: Таблица № 1 | O4: РП 8
B5: адрес
A6: почасовых записей показаний электрических счетчиков
A7: в режимный день 20 Декабря 2023 г.
A8: 378 | B8: 382
A9: часы суток | B9: Активная энергия | J9: Реактивная энергия
B10: ЯЧ. 5 - РП 8 ввод № 1 | F10: ЯЧ. 12 - РП 8 ввод № 2 | J10: ЯЧ. 5 - РП 8 ввод № 1 | N10: ЯЧ. 12 - РП 8 ввод № 2
B11: Расчет. Коэф. | E11: 3600 | F11: Расчет. Коэф. | I11: 3600 | J11: Расчет. Коэф. | M11: =E11 -> 3600 | N11: Расчет. Коэф. | Q11: =I11 -> 3600
B12: показания счетчика | C12: разность | E12: расход эл.энергии за час | F12: показания счетчика | G12: разность | I12: расход эл.энергии за час | J12: показания счетчика | K12: разность | M12: расход эл.энергии за час | N12: показания счетчика | O12: разность | Q12: расход эл.энергии за час
A13: 1 | B13: 2 | C13: 3 | E13: 4 | F13: 5 | G13: 6 | I13: 7 | J13: 8 | K13: 9 | M13: 10 | N13: 11 | O13: 12 | Q13: 13
A14: 0 | E14: 730 | I14: 768 | M14: 164 | Q14: 184
A15: 1 | E15: 663 | I15: 699 | M15: 159 | Q15: 184
A16: 2 | E16: 625 | I16: 665 | M16: 158 | Q16: 181
A17: 3 | E17: 618 | I17: 646 | M17: 160 | Q17: 179
A18: 4 | E18: 651 | I18: 632 | M18: 157 | Q18: 175
A19: 5 | E19: 743 | I19: 698 | M19: 164 | Q19: 182
A20: 6 | E20: 885 | I20: 884 | M20: 161 | Q20: 186
A21: 7 | E21: 1028 | I21: 1090 | M21: 159 | Q21: 203
A22: 8 | E22: 1277 | I22: 1339 | M22: 170 | Q22: 218
A23: 9 | E23: 1319 | I23: 1414 | M23: 179 | Q23: 228
A24: 10 | E24: 1314 | I24: 1440 | M24: 177 | Q24: 235
A25: 11 | E25: 1325 | I25: 1434 | M25: 185 | Q25: 234
... A37: 23 | E37: 850 | I37: 882 | M37: 166 | Q37: 183
A38: Итого | E38: =SUM(E14:E37) -> 25598 | I38: =SUM(I14:I37) -> 27060 | M38: =SUM(M14:M37) -> 4071 | Q38: =SUM(Q14:Q37) -> 4985
A39: 1. При наличии на предприятии отклонений от нормальных режимов электропотребления (временное изменение схем питания, остановка на ремонт, резкое снижение
A40: эл.потребления и т.д.) последние необходимо перечислить.
A41: Главный инженер АО "Вологдаоблэнерго" А.В. Чурляев
A42: составляется самим предприятием с соблюдением всех пунктов настоящей таблицы.

Sheet 29
B1: АО "Вологдаоблэнерго" | J1: код 900151 | N1: ТГК-2 ВТЭЦ РП 6 кВ
B2: наименование предприятия | N2: наименование источника питания
N3: _________________________________
B4: ул. Горького, 99 | I4: Таблица № 1 | O4: РП 20
B5: адрес
A6: почасовых записей показаний электрических счетчиков
A7: в режимный день 20 Декабря 2023 г.
A8: 380 | B8: 379
A9: часы суток | B9: Активная энергия | J9: Реактивная энергия
B10: ЯЧ. 4- РП 20 ввод № 1 | F10: ЯЧ. 7 - РП 20 яч.7 | J10: ЯЧ. 4- РП 20 ввод № 1 | N10: ЯЧ. 7 - РП 20 яч.7
B11: Расчет. Коэф. | E11: 3600 | F11: Расчет. Коэф. | I11: 3600 | J11: Расчет. Коэф. | M11: =E11 -> 3600 | N11: Расчет. Коэф. | Q11: =I11 -> 3600
B12: показания счетчика | C12: разность | E12: расход эл.энергии за час | F12: показания счетчика | G12: разность | I12: расход эл.энергии за час | J12: показания счетчика | K12: разность | M12: расход эл.энергии за час | N12: показания счетчика | O12: разность | Q12: расход эл.энергии за час
A13: 1 | B13: 2 | C13: 3 | E13: 4 | F13: 5 | G13: 6 | I13: 7 | J13: 8 | K13: 9 | M13: 10 | N13: 11 | O13: 12 | Q13: 13
A14: 0 | E14: 200 | I14: 37 | M14: 44 | Q14: 20
A15: 1 | E15: 185 | I15: 37 | M15: 42 | Q15: 19
A16: 2 | E16: 179 | I16: 38 | M16: 40 | Q16: 19
A17: 3 | E17: 177 | I17: 39 | M17: 40 | Q17: 20
A18: 4 | E18: 202 | I18: 40 | M18: 40 | Q18: 19
A19: 5 | E19: 273 | I19: 39 | M19: 44 | Q19: 20
A20: 6 | E20: 365 | I20: 46 | M20: 59 | Q20: 19
A21: 7 | E21: 428 | I21: 51 | M21: 78 | Q21: 20
A22: 8 | E22: 493 | I22: 69 | M22: 80 | Q22: 19
A23: 9 | E23: 521 | I23: 93 | M23: 79 | Q23: 22
A24: 10 | E24: 517 | I24: 97 | M24: 82 | Q24: 26
A25: 11 | E25: 520 | I25: 109 | M25: 87 | Q25: 27
... A37: 23 | E37: 220 | I37: 41 | M37: 42 | Q37: 20
A38: Итого | E38: =SUM(E14:E37) -> 8653 | I38: =SUM(I14:I37) -> 1684 | M38: =SUM(M14:M37) -> 1462 | Q38: =SUM(Q14:Q37) -> 532
A39: 1. При наличии на предприятии отклонений от нормальных режимов электропотребления (временное изменение схем питания, остановка на ремонт, резкое снижение
A40: эл.потребления и т.д.) последние необходимо перечислить.
A41: Главный инженер АО "Вологдаоблэнерго" А.В. Чурляев
A42: составляется самим предприятием с соблюдением всех пунктов настоящей таблицы.

Sheet 30
B1: АО "Вологдаоблэнерго" | J1: код 900151 | N1: ПС "ЦЕНТРАЛЬНАЯ" 110/6 кВ
B2: наименование предприятия | N2: наименование источника питания
N3: _________________________________ | O3: РУ-6 кВ
B4: ул. Горького, 99 | I4: Таблица № 1 | O4: ТП 54
B5: адрес
A6: почасовых записей показаний электрических счетчиков
A7: в режимный день 20 Декабря 2023 г.
A8: 1520 | B8: 1526
A9: часы суток | B9: Активная энергия | J9: Реактивная энергия
B10: ЯЧ.4 - ТП 54 -Ι ввод № 1 | F10: ЯЧ. 30 - ТП 54 - ΙΙ ввод № 2 | J10: ЯЧ.4 - ТП 54 -Ι ввод № 1 | N10: ЯЧ. 30 - ТП 54 - ΙΙ ввод № 2
B11: Расчет. Коэф. | E11: 2400 | F11: Расчет. Коэф. | I11: 4800 | J11: Расчет. Коэф. | M11: =E11 -> 2400 | N11: Расчет. Коэф. | Q11: =I11 -> 4800
B12: показания счетчика | C12: разность | E12: расход эл.энергии за час | F12: показания счетчика | G12: разность | I12: расход эл.энергии за час | J12: показания счетчика | K12: разность | M12: расход эл.энергии за час | N12: показания счетчика | O12: разность | Q12: расход эл.энергии за час
A13: 1 | B13: 2 | C13: 3 | E13: 4 | F13: 5 | G13: 6 | I13: 7 | J13: 8 | K13: 9 | M13: 10 | N13: 11 | O13: 12 | Q13: 13
A14: 0 | E14: 198 | I14: 333 | M14: 53 | Q14: 125
A15: 1 | E15: 197 | I15: 317 | M15: 52 | Q15: 123
A16: 2 | E16: 194 | I16: 311 | M16: 50 | Q16: 123
A17: 3 | E17: 193 | I17: 313 | M17: 50 | Q17: 120
A18: 4 | E18: 232 | I18: 324 | M18: 48 | Q18: 117
A19: 5 | E19: 270 | I19: 348 | M19: 48 | Q19: 116
A20: 6 | E20: 289 | I20: 398 | M20: 49 | Q20: 119
A21: 7 | E21: 375 | I21: 461 | M21: 52 | Q21: 127
A22: 8 | E22: 552 | I22: 569 | M22: 54 | Q22: 136
A23: 9 | E23: 601 | I23: 612 | M23: 50 | Q23: 151
A24: 10 | E24: 610 | I24: 637 | M24: 51 | Q24: 152
A25: 11 | E25: 561 | I25: 645 | M25: 54 | Q25: 146
... A37: 23 | E37: 205 | I37: 376 | M37: 50 | Q37: 123
A38: Итого | E38: =SUM(E14:E37) -> 8852 | I38: =SUM(I14:I37) -> 11827 | M38: =SUM(M14:M37) -> 1234 | Q38: =SUM(Q14:Q37) -> 3180
A39: 1. При наличии на предприятии отклонений от нормальных режимов электропотребления (временное изменение схем питания, остановка на ремонт, резкое снижение
A40: эл.потребления и т.д.) последние необходимо перечислить.
A41: Главный инженер АО "Вологдаоблэнерго" А.В. Чурляев
A42: составляется самим предприятием с соблюдением всех пунктов настоящей таблицы.

Sheet 31
B1: АО "Вологдаоблэнерго" | J1: код 900151 | N1: ПС "ЦЕНТРАЛЬНАЯ" 110/6 кВ
B2: наименование предприятия | N2: наименование источника питания
N3: _________________________________ | O3: РУ-6 кВ
B4: ул. Горького, 99 | I4: Таблица № 1 | O4: РП 13
B5: адрес
A6: почасовых записей показаний электрических счетчиков
A7: в режимный день 20 Декабря 2023 г.
A8: 1522 | B8: 1523
A9: часы суток | B9: Активная энергия | J9: Реактивная энергия
B10: ЯЧ. 14 - РП 13- Ι | F10: ЯЧ. 22 - РП 13- ΙΙ | J10: ЯЧ. 14 - РП 13- Ι | N10: ЯЧ. 22 - РП 13- ΙΙ
B11: Расчет. Коэф. | E11: 7200 | F11: Расчет. Коэф. | I11: 7200 | J11: Расчет. Коэф. | M11: =E11 -> 7200 | N11: Расчет. Коэф. | Q11: =I11 -> 7200
B12: показания счетчика | C12: разность | E12: расход эл.энергии за час | F12: показания счетчика | G12: разность | I12: расход эл.энергии за час | J12: показания счетчика | K12: разность | M12: расход эл.энергии за час | N12: показания счетчика | O12: разность | Q12: расход эл.энергии за час
A13: 1 | B13: 2 | C13: 3 | E13: 4 | F13: 5 | G13: 6 | I13: 7 | J13: 8 | K13: 9 | M13: 10 | N13: 11 | O13: 12 | Q13: 13
A14: 0 | E14: 969 | I14: 1082 | M14: 174 | Q14: 157
A15: 1 | E15: 925 | I15: 1025 | M15: 173 | Q15: 152
A16: 2 | E16: 908 | I16: 1041 | M16: 167 | Q16: 162
A17: 3 | E17: 894 | I17: 1004 | M17: 161 | Q17: 136
A18: 4 | E18: 906 | I18: 996 | M18: 149 | Q18: 126
A19: 5 | E19: 965 | I19: 1097 | M19: 161 | Q19: 140
A20: 6 | E20: 1123 | I20: 1297 | M20: 169 | Q20: 136
A21: 7 | E21: 1389 | I21: 1533 | M21: 184 | Q21: 150
A22: 8 | E22: 1715 | I22: 1937 | M22: 175 | Q22: 147
A23: 9 | E23: 1899 | I23: 2158 | M23: 178 | Q23: 173
A24: 10 | E24: 1928 | I24: 2218 | M24: 171 | Q24: 172
A25: 11 | E25: 1949 | I25: 2253 | M25: 175 | Q25: 184
... A37: 23 | E37: 1052 | I37: 1136 | M37: 165 | Q37: 160
A38: Итого | E38: =SUM(E14:E37) -> 35573 | I38: =SUM(I14:I37) -> 39582 | M38: =SUM(M14:M37) -> 4073 | Q38: =SUM(Q14:Q37) -> 3860
A39: 1. При наличии на предприятии отклонений от нормальных режимов электропотребления (временное изменение схем питания, остановка на ремонт, резкое снижение
A40: эл.потребления и т.д.) последние необходимо перечислить.
A41: Главный инженер АО "Вологдаоблэнерго" А.В. Чурляев
A42: составляется самим предприятием с соблюдением всех пунктов настоящей таблицы.

Sheet 32
B1: АО "Вологдаоблэнерго" | J1: код 900151 | N1: ПС "ЦЕНТРАЛЬНАЯ" 110/6 кВ
B2: наименование предприятия | N2: наименование источника питания
N3: _________________________________ | O3: РУ-6 кВ
B4: ул. Горького, 99 | I4: Таблица № 1 | O4: РП 4
B5: адрес
A6: почасовых записей показаний электрических счетчиков
A7: в режимный день 20 Декабря 2023 г.
A8: 1521 | B8: 1524
A9: часы суток | B9: Активная энергия | J9: Реактивная энергия
B10: ЯЧ.12 - РП 4 -Ι | F10: ЯЧ. 24 - РП 4 -ΙΙ | J10: ЯЧ.12 - РП 4 -Ι | N10: ЯЧ. 24 - РП 4 -ΙΙ
B11: Расчет. Коэф. | E11: 4800 | F11: Расчет. Коэф. | I11: 4800 | J11: Расчет. Коэф. | M11: =E11 -> 4800 | N11: Расчет. Коэф. | Q11: =I11 -> 4800
B12: показания счетчика | C12: разность | E12: расход эл.энергии за час | F12: показания счетчика | G12: разность | I12: расход эл.энергии за час | J12: показания счетчика | K12: разность | M12: расход эл.энергии за час | N12: показания счетчика | O12: разность | Q12: расход эл.энергии за час
A13: 1 | B13: 2 | C13: 3 | E13: 4 | F13: 5 | G13: 6 | I13: 7 | J13: 8 | K13: 9 | M13: 10 | N13: 11 | O13: 12 | Q13: 13
A14: 0 | E14: 627 | I14: 499 | M14: 101 | Q14: 62
A15: 1 | E15: 598 | I15: 485 | M15: 103 | Q15: 62
A16: 2 | E16: 576 | I16: 470 | M16: 93 | Q16: 59
A17: 3 | E17: 575 | I17: 478 | M17: 92 | Q17: 62
A18: 4 | E18: 581 | I18: 501 | M18: 83 | Q18: 60
A19: 5 | E19: 640 | I19: 533 | M19: 84 | Q19: 59
A20: 6 | E20: 766 | I20: 627 | M20: 100 | Q20: 69
A21: 7 | E21: 990 | I21: 802 | M21: 134 | Q21: 73
A22: 8 | E22: 1339 | I22: 1047 | M22: 148 | Q22: 76
A23: 9 | E23: 1480 | I23: 1235 | M23: 150 | Q23: 92
A24: 10 | E24: 1534 | I24: 1354 | M24: 156 | Q24: 105
A25: 11 | E25: 1570 | I25: 1393 | M25: 158 | Q25: 106
... A37: 23 | E37: 673 | I37: 561 | M37: 100 | Q37: 60
A38: Итого | E38: =SUM(E14:E37) -> 25340 | I38: =SUM(I14:I37) -> 21770 | M38: =SUM(M14:M37) -> 2948 | Q38: =SUM(Q14:Q37) -> 1840
A39: 1. При наличии на предприятии отклонений от нормальных режимов электропотребления (временное изменение схем питания, остановка на ремонт, резкое снижение
A40: эл.потребления и т.д.) последние необходимо перечислить.
A41: Главный инженер АО "Вологдаоблэнерго" А.В. Чурляев
A42: составляется самим предприятием с соблюдением всех пунктов настоящей таблицы.

Sheet 33
B1: АО "Вологдаоблэнерго" | J1: код 900151 | N1: ПС "ЦЕНТРАЛЬНАЯ" 110/6 кВ
B2: наименование предприятия | N2: наименование источника питания
N3: _________________________________ | O3: РУ-6 кВ
B4: ул. Горького, 99 | I4: Таблица № 1 | O4: РП 33
B5: адрес
A6: почасовых записей показаний электрических счетчиков
A7: в режимный день 20 Декабря 2023 г.
A8: 1518 | B8: 1519
A9: часы суток | B9: Активная энергия | J9: Реактивная энергия
B10: ЯЧ. 2 - РП 33 ф.10 | F10: ЯЧ. 3 - РП-33 ф.9 | J10: ЯЧ. 2- РП 33 ф.10 | N10: ЯЧ. 3 - РП-33 ф.9
B11: Расчет. Коэф. | E11: 7200 | F11: Расчет. Коэф. | J11: Расчет. Коэф. | M11: =E11 -> 7200 | N11: Расчет. Коэф.
B12: показания счетчика | C12: разность | E12: расход эл.энергии за час | F12: показания счетчика | G12: разность | I12: расход эл.энергии за час | J12: показания счетчика | K12: разность | M12: расход эл.энергии за час | N12: показания счетчика | O12: разность | Q12: расход эл.энергии за час
A13: 1 | B13: 2 | C13: 3 | E13: 4 | F13: 5 | G13: 6 | I13: 7 | J13: 8 | K13: 9 | M13: 10 | N13: 11 | O13: 12 | Q13: 13
A14: 0 | E14: 30 | I14: 272 | M14: 0 | Q14: 20
A15: 1 | E15: 26 | I15: 253 | M15: 0 | Q15: 24
A16: 2 | E16: 26 | I16: 245 | M16: 0 | Q16: 21
A17: 3 | E17: 25 | I17: 245 | M17: 0 | Q17: 21
A18: 4 | E18: 24 | I18: 264 | M18: 0 | Q18: 20
A19: 5 | E19: 28 | I19: 277 | M19: 0 | Q19: 18
A20: 6 | E20: 39 | I20: 303 | M20: 0 | Q20: 20
A21: 7 | E21: 38 | I21: 410 | M21: 0 | Q21: 23
A22: 8 | E22: 40 | I22: 506 | M22: 0 | Q22: 36
A23: 9 | E23: 46 | I23: 572 | M23: 0 | Q23: 41
A24: 10 | E24: 49 | I24: 598 | M24: 0 | Q24: 45
A25: 11 | E25: 48 | I25: 584 | M25: 0 | Q25: 46
... A37: 23 | E37: 39 | I37: 305 | M37: 0 | Q37: 18
A38: Итого | E38: =SUM(E14:E37) -> 1119 | I38: =SUM(I14:I37) -> 10267 | M38: =SUM(M14:M37) -> 0 | Q38: =SUM(Q14:Q37) -> 686
A39: 1. При наличии на предприятии отклонений от нормальных режимов электропотребления (временное изменение схем питания, остановка на ремонт, резкое снижение
A40: эл.потребления и т.д.) последние необходимо перечислить.
A41: Главный инженер АО "Вологдаоблэнерго" А.В. Чурляев
A42: составляется самим предприятием с соблюдением всех пунктов настоящей таблицы.

Sheet 34
B1: АО "Вологдаоблэнерго" | J1: код 900151 | N1: ПС "ЦЕНТРАЛЬНАЯ" 110/10/6 кВ
B2: наименование предприятия | N2: наименование источника питания
N3: _________________________________ | O3: РУ-6 кВ
B4: ул. Горького, 99 | I4: Таблица № 1 | O4: ТП 11 | Q4: РП-8
B5: адрес
A6: почасовых записей показаний электрических счетчиков
A7: в режимный день 20 Декабря 2023 г.
A8: 1525
A9: часы суток | B9: Активная энергия | J9: Реактивная энергия
B10: ЯЧ.28 - ТП 11 -ΙΙ | F10: ЯЧ.20 - РП-8 ф11 | J10: ЯЧ.28 - ТП 11 -ΙΙ | N10: ЯЧ.20 - РП-8 ф11
B11: Расчет. Коэф. | E11: 7200 | F11: Расчет. Коэф. | I11: 0 | J11: Расчет. Коэф. | M11: =E11 -> 7200 | N11: Расчет. Коэф. | Q11: =I11 -> 0
B12: показания счетчика | C12: разность | E12: расход эл.энергии за час | F12: показания счетчика | G12: разность | I12: расход эл.энергии за час | J12: показания счетчика | K12: разность | M12: расход эл.энергии за час | N12: показания счетчика | O12: разность | Q12: расход эл.энергии за час
A13: 1 | B13: 2 | C13: 3 | E13: 4 | F13: 5 | G13: 6 | I13: 7 | J13: 8 | K13: 9 | M13: 10 | N13: 11 | O13: 12 | Q13: 13
A14: 0 | E14: 172 | I14: 1192.32 | M14: 22
A15: 1 | E15: 169 | I15: 895.68 | M15: 23
A16: 2 | E16: 160 | I16: 920.16 | M16: 22
A17: 3 | E17: 157 | I17: 857.52 | M17: 20
A18: 4 | E18: 165 | I18: 763.92 | M18: 19
A19: 5 | E19: 179 | I19: 952.56 | M19: 21
A20: 6 | E20: 232 | I20: 1045.44 | M20: 23
A21: 7 | E21: 352 | I21: 1479.6 | M21: 28
A22: 8 | E22: 556 | I22: 1721.52 | M22: 50
A23: 9 | E23: 568 | I23: 1833.84 | M23: 53
A24: 10 | E24: 559 | I24: 1797.12 | M24: 49
A25: 11 | E25: 575 | I25: 1826.64 | M25: 55
... A37: 23 | E37: 175 | I37: 1278.72 | M37: 21
A38: Итого | E38: =SUM(E14:E37) -> 8360 | I38: =SUM(I14:I37) -> 34956.72 | M38: =SUM(M14:M37) -> 848 | Q38: =SUM(Q14:Q37) -> 0
A39: 1. При наличии на предприятии отклонений от нормальных режимов электропотребления (временное изменение схем питания, остановка на ремонт, резкое снижение
A40: эл.потребления и т.д.) последние необходимо перечислить.
A41: Главный инженер АО "Вологдаоблэнерго" А.В. Чурляев
A42: составляется самим предприятием с соблюдением всех пунктов настоящей таблицы.

Sheet 34_1
B1: АО "Вологдаоблэнерго" | J1: код 900151 | N1: ПС "ЦЕНТРАЛЬНАЯ" 110/10 кВ
B2: наименование предприятия | N2: наименование источника питания
N3: _________________________________ | O3: РУ-10 кВ
B4: ул. Горького, 99 | I4: Таблица № 1 | O4: РП-21
B5: адрес
A6: почасовых записей показаний электрических счетчиков
A7: в режимный день 20 Декабря 2023 г.
A8: 911 | B8: 910
A9: часы суток | B9: Активная энергия | J9: Реактивная энергия
B10: ЯЧ.22 - РП 21- Ι | F10: ЯЧ.7 - РП 21- ΙI | J10: ЯЧ.22 - РП 21- Ι | N10: ЯЧ.7 - РП 21- ΙI
B11: Расчет. Коэф. | E11: 7200 | F11: Расчет. Коэф. | I11: 0 | J11: Расчет. Коэф. | M11: =E11 -> 7200 | N11: Расчет. Коэф. | Q11: =I11 -> 0
B12: показания счетчика | C12: разность | E12: расход эл.энергии за час | F12: показания счетчика | G12: разность | I12: расход эл.энергии за час | J12: показания счетчика | K12: разность | M12: расход эл.энергии за час | N12: показания счетчика | O12: разность | Q12: расход эл.энергии за час
A13: 1 | B13: 2 | C13: 3 | E13: 4 | F13: 5 | G13: 6 | I13: 7 | J13: 8 | K13: 9 | M13: 10 | N13: 11 | O13: 12 | Q13: 13
A14: 0 | E14: 379 | I14: 516 | M14: 1 | Q14: 51
A15: 1 | E15: 349 | I15: 493 | M15: 0 | Q15: 49
A16: 2 | E16: 344 | I16: 477 | M16: 0 | Q16: 45
A17: 3 | E17: 343 | I17: 472 | M17: 0 | Q17: 34
A18: 4 | E18: 353 | I18: 503 | M18: 0 | Q18: 24
A19: 5 | E19: 355 | I19: 499 | M19: 0 | Q19: 26
A20: 6 | E20: 388 | I20: 612 | M20: 1 | Q20: 22
A21: 7 | E21: 486 | I21: 787 | M21: 7 | Q21: 25
A22: 8 | E22: 680 | I22: 1128 | M22: 10 | Q22: 43
A23: 9 | E23: 835 | I23: 1364 | M23: 19 | Q23: 44
A24: 10 | E24: 933 | I24: 1466 | M24: 27 | Q24: 44
A25: 11 | E25: 959 | I25: 1575 | M25: 30 | Q25: 54
... A37: 23 | E37: 361 | I37: 574 | M37: 0 | Q37: 33
A38: Итого | E38: =SUM(E14:E37) -> 15185 | I38: =SUM(I14:I37) -> 23768 | M38: =SUM(M14:M37) -> 485 | Q38: =SUM(Q14:Q37) -> 994
A39: 1. При наличии на предприятии отклонений от нормальных режимов электропотребления (временное изменение схем питания, остановка на ремонт, резкое снижение
A40: эл.потребления и т.д.) последние необходимо перечислить.
A41: Главный инженер АО "Вологдаоблэнерго" А.В. Чурляев
A42: составляется самим предприятием с соблюдением всех пунктов настоящей таблицы.

Sheet 35
B1: АО "Вологдаоблэнерго" | J1: код 900151 | N1: ПС "ГОРОДСКАЯ" 35/6 кВ
B2: наименование предприятия | N2: наименование источника питания
N3: _________________________________
B4: ул. Горького, 99 | I4: Таблица № 1 | O4: Т-1, Т-3 (ЗРУ 6 кВ)
B5: адрес
A6: почасовых записей показаний электрических счетчиков
A7: в режимный день 20 Декабря 2023 г.
A8: 300 | B8: 304
A9: часы суток | B9: Активная энергия | J9: Реактивная энергия
B10: Т-1 - ЗРУ Ф.1 ввод № 1 | F10: Т-3 - ЗРУ Ф.20 ввод № 2 . | J10: Т-1 - ЗРУ Ф.1 ввод № 1 | N10: Т-3 - ЗРУ Ф.20 ввод № 2 .
B11: Расчет. Коэф. | E11: 18000 | F11: Расчет. Коэф. | I11: 18000 | J11: Расчет. Коэф. | M11: =E11 -> 18000 | N11: Расчет. Коэф. | Q11: =I11 -> 18000
B12: показания счетчика | C12: разность | E12: расход эл.энергии за час | F12: показания счетчика | G12: разность | I12: расход эл.энергии за час | J12: показания счетчика | K12: разность | M12: расход эл.энергии за час | N12: показания счетчика | O12: разность | Q12: расход эл.энергии за час
A13: 1 | B13: 2 | C13: 3 | E13: 4 | F13: 5 | G13: 6 | I13: 7 | J13: 8 | K13: 9 | M13: 10 | N13: 11 | O13: 12 | Q13: 13
A14: 0 | E14: 1423.8 | I14: 3223.8 | M14: 471.6 | Q14: 973.8
A15: 1 | E15: 1333.8 | I15: 3072.6 | M15: 473.4 | Q15: 990
A16: 2 | E16: 1306.8 | I16: 2962.8 | M16: 455.4 | Q16: 937.8
A17: 3 | E17: 1261.8 | I17: 2890.8 | M17: 430.2 | Q17: 936
A18: 4 | E18: 1269 | I18: 2928.6 | M18: 424.8 | Q18: 896.4
A19: 5 | E19: 1357.2 | I19: 3151.8 | M19: 423 | Q19: 874.8
A20: 6 | E20: 1598.4 | I20: 3627 | M20: 435.6 | Q20: 874.8
A21: 7 | E21: 1929.6 | I21: 4131 | M21: 448.2 | Q21: 896.4
A22: 8 | E22: 2278.8 | I22: 4806 | M22: 511.2 | Q22: 954
A23: 9 | E23: 2361.6 | I23: 5095.8 | M23: 545.4 | Q23: 1008
A24: 10 | E24: 2383.2 | I24: 5207.4 | M24: 556.2 | Q24: 1036.8
A25: 11 | E25: 2305.8 | I25: 5203.8 | M25: 549 | Q25: 1026
... A37: 23 | E37: 1458 | I37: 3596.4 | M37: 439.2 | Q37: 927
A38: Итого | E38: =SUM(E14:E37) -> 45338.4 | I38: =SUM(I14:I37) -> 104434.2 | M38: =SUM(M14:M37) -> 11773.8 | Q38: =SUM(Q14:Q37) -> 23702.4
A39: 1. При наличии на предприятии отклонений от нормальных режимов электропотребления (временное изменение схем питания, остановка на ремонт, резкое снижение
A40: эл.потребления и т.д.) последние необходимо перечислить.
A41: Главный инженер АО "Вологдаоблэнерго" А.В. Чурляев
A42: составляется самим предприятием с соблюдением всех пунктов настоящей таблицы.

Sheet 36
B1: АО "Вологдаоблэнерго" | J1: код 900151 | N1: ПС "ГОРОДСКАЯ" 35/6 кВ
B2: наименование предприятия | N2: наименование источника питания
N3: _________________________________
B4: ул. Горького, 99 | I4: Таблица № 1 | O4: Т-2 (РП 9)
B5: адрес
A6: почасовых записей показаний электрических счетчиков
A7: в режимный день 20 Декабря 2023 г.
A8: 297
A9: часы суток | B9: Активная энергия | J9: Реактивная энергия
B10: Т-2 - РП 9 ф. 11 | J10: Т-2 - РП 9 ф. 11
B11: Расчет. Коэф. | E11: 7200 | F11: Расчет. Коэф. | I11: 0 | J11: Расчет. Коэф. | M11: =E11 -> 7200 | N11: Расчет. Коэф. | Q11: 0
B12: показания счетчика | C12: разность | E12: расход эл.энергии за час | F12: показания счетчика | G12: разность | I12: расход эл.энергии за час | J12: показания счетчика | K12: разность | M12: расход эл.энергии за час | N12: показания счетчика | O12: разность | Q12: расход эл.энергии за час
A13: 1 | B13: 2 | C13: 3 | E13: 4 | F13: 5 | G13: 6 | I13: 7 | J13: 8 | K13: 9 | M13: 10 | N13: 11 | O13: 12 | Q13: 13
A14: 0 | E14: 930.24 | M14: 4.32
A15: 1 | E15: 848.88 | M15: 1.44
A16: 2 | E16: 812.88 | M16: 2.88
A17: 3 | E17: 789.84 | M17: 2.16
A18: 4 | E18: 792 | M18: 2.88
A19: 5 | E19: 858.24 | M19: 0.72
A20: 6 | E20: 1041.12 | M20: 2.88
A21: 7 | E21: 1197.36 | M21: 5.04
A22: 8 | E22: 1385.28 | M22: 14.4
A23: 9 | E23: 1465.2 | M23: 25.92
A24: 10 | E24: 1518.48 | M24: 25.2
A25: 11 | E25: 1499.04 | M25: 20.16
... A37: 23 | E37: 1008 | M37: 2.88
A38: Итого | E38: =SUM(E14:E37) -> 29947.68 | I38: =SUM(I14:I37) -> 0 | M38: =SUM(M14:M37) -> 168.48 | Q38: =SUM(Q14:Q37) -> 0
A39: 1. При наличии на предприятии отклонений от нормальных режимов электропотребления (временное изменение схем питания, остановка на ремонт, резкое снижение
A40: эл.потребления и т.д.) последние необходимо перечислить.
A41: Главный инженер АО "Вологдаоблэнерго" А.В. Чурляев
A42: составляется самим предприятием с соблюдением всех пунктов настоящей таблицы.

Sheet 37
B1: АО "Вологдаоблэнерго" | J1: код 900151 | N1: ПС "ВОСТОЧНАЯ" 110/35/10 кВ
B2: наименование предприятия | N2: наименование источника питания
N3: _________________________________
B4: ул. Горького, 99 | I4: Таблица № 1 | O4: РП 39
B5: адрес
A6: почасовых записей показаний электрических счетчиков
A7: в режимный день 20 Декабря 2023 г.
A8: 1633 | B8: 1634
A9: часы суток | B9: Активная энергия | J9: Реактивная энергия
B10: ЯЧ.№2 - "РП 39-1" | F10: ЯЧ.№ 21 - "РП 39-2" | J10: ЯЧ.№2 - "РП 39-1" | N10: ЯЧ.№ 21 - "РП 39-2"
B11: Расчет. Коэф. | E11: 8000 | F11: Расчет. Коэф. | I11: 6000 | J11: Расчет. Коэф. | M11: =E11 -> 8000 | N11: Расчет. Коэф. | Q11: =I11 -> 6000
B12: показания счетчика | C12: разность | E12: расход эл.энергии за час | F12: показания счетчика | G12: разность | I12: расход эл.энергии за час | J12: показания счетчика | K12: разность | M12: расход эл.энергии за час | N12: показания счетчика | O12: разность | Q12: расход эл.энергии за час
A13: 1 | B13: 2 | C13: 3 | E13: 4 | F13: 5 | G13: 6 | I13: 7 | J13: 8 | K13: 9 | M13: 10 | N13: 11 | O13: 12 | Q13: 13
A14: 0 | E14: 932 | I14: 1178 | M14: 73 | Q14: 210
A15: 1 | E15: 737 | I15: 1104 | M15: 12 | Q15: 213
A16: 2 | E16: 714 | I16: 1042 | M16: 4 | Q16: 204
A17: 3 | E17: 726 | I17: 823 | M17: 0 | Q17: 120
A18: 4 | E18: 740 | I18: 808 | M18: 1 | Q18: 105
A19: 5 | E19: 734 | I19: 990 | M19: 1 | Q19: 143
A20: 6 | E20: 834 | I20: 1347 | M20: 0 | Q20: 205
A21: 7 | E21: 979 | I21: 1315 | M21: 10 | Q21: 173
A22: 8 | E22: 1045 | I22: 1265 | M22: 46 | Q22: 125
A23: 9 | E23: 535 | I23: 1589 | M23: 0 | Q23: 206
A24: 10 | E24: 403 | I24: 1744 | M24: 9 | Q24: 219
A25: 11 | E25: 284 | I25: 1773 | M25: 47 | Q25: 189
... A37: 23 | E37: 493 | I37: 1372 | M37: 0 | Q37: 228
A38: Итого | E38: =SUM(E14:E37) -> 12224 | I38: =SUM(I14:I37) -> 37825 | M38: =SUM(M14:M37) -> 514 | Q38: =SUM(Q14:Q37) -> 4991
A39: 1. При наличии на предприятии отклонений от нормальных режимов электропотребления (временное изменение схем питания, остановка на ремонт, резкое снижение
A40: эл.потребления и т.д.) последние необходимо перечислить.
A41: Главный инженер АО "Вологдаоблэнерго" А.В. Чурляев
A42: составляется самим предприятием с соблюдением всех пунктов настоящей таблицы.

Sheet 38
B1: АО "Вологдаоблэнерго" | J1: код 900151 | N1: ПС "ВОСТОЧНАЯ" 110/35/10 кВ
B2: наименование предприятия | N2: наименование источника питания
N3: _________________________________
B4: ул. Горького, 99 | I4: Таблица № 1 | O4: РП 30
B5: адрес
A6: почасовых записей показаний электрических счетчиков
A7: в режимный день 20 Декабря 2023 г.
A8: 1637 | B8: 1638
A9: часы суток | B9: Активная энергия | J9: Реактивная энергия
B10: ЯЧ.№15 - "РМЗ-1" | F10: ЯЧ.№32 - "РМЗ-2" | J10: ЯЧ.№15 - "РМЗ-1" | N10: ЯЧ.№32 - "РМЗ-2"
B11: Расчет. Коэф. | E11: 8000 | F11: Расчет. Коэф. | I11: 8000 | J11: Расчет. Коэф. | M11: =E11 -> 8000 | N11: Расчет. Коэф. | Q11: =I11 -> 8000
B12: показания счетчика | C12: разность | E12: расход эл.энергии за час | F12: показания счетчика | G12: разность | I12: расход эл.энергии за час | J12: показания счетчика | K12: разность | M12: расход эл.энергии за час | N12: показания счетчика | O12: разность | Q12: расход эл.энергии за час
A13: 1 | B13: 2 | C13: 3 | E13: 4 | F13: 5 | G13: 6 | I13: 7 | J13: 8 | K13: 9 | M13: 10 | N13: 11 | O13: 12 | Q13: 13
A14: 0 | E14: 1563 | I14: 1646 | M14: 262 | Q14: 411
A15: 1 | E15: 1452 | I15: 1599 | M15: 244 | Q15: 393
A16: 2 | E16: 1377 | I16: 1579 | M16: 217 | Q16: 402
A17: 3 | E17: 1343 | I17: 1548 | M17: 206 | Q17: 385
A18: 4 | E18: 1356 | I18: 1537 | M18: 203 | Q18: 356
A19: 5 | E19: 1567 | I19: 1601 | M19: 205 | Q19: 350
A20: 6 | E20: 1840 | I20: 1804 | M20: 231 | Q20: 378
A21: 7 | E21: 1990 | I21: 2019 | M21: 277 | Q21: 461
A22: 8 | E22: 2203 | I22: 2616 | M22: 323 | Q22: 895
A23: 9 | E23: 2270 | I23: 2759 | M23: 374 | Q23: 1054
A24: 10 | E24: 2339 | I24: 2674 | M24: 377 | Q24: 974
A25: 11 | E25: 2371 | I25: 2751 | M25: 378 | Q25: 1036
... A37: 23 | E37: 1705 | I37: 1628 | M37: 275 | Q37: 339
A38: Итого | E38: =SUM(E14:E37) -> 48708 | I38: =SUM(I14:I37) -> 50950 | M38: =SUM(M14:M37) -> 7234 | Q38: =SUM(Q14:Q37) -> 15129
A39: 1. При наличии на предприятии отклонений от нормальных режимов электропотребления (временное изменение схем питания, остановка на ремонт, резкое снижение
A40: эл.потребления и т.д.) последние необходимо перечислить.
A41: Главный инженер АО "Вологдаоблэнерго" А.В. Чурляев
A42: составляется самим предприятием с соблюдением всех пунктов настоящей таблицы.

Sheet 39
B1: АО "Вологдаоблэнерго" | J1: код 900151 | N1: ПС "ВОСТОЧНАЯ" 110/35/10 кВ
B2: наименование предприятия | N2: наименование источника питания
N3: _________________________________
B4: ул. Горького, 99 | I4: Таблица № 1 | O4: РП 31
B5: адрес
A6: почасовых записей показаний электрических счетчиков
A7: в режимный день 20 Декабря 2023 г.
A8: 1635 | B8: 1636
A9: часы суток | B9: Активная энергия | J9: Реактивная энергия
B10: ЯЧ. № 11- "ГОРОД-1" | F10: ЯЧ. № 28- "ГОРОД-2" | J10: ЯЧ. № 11- "ГОРОД-1" | N10: ЯЧ. № 28- "ГОРОД-2"
B11: Расчет. Коэф. | E11: 12000 | F11: Расчет. Коэф. | I11: 12000 | J11: Расчет. Коэф. | M11: =E11 -> 12000 | N11: Расчет. Коэф. | Q11: =I11 -> 12000
B12: показания счетчика | C12: разность | E12: расход эл.энергии за час | F12: показания счетчика | G12: разность | I12: расход эл.энергии за час | J12: показания счетчика | K12: разность | M12: расход эл.энергии за час | N12: показания счетчика | O12: разность | Q12: расход эл.энергии за час
A13: 1 | B13: 2 | C13: 3 | E13: 4 | F13: 5 | G13: 6 | I13: 7 | J13: 8 | K13: 9 | M13: 10 | N13: 11 | O13: 12 | Q13: 13
A14: 0 | E14: 2 | I14: 2504 | M14: 1 | Q14: 510
A15: 1 | E15: 0 | I15: 2370 | M15: 3 | Q15: 498
A16: 2 | E16: 0 | I16: 2275 | M16: 0 | Q16: 481
A17: 3 | E17: 0 | I17: 2237 | M17: 4 | Q17: 468
A18: 4 | E18: 0 | I18: 2302 | M18: 0 | Q18: 450
A19: 5 | E19: 0 | I19: 2622 | M19: 5 | Q19: 472
A20: 6 | E20: 0 | I20: 3044 | M20: 2 | Q20: 513
A21: 7 | E21: 1 | I21: 3541 | M21: 7 | Q21: 705
A22: 8 | E22: 1 | I22: 3900 | M22: 9 | Q22: 828
A23: 9 | E23: 0 | I23: 3936 | M23: 9 | Q23: 906
A24: 10 | E24: 2 | I24: 3907 | M24: 11 | Q24: 936
A25: 11 | E25: 4 | I25: 3862 | M25: 11 | Q25: 810
... A37: 23 | E37: 0 | I37: 2855 | M37: 4 | Q37: 528
A38: Итого | E38: =SUM(E14:E37) -> 26 | I38: =SUM(I14:I37) -> 80525 | M38: =SUM(M14:M37) -> 156 | Q38: =SUM(Q14:Q37) -> 16129
A39: 1. При наличии на предприятии отклонений от нормальных режимов электропотребления (временное изменение схем питания, остановка на ремонт, резкое снижение
A40: эл.потребления и т.д.) последние необходимо перечислить.
A41: Главный инженер АО "Вологдаоблэнерго" А.В. Чурляев
A42: составляется самим предприятием с соблюдением всех пунктов настоящей таблицы.

Sheet 39_1
B1: АО "Вологдаоблэнерго" | J1: код 900151 | N1: ПС "ВОСТОЧНАЯ" 110/35/10 кВ
B2: наименование предприятия | N2: наименование источника питания
N3: _________________________________
B4: ул. Горького, 99 | I4: Таблица № 1 | O4: ТП-561-2
B5: адрес
A6: почасовых записей показаний электрических счетчиков
A7: в режимный день 20 Декабря 2023 г.
A8: 1737
A9: часы суток | B9: Активная энергия | J9: Реактивная энергия
B10: ЯЧ. № 5- "ГОРОД-3" | J10: ЯЧ. № 5- "ГОРОД-3"
B11: Расчет. Коэф. | F11: Расчет. Коэф. | J11: Расчет. Коэф. | N11: Расчет. Коэф.
B12: показания счетчика | C12: разность | E12: расход эл.энергии за час | F12: показания счетчика | G12: разность | I12: расход эл.энергии за час | J12: показания счетчика | K12: разность | M12: расход эл.энергии за час | N12: показания счетчика | O12: разность | Q12: расход эл.энергии за час
A13: 1 | B13: 2 | C13: 3 | E13: 4 | F13: 5 | G13: 6 | I13: 7 | J13: 8 | K13: 9 | M13: 10 | N13: 11 | O13: 12 | Q13: 13
A14: 0 | E14: 930.6
A15: 1 | E15: 847.2
A16: 2 | E16: 805.8
A17: 3 | E17: 776.4
A18: 4 | E18: 784.8
A19: 5 | E19: 903
A20: 6 | E20: 1122
A21: 7 | E21: 1274.4
A22: 8 | E22: 1317
A23: 9 | E23: 1374.6
A24: 10 | E24: 1397.4
A25: 11 | E25: 1401.6
... A37: 23 | E37: 1131.6
A38: Итого | E38: =SUM(E14:E37) -> 31706.4 | I38: =SUM(I14:I37) -> 0 | M38: =SUM(M14:M37) -> 0 | Q38: =SUM(Q14:Q37) -> 0
A39: 1. При наличии на предприятии отклонений от нормальных режимов электропотребления (временное изменение схем питания, остановка на ремонт, резкое снижение
A40: эл.потребления и т.д.) последние необходимо перечислить.
A41: Главный инженер АО "Вологдаоблэнерго" А.В. Чурляев
A42: составляется самим предприятием с соблюдением всех пунктов настоящей таблицы.

Sheet 40
B1: АО "Вологдаоблэнерго" | J1: код 900151 | N1: ПС "ЛУГОВАЯ"
B2: наименование предприятия | N2: наименование источника питания
N3: _________________________________
B4: ул. Горького, 99 | I4: Таблица № 1 | O4: РП 19
B5: адрес
A6: почасовых записей показаний электрических счетчиков
A7: в режимный день 20 Декабря 2023 г.
A8: 1516 | B8: 1514
A9: часы суток | B9: Активная энергия | J9: Реактивная энергия
B10: ЯЧ. 23 - ф "ГОРОД-2 | F10: ЯЧ. 2 - ф "ГОРОД-3" | J10: ЯЧ. 23 - ф "ГОРОД-2 | N10: ЯЧ. 2 - ф "ГОРОД-3"
B11: Расчет. Коэф. | E11: 12000 | F11: Расчет. Коэф. | I11: 12000 | J11: Расчет. Коэф. | M11: =E11 -> 12000 | N11: Расчет. Коэф. | Q11: =I11 -> 12000
B12: показания счетчика | C12: разность | E12: расход эл.энергии за час | F12: показания счетчика | G12: разность | I12: расход эл.энергии за час | J12: показания счетчика | K12: разность | M12: расход эл.энергии за час | N12: показания счетчика | O12: разность | Q12: расход эл.энергии за час
A13: 1 | B13: 2 | C13: 3 | E13: 4 | F13: 5 | G13: 6 | I13: 7 | J13: 8 | K13: 9 | M13: 10 | N13: 11 | O13: 12 | Q13: 13
A14: 0 | E14: 2215 | I14: 2186 | M14: 310 | Q14: 0
A15: 1 | E15: 2071 | I15: 2009 | M15: 302 | Q15: 0
A16: 2 | E16: 2006 | I16: 1906 | M16: 283 | Q16: 0
A17: 3 | E17: 1966 | I17: 1865 | M17: 269 | Q17: 0
A18: 4 | E18: 2018 | I18: 1953 | M18: 252 | Q18: 0
A19: 5 | E19: 2230 | I19: 2263 | M19: 255 | Q19: 0
A20: 6 | E20: 2597 | I20: 2619 | M20: 268 | Q20: 0
A21: 7 | E21: 2837 | I21: 2889 | M21: 296 | Q21: 0
A22: 8 | E22: 3172 | I22: 3118 | M22: 345 | Q22: 0
A23: 9 | E23: 3264 | I23: 3158 | M23: 391 | Q23: 0
A24: 10 | E24: 3320 | I24: 3130 | M24: 396 | Q24: 0
A25: 11 | E25: 3074 | I25: 3206 | M25: 360 | Q25: 0
... A37: 23 | E37: 2208 | I37: 3060 | M37: 279 | Q37: 0
A38: Итого | E38: =SUM(E14:E37) -> 71092 | I38: =SUM(I14:I37) -> 73375 | M38: =SUM(M14:M37) -> 7798 | Q38: =SUM(Q14:Q37) -> 0
A39: 1. При наличии на предприятии отклонений от нормальных режимов электропотребления (временное изменение схем питания, остановка на ремонт, резкое снижение
A40: эл.потребления и т.д.) последние необходимо перечислить.
A41: Главный инженер АО "Вологдаоблэнерго" А.В. Чурляев
A42: составляется самим предприятием с соблюдением всех пунктов настоящей таблицы.

Sheet 40 _1
B1: АО "Вологдаоблэнерго" | J1: код 900151 | N1: ПС "ЛУГОВАЯ"
B2: наименование предприятия | N2: наименование источника питания
N3: _________________________________
B4: ул. Горького, 99 | I4: Таблица № 1 | O4: ТП-1080
B5: адрес
A6: почасовых записей показаний электрических счетчиков
A7: в режимный день 20 Декабря 2023 г.
A8: 1516 | B8: 1514
A9: часы суток | B9: Активная энергия | J9: Реактивная энергия
B10: ЯЧ. 0 - ф "ГОРОД-5 | F10: ЯЧ. 27 - ф ГОРОД-6 | J10: ЯЧ. 0 - ф "ГОРОД-5 | N10: ЯЧ. 27 - ф ГОРОД-6
B11: Расчет. Коэф. | E11: 12000 | F11: Расчет. Коэф. | I11: 12000 | J11: Расчет. Коэф. | M11: =E11 -> 12000 | N11: Расчет. Коэф. | Q11: =I11 -> 12000
B12: показания счетчика | C12: разность | E12: расход эл.энергии за час | F12: показания счетчика | G12: разность | I12: расход эл.энергии за час | J12: показания счетчика | K12: разность | M12: расход эл.энергии за час | N12: показания счетчика | O12: разность | Q12: расход эл.энергии за час
A13: 1 | B13: 2 | C13: 3 | E13: 4 | F13: 5 | G13: 6 | I13: 7 | J13: 8 | K13: 9 | M13: 10 | N13: 11 | O13: 12 | Q13: 13
A14: 0 | E14: 64 | I14: 0
A15: 1 | E15: 60.4 | I15: 0
A16: 2 | E16: 58 | I16: 0
A17: 3 | E17: 56 | I17: 0
A18: 4 | E18: 55.6 | I18: 0
A19: 5 | E19: 58 | I19: 0
A20: 6 | E20: 68 | I20: 0
A21: 7 | E21: 68.8 | I21: 0
A22: 8 | E22: 69.2 | I22: 0
A23: 9 | E23: 67.2 | I23: 0
A24: 10 | E24: 70 | I24: 0
A25: 11 | E25: 72.4 | I25: 0
... A37: 23 | E37: 69.6 | I37: 0
A38: Итого | E38: =SUM(E14:E37) -> 1762.4 | I38: =SUM(I14:I37) -> 0 | M38: =SUM(M14:M37) -> 0 | Q38: =SUM(Q14:Q37) -> 0
A39: 1. При наличии на предприятии отклонений от нормальных режимов электропотребления (временное изменение схем питания, остановка на ремонт, резкое снижение
A40: эл.потребления и т.д.) последние необходимо перечислить.
A41: Главный инженер АО "Вологдаоблэнерго" А.В. Чурляев
A42: составляется самим предприятием с соблюдением всех пунктов настоящей таблицы.

Sheet 41
B1: АО "Вологдаоблэнерго" | J1: код 900151 | N1: ПС "ЛУГОВАЯ"
B2: наименование предприятия | N2: наименование источника питания
N3: _________________________________
B4: ул. Горького, 99 | I4: Таблица № 1 | O4: РП 38
B5: адрес
A6: почасовых записей показаний электрических счетчиков
A7: в режимный день 20 Декабря 2023 г.
A8: 1515 | B8: 1517
A9: часы суток | B9: Активная энергия | J9: Реактивная энергия
B10: ЯЧ.10 - ф "ГОРОД-1" | F10: ЯЧ.25 - ф "ГОРОД-4" | J10: ЯЧ.10 - ф "ГОРОД-1" | N10: ЯЧ.25 - ф "ГОРОД-4"
B11: Расчет. Коэф. | E11: 12000 | F11: Расчет. Коэф. | I11: 12000 | J11: Расчет. Коэф. | M11: =E11 -> 12000 | N11: Расчет. Коэф. | Q11: =I11 -> 12000
B12: показания счетчика | C12: разность | E12: расход эл.энергии за час | F12: показания счетчика | G12: разность | I12: расход эл.энергии за час | J12: показания счетчика | K12: разность | M12: расход эл.энергии за час | N12: показания счетчика | O12: разность | Q12: расход эл.энергии за час
A13: 1 | B13: 2 | C13: 3 | E13: 4 | F13: 5 | G13: 6 | I13: 7 | J13: 8 | K13: 9 | M13: 10 | N13: 11 | O13: 12 | Q13: 13
A14: 0 | E14: 1188 | I14: 855 | M14: 44 | Q14: 62
A15: 1 | E15: 1106 | I15: 801 | M15: 48 | Q15: 65
A16: 2 | E16: 1066 | I16: 780 | M16: 33 | Q16: 55
A17: 3 | E17: 1046 | I17: 768 | M17: 29 | Q17: 46
A18: 4 | E18: 1023 | I18: 728 | M18: 24 | Q18: 26
A19: 5 | E19: 1142 | I19: 763 | M19: 19 | Q19: 26
A20: 6 | E20: 1366 | I20: 914 | M20: 31 | Q20: 34
A21: 7 | E21: 1504 | I21: 1051 | M21: 77 | Q21: 50
A22: 8 | E22: 1608 | I22: 1107 | M22: 120 | Q22: 34
A23: 9 | E23: 1635 | I23: 1142 | M23: 115 | Q23: 46
A24: 10 | E24: 1675 | I24: 1219 | M24: 120 | Q24: 57
A25: 11 | E25: 1644 | I25: 1265 | M25: 99 | Q25: 55
... A37: 23 | E37: 1185 | I37: 830 | M37: 65 | Q37: 70
A38: Итого | E38: =SUM(E14:E37) -> 36566 | I38: =SUM(I14:I37) -> 22584 | M38: =SUM(M14:M37) -> 1947 | Q38: =SUM(Q14:Q37) -> 1308
A39: 1. При наличии на предприятии отклонений от нормальных режимов электропотребления (временное изменение схем питания, остановка на ремонт, резкое снижение
A40: эл.потребления и т.д.) последние необходимо перечислить.
A41: Главный инженер АО "Вологдаоблэнерго" А.В. Чурляев
A42: составляется самим предприятием с соблюдением всех пунктов настоящей таблицы.

Sheet 41_1
B1: АО "Вологдаоблэнерго" | J1: код 900151 | N1: ПС "ЛУГОВАЯ"
B2: наименование предприятия | N2: наименование источника питания
N3: _________________________________ | O3: ВЛ 10 кВ ф Родина
B4: ул. Горького, 99 | I4: Таблица № 1 | O4: КТП-663
B5: адрес
A6: почасовых записей показаний электрических счетчиков
A7: в режимный день 20 Декабря 2023 г.
A8: 336
A9: часы суток | B9: Активная энергия | J9: Реактивная энергия
B10: ф.Родина - КТП-663 | J10: ф.Родина - КТП-663
B11: Расчет. Коэф. | E11: 40 | F11: Расчет. Коэф. | J11: Расчет. Коэф. | M11: 40 | N11: Расчет. Коэф.
B12: показания счетчика | C12: разность | E12: расход эл.энергии за час | F12: показания счетчика | G12: разность | I12: расход эл.энергии за час | J12: показания счетчика | K12: разность | M12: расход эл.энергии за час | N12: показания счетчика | O12: разность | Q12: расход эл.энергии за час
A13: 1 | B13: 2 | C13: 3 | E13: 4 | F13: 5 | G13: 6 | I13: 7 | J13: 8 | K13: 9 | M13: 10 | N13: 11 | O13: 12 | Q13: 13
A14: 0 | E14: 19.04 | M14: 3.94
A15: 1 | E15: 18.02 | M15: 3.62
A16: 2 | E16: 18.94 | M16: 3.84
A17: 3 | E17: 19.98 | M17: 3.3
A18: 4 | E18: 17.18 | M18: 3.2
A19: 5 | E19: 19.26 | M19: 3.5
A20: 6 | E20: 20.84 | M20: 3.98
A21: 7 | E21: 20.8 | M21: 4.1
A22: 8 | E22: 27.62 | M22: 4.98
A23: 9 | E23: 29.86 | M23: 5.56
A24: 10 | E24: 33.56 | M24: 5.9
A25: 11 | E25: 39.72 | M25: 7.52
... A37: 23 | E37: 18.38 | M37: 3.96
A38: Итого | E38: =SUM(E14:E37) -> 639.98 | I38: =SUM(I14:I37) -> 0 | M38: =SUM(M14:M37) -> 127.98 | Q38: =SUM(Q14:Q37) -> 0
A39: 1. При наличии на предприятии отклонений от нормальных режимов электропотребления (временное изменение схем питания, остановка на ремонт, резкое снижение
A40: эл.потребления и т.д.) последние необходимо перечислить.
A41: Главный инженер АО "Вологдаоблэнерго" А.В. Чурляев
A42: составляется самим предприятием с соблюдением всех пунктов настоящей таблицы.

Sheet 42
B1: АО "Вологдаоблэнерго" | J1: код 900151 | N1: РП "ГОРКА"
B2: наименование предприятия | N2: наименование источника питания
N3: _________________________________
B4: ул. Горького, 99 | I4: Таблица № 1 | O4: ВЛ - 10кВ № 37
B5: адрес
A6: почасовых записей показаний электрических счетчиков
A7: в режимный день 20 Декабря 2023 г.
A8: 1528 | B8: 1527
A9: часы суток | B9: Активная энергия | J9: Реактивная энергия
B10: ЯЧ. 4 - ф,"ЛОСТА-1" | F10: ЯЧ. 8 - ф."ЛОСТА-2" | J10: ЯЧ. 4 - ф,"ЛОСТА-1" | N10: ЯЧ. 8 - ф."ЛОСТА-2"
B11: Расчет. Коэф. | E11: 2000 | F11: Расчет. Коэф. | I11: 2000 | J11: Расчет. Коэф. | M11: =E11 -> 2000 | N11: Расчет. Коэф. | Q11: =I11 -> 2000
B12: показания счетчика | C12: разность | E12: расход эл.энергии за час | F12: показания счетчика | G12: разность | I12: расход эл.энергии за час | J12: показания счетчика | K12: разность | M12: расход эл.энергии за час | N12: показания счетчика | O12: разность | Q12: расход эл.энергии за час
A13: 1 | B13: 2 | C13: 3 | E13: 4 | F13: 5 | G13: 6 | I13: 7 | J13: 8 | K13: 9 | M13: 10 | N13: 11 | O13: 12 | Q13: 13
A14: 0 | E14: 79 | I14: 291 | M14: 33 | Q14: 119
A15: 1 | E15: 82 | I15: 264 | M15: 35 | Q15: 119
A16: 2 | E16: 76 | I16: 249 | M16: 32 | Q16: 112
A17: 3 | E17: 75 | I17: 245 | M17: 32 | Q17: 111
A18: 4 | E18: 76 | I18: 242 | M18: 29 | Q18: 106
A19: 5 | E19: 75 | I19: 265 | M19: 30 | Q19: 106
A20: 6 | E20: 75 | I20: 346 | M20: 30 | Q20: 108
A21: 7 | E21: 100 | I21: 411 | M21: 38 | Q21: 116
A22: 8 | E22: 294 | I22: 436 | M22: 156 | Q22: 126
A23: 9 | E23: 292 | I23: 425 | M23: 155 | Q23: 135
A24: 10 | E24: 281 | I24: 407 | M24: 141 | Q24: 134
A25: 11 | E25: 291 | I25: 409 | M25: 156 | Q25: 137
... A37: 23 | E37: 234 | I37: 338 | M37: 109 | Q37: 118
A38: Итого | E38: =SUM(E14:E37) -> 4849 | I38: =SUM(I14:I37) -> 9332 | M38: =SUM(M14:M37) -> 2277 | Q38: =SUM(Q14:Q37) -> 2955
A39: 1. При наличии на предприятии отклонений от нормальных режимов электропотребления (временное изменение схем питания, остановка на ремонт, резкое снижение
A40: эл.потребления и т.д.) последние необходимо перечислить.
A41: Главный инженер АО "Вологдаоблэнерго" А.В. Чурляев
A42: составляется самим предприятием с соблюдением всех пунктов настоящей таблицы.

Sheet 43
B1: АО "Вологдаоблэнерго" | J1: код 900151 | N1: ГПП 2 ЗАО ВПЗ
B2: наименование предприятия | N2: наименование источника питания
N3: _________________________________
B4: ул. Горького, 99 | I4: Таблица № 1 | N4: ПКУ | O4: ВЛ 10 кВ № 8
B5: адрес
A6: почасовых записей показаний электрических счетчиков
A7: в режимный день 20 Декабря 2023 г.
A8: 618
A9: часы суток | B9: Активная энергия | J9: Реактивная энергия
B10: ЯЧ. 53 - ВЛ № 8 | J10: ЯЧ. 53 - ВЛ № 8
B11: Расчет. Коэф. | E11: 3000 | F11: Расчет. Коэф. | I11: 0 | J11: Расчет. Коэф. | M11: =E11 -> 3000 | N11: Расчет. Коэф. | Q11: =I11 -> 0
B12: показания счетчика | C12: разность | E12: расход эл.энергии за час | F12: показания счетчика | G12: разность | I12: расход эл.энергии за час | J12: показания счетчика | K12: разность | M12: расход эл.энергии за час | N12: показания счетчика | O12: разность | Q12: расход эл.энергии за час
A13: 1 | B13: 2 | C13: 3 | E13: 4 | F13: 5 | G13: 6 | I13: 7 | J13: 8 | K13: 9 | M13: 10 | N13: 11 | O13: 12 | Q13: 13
A14: 0 | E14: 335 | M14: 152
A15: 1 | E15: 337 | M15: 153
A16: 2 | E16: 324 | M16: 147
A17: 3 | E17: 321 | M17: 137
A18: 4 | E18: 329 | M18: 137
A19: 5 | E19: 324 | M19: 133
A20: 6 | E20: 336 | M20: 135
A21: 7 | E21: 442 | M21: 209
A22: 8 | E22: 599 | M22: 354
A23: 9 | E23: 610 | M23: 371
A24: 10 | E24: 559 | M24: 311
A25: 11 | E25: 566 | M25: 322
... A37: 23 | E37: 350 | M37: 166
A38: Итого | E38: =SUM(E14:E37) -> 10644 | I38: =SUM(I14:I37) -> 0 | M38: =SUM(M14:M37) -> 5525 | Q38: =SUM(Q14:Q37) -> 0
A39: 1. При наличии на предприятии отклонений от нормальных режимов электропотребления (временное изменение схем питания, остановка на ремонт, резкое снижение
A40: эл.потребления и т.д.) последние необходимо перечислить.
A41: Главный инженер АО "Вологдаоблэнерго" А.В. Чурляев
A42: составляется самим предприятием с соблюдением всех пунктов настоящей таблицы.

Sheet 44
B1: АО "Вологдаоблэнерго" | J1: код 900151 | N1: ГПП 2 220/10 кВ "ЗАО ВПЗ"
B2: наименование предприятия | N2: наименование источника питания
N3: _________________________________
B4: ул. Горького, 99 | I4: Таблица № 1 | O4: ТП 535; ТП 536
B5: адрес
A6: почасовых записей показаний электрических счетчиков
A7: в режимный день 20 Декабря 2023 г.
A8: 616 | B8: 617
A9: часы суток | B9: Активная энергия | J9: Реактивная энергия
B10: ЯЧ. 6 - ТП 535 | F10: ЯЧ. 24 - ТП 536 | J10: ЯЧ. 6 - ТП 535 | N10: ЯЧ. 24 - ТП 536
B11: Расчет. Коэф. | E11: 6000 | F11: Расчет. Коэф. | I11: 6000 | J11: Расчет. Коэф. | M11: =E11 -> 6000 | N11: Расчет. Коэф. | Q11: =I11 -> 6000
B12: показания счетчика | C12: разность | E12: расход эл.энергии за час | F12: показания счетчика | G12: разность | I12: расход эл.энергии за час | J12: показания счетчика | K12: разность | M12: расход эл.энергии за час | N12: показания счетчика | O12: разность | Q12: расход эл.энергии за час
A13: 1 | B13: 2 | C13: 3 | E13: 4 | F13: 5 | G13: 6 | I13: 7 | J13: 8 | K13: 9 | M13: 10 | N13: 11 | O13: 12 | Q13: 13
A14: 0 | E14: 937 | I14: 692 | M14: 144 | Q14: 83
A15: 1 | E15: 882 | I15: 635 | M15: 143 | Q15: 79
A16: 2 | E16: 863 | I16: 603 | M16: 132 | Q16: 69
A17: 3 | E17: 857 | I17: 592 | M17: 130 | Q17: 66
A18: 4 | E18: 940 | I18: 618 | M18: 125 | Q18: 65
A19: 5 | E19: 1026 | I19: 696 | M19: 134 | Q19: 67
A20: 6 | E20: 1139 | I20: 857 | M20: 150 | Q20: 72
A21: 7 | E21: 1311 | I21: 1037 | M21: 180 | Q21: 133
A22: 8 | E22: 1442 | I22: 1240 | M22: 213 | Q22: 221
A23: 9 | E23: 1489 | I23: 1350 | M23: 242 | Q23: 251
A24: 10 | E24: 1467 | I24: 1352 | M24: 246 | Q24: 250
A25: 11 | E25: 1416 | I25: 1356 | M25: 229 | Q25: 244
... A37: 23 | E37: 1056 | I37: 768 | M37: 153 | Q37: 86
A38: Итого | E38: =SUM(E14:E37) -> 31368 | I38: =SUM(I14:I37) -> 25560 | M38: =SUM(M14:M37) -> 4783 | Q38: =SUM(Q14:Q37) -> 3717
A39: 1. При наличии на предприятии отклонений от нормальных режимов электропотребления (временное изменение схем питания, остановка на ремонт, резкое снижение
A40: эл.потребления и т.д.) последние необходимо перечислить.
A41: Главный инженер АО "Вологдаоблэнерго" А.В. Чурляев
A42: составляется самим предприятием с соблюдением всех пунктов настоящей таблицы.

Sheet 45
B1: АО "Вологдаоблэнерго" | J1: код 900151 | N1: ГПП 1 110/10 кВ "ЗАО ВПЗ"
B2: наименование предприятия | N2: наименование источника питания
N3: _________________________________
B4: ул. Горького, 99 | I4: Таблица № 1 | O4: РП42
B5: адрес
A6: почасовых записей показаний электрических счетчиков
A7: в режимный день 20 Декабря 2023 г.
A8: 606 | B8: 607
A9: часы суток | B9: Активная энергия | J9: Реактивная энергия
B10: ЯЧ. 10 - РП42 ф.1 | F10: ЯЧ. 34 - РП42 ф.6 | J10: ЯЧ. 10 - РП42 ф.1 | N10: ЯЧ. 34 - РП42 ф.6
B11: Расчет. Коэф. | E11: 8000 | F11: Расчет. Коэф. | I11: 8000 | J11: Расчет. Коэф. | M11: =E11 -> 8000 | N11: Расчет. Коэф. | Q11: =I11 -> 8000
B12: показания счетчика | C12: разность | E12: расход эл.энергии за час | F12: показания счетчика | G12: разность | I12: расход эл.энергии за час | J12: показания счетчика | K12: разность | M12: расход эл.энергии за час | N12: показания счетчика | O12: разность | Q12: расход эл.энергии за час
A13: 1 | B13: 2 | C13: 3 | E13: 4 | F13: 5 | G13: 6 | I13: 7 | J13: 8 | K13: 9 | M13: 10 | N13: 11 | O13: 12 | Q13: 13
A14: 0 | E14: 633 | I14: 1234 | M14: 4 | Q14: 156
A15: 1 | E15: 588 | I15: 1215 | M15: 3 | Q15: 163
A16: 2 | E16: 552 | I16: 1157 | M16: 1 | Q16: 149
A17: 3 | E17: 550 | I17: 1128 | M17: 0 | Q17: 137
A18: 4 | E18: 556 | I18: 1133 | M18: 0 | Q18: 128
A19: 5 | E19: 673 | I19: 1207 | M19: 0 | Q19: 128
A20: 6 | E20: 787 | I20: 1448 | M20: 0 | Q20: 140
A21: 7 | E21: 914 | I21: 1633 | M21: 1 | Q21: 172
A22: 8 | E22: 1120 | I22: 1922 | M22: 39 | Q22: 164
A23: 9 | E23: 1233 | I23: 2071 | M23: 45 | Q23: 160
A24: 10 | E24: 1207 | I24: 2168 | M24: 49 | Q24: 168
A25: 11 | E25: 1213 | I25: 2167 | M25: 24 | Q25: 172
... A37: 23 | E37: 772 | I37: 1467 | M37: 0 | Q37: 155
A38: Итого | E38: =SUM(E14:E37) -> 24197 | I38: =SUM(I14:I37) -> 43814 | M38: =SUM(M14:M37) -> 230 | Q38: =SUM(Q14:Q37) -> 3918
A39: 1. При наличии на предприятии отклонений от нормальных режимов электропотребления (временное изменение схем питания, остановка на ремонт, резкое снижение
A40: эл.потребления и т.д.) последние необходимо перечислить.
A41: Главный инженер АО "Вологдаоблэнерго" А.В. Чурляев
A42: составляется самим предприятием с соблюдением всех пунктов настоящей таблицы.

Sheet свод.табл.3 г.Вологда
G1: код 900151
B2: Таблица № 3
A4: сводных данных режимного дня 20 Декабря 2023 г.
A6: о потреблении электрической энергии по АО "Вологдаоблэнерго"
A7: в режимный день 20 Декабря 2023 г.
A8: г. ВОЛОГДА
A10: часы суток | B10: Активная энергия | E10: Реактивная энергия
B11: Суммарный расход эл.энергии по всем вводам | C11: Суммарный расход эл.энергии всеми сторонними потребителями | D11: Расход эл.энергии предприятием (2-3) | E11: Суммарный расход эл.энергии по всем вводам | F11: Суммарный расход эл.энергии всеми сторонними потребителями | G11: Расход эл.энергии предприятием (5-6)
A12: 1 | B12: 2 | C12: 3 | D12: 4 | E12: 5 | F12: 6 | G12: 7
A13: 0 | B13: =SUM('1:45'!E14,'1:45'!I14) -> 71937.495 | D13: =B13 -> 71937.495 | E13: =SUM('1:45'!M14,'1:45'!Q14) -> 10189.314 | G13: =E13 -> 10189.314
A14: 1 | B14: =SUM('1:45'!E15,'1:45'!I15) -> 67484.292 | D14: =B14 -> 67484.292 | E14: =SUM('1:45'!M15,'1:45'!Q15) -> 10032.13 | G14: =E14 -> 10032.13
A15: 2 | B15: =SUM('1:45'!E16,'1:45'!I16) -> 65450.081 | D15: =B15 -> 65450.081 | E15: =SUM('1:45'!M16,'1:45'!Q16) -> 9581.174 | G15: =E15 -> 9581.174
A16: 3 | B16: =SUM('1:45'!E17,'1:45'!I17) -> 64217.21 | D16: =B16 -> 64217.21 | E16: =SUM('1:45'!M17,'1:45'!Q17) -> 9230.062 | G16: =E16 -> 9230.062
A17: 4 | B17: =SUM('1:45'!E18,'1:45'!I18) -> 65142.094 | D17: =B17 -> 65142.094 | E17: =SUM('1:45'!M18,'1:45'!Q18) -> 8792.012 | G17: =E17 -> 8792.012
A18: 5 | B18: =SUM('1:45'!E19,'1:45'!I19) -> 71145.092 | D18: =B18 -> 71145.092 | E18: =SUM('1:45'!M19,'1:45'!Q19) -> 9029.522 | G18: =E18 -> 9029.522
A19: 6 | B19: =SUM('1:45'!E20,'1:45'!I20) -> 82830.702 | D19: =B19 -> 82830.702 | E19: =SUM('1:45'!M20,'1:45'!Q20) -> 9564.634 | G19: =E19 -> 9564.634
A20: 7 | B20: =SUM('1:45'!E21,'1:45'!I21) -> 95883.123 | D20: =B20 -> 95883.123 | E20: =SUM('1:45'!M21,'1:45'!Q21) -> 11249.166 | G20: =E20 -> 11249.166
A21: 8 | B21: =SUM('1:45'!E22,'1:45'!I22) -> 109616.23 | D21: =B21 -> 109616.23 | E21: =SUM('1:45'!M22,'1:45'!Q22) -> 13736.39 | G21: =E21 -> 13736.39
A22: 9 | B22: =SUM('1:45'!E23,'1:45'!I23) -> 115536.57 | D22: =B22 -> 115536.57 | E22: =SUM('1:45'!M23,'1:45'!Q23) -> 15090.34 | G22: =E22 -> 15090.34
A23: 10 | B23: =SUM('1:45'!E24,J11) -> 56170.823 | D23: =B23 -> 56170.823 | E23: =SUM('1:45'!M24,'1:45'!Q24) -> 15144.754 | G23: =E23 -> 15144.754
A24: 11 | B24: =SUM('1:45'!E25,'1:45'!I25) -> 116605.63 | D24: =B24 -> 116605.63 | E24: =SUM('1:45'!M25,'1:45'!Q25) -> 14917.188 | G24: =E24 -> 14917.188
A25: 12 | B25: =SUM('1:45'!E26,'1:45'!I26) -> 114866.67 | D25: =B25 -> 114866.67 | E25: =SUM('1:45'!M26,'1:45'!Q26) -> 14389.446 | G25: =E25 -> 14389.446
A26: 13 | B26: =SUM('1:45'!E27,'1:45'!I27) -> 114095.85 | D26: =B26 -> 114095.85 | E26: =SUM('1:45'!M27,'1:45'!Q27) -> 14854.956 | G26: =E26 -> 14854.956
A27: 14 | B27: =SUM('1:45'!E28,'1:45'!I28) -> 114511.73 | D27: =B27 -> 114511.73 | E27: =SUM('1:45'!M28,'1:45'!Q28) -> 14845.8 | G27: =E27 -> 14845.8
A28: 15 | B28: =SUM('1:45'!E29,'1:45'!I29) -> 116269.9 | D28: =B28 -> 116269.9 | E28: =SUM('1:45'!M29,'1:45'!Q29) -> 14367.31 | G28: =E28 -> 14367.31
A29: 16 | B29: =SUM('1:45'!E30,'1:45'!I30) -> 118765.29 | D29: =B29 -> 118765.29 | E29: =SUM('1:45'!M30,'1:45'!Q30) -> 13983.796 | G29: =E29 -> 13983.796
A30: 17 | B30: =SUM('1:45'!E31,'1:45'!I31) -> 116347.58 | D30: =B30 -> 116347.58 | E30: =SUM('1:45'!M31,'1:45'!Q31) -> 13020.078 | G30: =E30 -> 13020.078
A31: 18 | B31: =SUM('1:45'!E32,'1:45'!I32) -> 115627.44 | D31: =B31 -> 115627.44 | E31: =SUM('1:45'!M32,'1:45'!Q32) -> 12450.512 | G31: =E31 -> 12450.512
A32: 19 | B32: =SUM('1:45'!E33,'1:45'!I33) -> 112701.85 | D32: =B32 -> 112701.85 | E32: =SUM('1:45'!M33,'1:45'!Q33) -> 12176.654 | G32: =E32 -> 12176.654
A33: 20 | B33: =SUM('1:45'!E34,'1:45'!I34) -> 107428.35 | D33: =B33 -> 107428.35 | E33: =SUM('1:45'!M34,'1:45'!Q34) -> 12128.612 | G33: =E33 -> 12128.612
A34: 21 | B34: =SUM('1:45'!E35,'1:45'!I35) -> 100604.13 | D34: =B34 -> 100604.13 | E34: =SUM('1:45'!M35,'1:45'!Q35) -> 11469.348 | G34: =E34 -> 11469.348
A35: 22 | B35: =SUM('1:45'!E36,'1:45'!I36) -> 90978.674 | D35: =B35 -> 90978.674 | E35: =SUM('1:45'!M36,'1:45'!Q36) -> 11000.412 | G35: =E35 -> 11000.412
A36: 23 | B36: =SUM('1:45'!E37,'1:45'!I37) -> 79716.367 | D36: =B36 -> 79716.367 | E36: =SUM('1:45'!M37,'1:45'!Q37) -> 10088.904 | G36: =E36 -> 10088.904
A37: Итого | D37: =SUM(D13:D36) -> 2283933.2 | G37: =SUM(G13:G36) -> 291332.51
A41: Главный инженер АО "Вологдаоблэнерго" А.В. Чурляев
D47: =MAX(D14:D37) -> 2283933.2 | G47: =MAX(G14:G37) -> 291332.51

Sheet 46
B1: АО "Вологдаоблэнерго" | J1: код 900151 | N1: ПС 110 кВ "Кубенское"
B2: наименование предприятия | N2: наименование источника питания
B3: уч-к "Кубенское" | N3: _________________________________
B4: ул. Горького, 99 | I4: Таблица № 1 | O4: ф.СПТУ, ф. Кубенское ПКУ
B5: адрес
A6: почасовых записей показаний электрических счетчиков
A7: в режимный день 20 Декабря 2023 г.
A8: 1640 | B8: 411
A9: часы суток | B9: Активная энергия | J9: Реактивная энергия
B10: яч..8 - ф.СПТУ | F10: яч.9 - ф.Кубенское ПКУ | J10: яч..8 - ф.СПТУ | N10: яч.9 - ф.Кубенское ПКУ
B11: Расчет. Коэф. | E11: 3000 | F11: Расчет. Коэф. | I11: 1500 | J11: Расчет. Коэф. | M11: 3000 | N11: Расчет. Коэф. | Q11: 1500
B12: показания счетчика | C12: разность | E12: расход эл.энергии за час | F12: показания счетчика | G12: разность | I12: расход эл.энергии за час | J12: показания счетчика | K12: разность | M12: расход эл.энергии за час | N12: показания счетчика | O12: разность | Q12: расход эл.энергии за час
A13: 1 | B13: 2 | C13: 3 | E13: 4 | F13: 5 | G13: 6 | I13: 7 | J13: 8 | K13: 9 | M13: 10 | N13: 11 | O13: 12 | Q13: 13
A14: 0 | E14: 225 | I14: 254.4 | M14: 111 | Q14: 86.55
A15: 1 | E15: 218 | I15: 245.85 | M15: 110 | Q15: 85.65
A16: 2 | E16: 216 | I16: 233.85 | M16: 111 | Q16: 82.65
A17: 3 | E17: 214 | I17: 230.25 | M17: 108 | Q17: 80.4
A18: 4 | E18: 221 | I18: 236.55 | M18: 102 | Q18: 75.6
A19: 5 | E19: 247 | I19: 247.8 | M19: 103 | Q19: 77.7
A20: 6 | E20: 325 | I20: 279.9 | M20: 103 | Q20: 76.2
A21: 7 | E21: 379 | I21: 299.4 | M21: 110 | Q21: 75
A22: 8 | E22: 399 | I22: 324.15 | M22: 114 | Q22: 94.95
A23: 9 | E23: 400 | I23: 330.15 | M23: 118 | Q23: 117
A24: 10 | E24: 402 | I24: 330.15 | M24: 117 | Q24: 129.3
A25: 11 | E25: 378 | I25: 342 | M25: 116 | Q25: 133.05
... A37: 23 | E37: 243 | I37: 291.45 | M37: 109 | Q37: 96.15
A38: Итого | E38: =SUM(E14:E37) -> 7556 | I38: =SUM(I14:I37) -> 7637.25 | M38: =SUM(M14:M37) -> 2746 | Q38: =SUM(Q14:Q37) -> 2600.4
A39: 1. При наличии на предприятии отклонений от нормальных режимов электропотребления (временное изменение схем питания, остановка на ремонт, резкое снижение
A40: эл.потребления и т.д.) последние необходимо перечислить.
A41: Главный инженер АО "Вологдаоблэнерго" А.В. Чурляев
A42: составляется самим предприятием с соблюдением всех пунктов настоящей таблицы.

Sheet 47
B1: АО "Вологдаоблэнерго" | J1: код 900151 | N1: ПС "Молочное" 35/10 кВ
B2: наименование предприятия | N2: наименование источника питания
B3: уч-к п. Молочное | N3: _________________________________
B4: ул. Горького, 99 | I4: Таблица № 1
B5: адрес
A6: почасовых записей показаний электрических счетчиков
A7: в режимный день 20 Декабря 2023 г.
A8: 1450 | B8: 1449
A9: часы суток | B9: Активная энергия | J9: Реактивная энергия
B10: яч.17 - ф.Молочное-1 | F10: яч.12 - ф.Молочное-2 | J10: яч.17 - ф.Молочное-1 | N10: яч.12 - ф.Молочное-2
B11: Расчет. Коэф. | E11: 3000 | F11: Расчет. Коэф. | I11: 3000 | J11: Расчет. Коэф. | M11: 3000 | N11: Расчет. Коэф. | Q11: 3000
B12: показания счетчика | C12: разность | E12: расход эл.энергии за час | F12: показания счетчика | G12: разность | I12: расход эл.энергии за час | J12: показания счетчика | K12: разность | M12: расход эл.энергии за час | N12: показания счетчика | O12: разность | Q12: расход эл.энергии за час
A13: 1 | B13: 2 | C13: 3 | E13: 4 | F13: 5 | G13: 6 | I13: 7 | J13: 8 | K13: 9 | M13: 10 | N13: 11 | O13: 12 | Q13: 13
A14: 0 | E14: 333 | I14: 124 | M14: 89 | Q14: 31
A15: 1 | E15: 315 | I15: 102 | M15: 90 | Q15: 54
A16: 2 | E16: 310 | I16: 121 | M16: 88 | Q16: 49
A17: 3 | E17: 309 | I17: 100 | M17: 89 | Q17: 48
A18: 4 | E18: 312 | I18: 106 | M18: 85 | Q18: 46
A19: 5 | E19: 391 | I19: 126 | M19: 89 | Q19: 25
A20: 6 | E20: 480 | I20: 133 | M20: 96 | Q20: 55
A21: 7 | E21: 556 | I21: 163 | M21: 108 | Q21: 50
A22: 8 | E22: 579 | I22: 176 | M22: 116 | Q22: 62
A23: 9 | E23: 612 | I23: 166 | M23: 119 | Q23: 55
A24: 10 | E24: 553 | I24: 188 | M24: 118 | Q24: 38
A25: 11 | E25: 502 | I25: 167 | M25: 115 | Q25: 65
... A37: 23 | E37: 344 | I37: 107 | M37: 93 | Q37: 50
A38: Итого | E38: =SUM(E14:E37) -> 10922 | I38: =SUM(I14:I37) -> 3360 | M38: =SUM(M14:M37) -> 2448 | Q38: =SUM(Q14:Q37) -> 1236
A39: 1. При наличии на предприятии отклонений от нормальных режимов электропотребления (временное изменение схем питания, остановка на ремонт, резкое снижение
A40: эл.потребления и т.д.) последние необходимо перечислить.
A41: Главный инженер АО "Вологдаоблэнерго" А.В. Чурляев
A42: составляется самим предприятием с соблюдением всех пунктов настоящей таблицы.

Sheet 48
B1: АО "Вологдаоблэнерго" | J1: код 900151 | N1: ПС "Молочное" 35/10 кВ
B2: наименование предприятия | N2: наименование источника питания
B3: уч-к п. Молочное | N3: _________________________________
B4: ул. Горького, 99 | I4: Таблица № 1
B5: адрес
A6: почасовых записей показаний электрических счетчиков
A7: в режимный день 20 Декабря 2023 г.
A8: 1451 | B8: 1448
A9: часы суток | B9: Активная энергия | J9: Реактивная энергия
B10: яч 18 - ф.Молочное-3 | F10: яч 10. - ф.Очистные | J10: яч. 18 - ф.Молочное-3 | N10: яч 10 - ф.Очистные
B11: Расчет. Коэф. | E11: 3000 | F11: Расчет. Коэф. | I11: 2000 | J11: Расчет. Коэф. | M11: 3000 | N11: Расчет. Коэф. | Q11: 2000
B12: показания счетчика | C12: разность | E12: расход эл.энергии за час | F12: показания счетчика | G12: разность | I12: расход эл.энергии за час | J12: показания счетчика | K12: разность | M12: расход эл.энергии за час | N12: показания счетчика | O12: разность | Q12: расход эл.энергии за час
A13: 1 | B13: 2 | C13: 3 | E13: 4 | F13: 5 | G13: 6 | I13: 7 | J13: 8 | K13: 9 | M13: 10 | N13: 11 | O13: 12 | Q13: 13
A14: 0 | E14: 578 | I14: 399 | M14: 139 | Q14: 73
A15: 1 | E15: 538 | I15: 394 | M15: 126 | Q15: 86
A16: 2 | E16: 516 | I16: 385 | M16: 119 | Q16: 87
A17: 3 | E17: 501 | I17: 380 | M17: 120 | Q17: 64
A18: 4 | E18: 523 | I18: 393 | M18: 123 | Q18: 69
A19: 5 | E19: 580 | I19: 438 | M19: 123 | Q19: 87
A20: 6 | E20: 649 | I20: 462 | M20: 123 | Q20: 82
A21: 7 | E21: 757 | I21: 496 | M21: 133 | Q21: 79
A22: 8 | E22: 865 | I22: 547 | M22: 167 | Q22: 93
A23: 9 | E23: 912 | I23: 583 | M23: 182 | Q23: 114
A24: 10 | E24: 946 | I24: 594 | M24: 195 | Q24: 120
A25: 11 | E25: 908 | I25: 566 | M25: 182 | Q25: 106
... A37: 23 | E37: 618 | I37: 446 | M37: 149 | Q37: 78
A38: Итого | E38: =SUM(E14:E37) -> 18530 | I38: =SUM(I14:I37) -> 12236 | M38: =SUM(M14:M37) -> 3837 | Q38: =SUM(Q14:Q37) -> 2242
A39: 1. При наличии на предприятии отклонений от нормальных режимов электропотребления (временное изменение схем питания, остановка на ремонт, резкое снижение
A40: эл.потребления и т.д.) последние необходимо перечислить.
A41: Главный инженер АО "Вологдаоблэнерго" А.В. Чурляев
A42: составляется самим предприятием с соблюдением всех пунктов настоящей таблицы.

Sheet 48_1
B1: АО "Вологдаоблэнерго" | J1: код 900151 | N1: ПС "Молочное" 35/10 кВ
B2: наименование предприятия | N2: наименование источника питания
B3: уч-к п. Молочное | N3: _________________ф. Ивлево, ф. Майский ________________
B4: ул. Горького, 99 | I4: Таблица № 1
B5: адрес
A6: почасовых записей показаний электрических счетчиков
A7: в режимный день 20 Декабря 2023 г.
A8: 624 | B8: 633
A9: часы суток | B9: Активная энергия | J9: Реактивная энергия
B10: ф. Ивлево, ф. Майский - ТП-28 Т1 | F10: ф. Ивлево, ф. Майский - ТП28 Т2 | J10: ф. Ивлево, ф. Майский - ТП-28 Т1 | N10: ф. Ивлево, ф. Майский - ТП28 Т2
B11: Расчет. Коэф. | E11: 120 | F11: Расчет. Коэф. | I11: 120 | J11: Расчет. Коэф. | M11: 120 | N11: Расчет. Коэф. | Q11: 120
B12: показания счетчика | C12: разность | E12: расход эл.энергии за час | F12: показания счетчика | G12: разность | I12: расход эл.энергии за час | J12: показания счетчика | K12: разность | M12: расход эл.энергии за час | N12: показания счетчика | O12: разность | Q12: расход эл.энергии за час
A13: 1 | B13: 2 | C13: 3 | E13: 4 | F13: 5 | G13: 6 | I13: 7 | J13: 8 | K13: 9 | M13: 10 | N13: 11 | O13: 12 | Q13: 13
A14: 0
A15: 1
A16: 2
A17: 3
A18: 4
A19: 5
A20: 6
A21: 7
A22: 8
A23: 9
A24: 10
A25: 11
... A37: 23
A38: Итого | E38: =SUM(E14:E37) -> 0 | I38: =SUM(I14:I37) -> 0 | M38: =SUM(M14:M37) -> 0 | Q38: =SUM(Q14:Q37) -> 0
A39: 1. При наличии на предприятии отклонений от нормальных режимов электропотребления (временное изменение схем питания, остановка на ремонт, резкое снижение
A40: эл.потребления и т.д.) последние необходимо перечислить.
A41: Главный инженер АО "Вологдаоблэнерго" А.В. Чурляев
A42: составляется самим предприятием с соблюдением всех пунктов настоящей таблицы.

Sheet 48_2
B1: АО "Вологдаоблэнерго" | J1: код 900151 | N1: ПС "Молочное" 35/10 кВ
B2: наименование предприятия | N2: наименование источника питания
B3: уч-к п. Молочное | N3: __ф. Ивлево, ф. Майский, ф. Искра
B4: ул. Горького, 99 | I4: Таблица № 1
B5: адрес
A6: почасовых записей показаний электрических счетчиков
A7: в режимный день 20 Декабря 2023 г.
A8: 621
A9: часы суток | B9: Активная энергия | J9: Реактивная энергия
B10: ф. Ивлево, ф. Майский - ТП27 Т1 | F10: ф.Искра - КТП-22 | J10: ф. Ивлево, ф. Майский - ТП27 Т1 | N10: ф.Искра - КТП-22
B11: Расчет. Коэф. | F11: Расчет. Коэф. | J11: Расчет. Коэф. | N11: Расчет. Коэф.
B12: показания счетчика | C12: разность | E12: расход эл.энергии за час | F12: показания счетчика | G12: разность | I12: расход эл.энергии за час | J12: показания счетчика | K12: разность | M12: расход эл.энергии за час | N12: показания счетчика | O12: разность | Q12: расход эл.энергии за час
A13: 1 | B13: 2 | C13: 3 | E13: 4 | F13: 5 | G13: 6 | I13: 7 | J13: 8 | K13: 9 | M13: 10 | N13: 11 | O13: 12 | Q13: 13
A14: 0 | I14: 0 | Q14: 0
A15: 1 | I15: 0 | Q15: 0
A16: 2 | I16: 0 | Q16: 0
A17: 3 | I17: 0 | Q17: 0
A18: 4 | I18: 0 | Q18: 0
A19: 5 | I19: 0 | Q19: 0
A20: 6 | I20: 0 | Q20: 0
A21: 7 | I21: 0 | Q21: 0
A22: 8 | I22: 0 | Q22: 0
A23: 9 | I23: 0 | Q23: 0
A24: 10 | I24: 0 | Q24: 0
A25: 11 | I25: 0 | Q25: 0
... A37: 23 | I37: 0 | Q37: 0
A38: Итого | E38: =SUM(E14:E37) -> 0 | I38: =SUM(I14:I37) -> 0 | M38: =SUM(M14:M37) -> 0 | Q38: =SUM(Q14:Q37) -> 0
A39: 1. При наличии на предприятии отклонений от нормальных режимов электропотребления (временное изменение схем питания, остановка на ремонт, резкое снижение
A40: эл.потребления и т.д.) последние необходимо перечислить.
A41: Главный инженер АО "Вологдаоблэнерго" А.В. Чурляев
A42: составляется самим предприятием с соблюдением всех пунктов настоящей таблицы.

Sheet 48_3
B1: АО "Вологдаоблэнерго" | J1: код 900151 | N1: ПС "Молочное" 35/10 кВ
B2: наименование предприятия | N2: наименование источника питания
B3: уч-к п. Молочное | N3: ______ВЛ 10 кВ ф. Красная Звезда ______
B4: ул. Горького, 99 | I4: Таблица № 1
B5: адрес
A6: почасовых записей показаний электрических счетчиков
A7: в режимный день 20 Декабря 2023 г.
A8: 621
A9: часы суток | B9: Активная энергия | J9: Реактивная энергия
B10: ф. Красная Звезда - КТП-297 | J10: ф. Красная Звезда - КТП-297
B11: Расчет. Коэф. | F11: Расчет. Коэф. | J11: Расчет. Коэф. | N11: Расчет. Коэф.
B12: показания счетчика | C12: разность | E12: расход эл.энергии за час | F12: показания счетчика | G12: разность | I12: расход эл.энергии за час | J12: показания счетчика | K12: разность | M12: расход эл.энергии за час | N12: показания счетчика | O12: разность | Q12: расход эл.энергии за час
A13: 1 | B13: 2 | C13: 3 | E13: 4 | F13: 5 | G13: 6 | I13: 7 | J13: 8 | K13: 9 | M13: 10 | N13: 11 | O13: 12 | Q13: 13
A14: 0
A15: 1
A16: 2
A17: 3
A18: 4
A19: 5
A20: 6
A21: 7
A22: 8
A23: 9
A24: 10
A25: 11
... A37: 23
A38: Итого | E38: =SUM(E14:E37) -> 0 | I38: =SUM(I14:I37) -> 0 | M38: =SUM(M14:M37) -> 0 | Q38: =SUM(Q14:Q37) -> 0
A39: 1. При наличии на предприятии отклонений от нормальных режимов электропотребления (временное изменение схем питания, остановка на ремонт, резкое снижение
A40: эл.потребления и т.д.) последние необходимо перечислить.
A41: Главный инженер АО "Вологдаоблэнерго" А.В. Чурляев
A42: составляется самим предприятием с соблюдением всех пунктов настоящей таблицы.

Sheet 49
B1: АО "Вологдаоблэнерго" | J1: код 900151 | N1: РТП "КОРНИЛОВО" 35/10 кВ
B2: наименование предприятия | N2: наименование источника питания
B3: уч-к "Устье-Кубенское" | N3: _________________________________
B4: ул. Горького, 99 | I4: Таблица № 1
B5: адрес
A6: почасовых записей показаний электрических счетчиков
A7: в режимный день 20 Декабря 2023 г.
A8: 1639
A9: часы суток | B9: Активная энергия | J9: Реактивная энергия
B10: ф. "КОММУНАЛЬНЫЙ" | J10: ф. "КОММУНАЛЬНЫЙ"
B11: Расчет. Коэф. | E11: 2000 | F11: Расчет. Коэф. | I11: 0 | J11: Расчет. Коэф. | M11: 2000 | N11: Расчет. Коэф. | Q11: 0
B12: показания счетчика | C12: разность | E12: расход эл.энергии за час | F12: показания счетчика | G12: разность | I12: расход эл.энергии за час | J12: показания счетчика | K12: разность | M12: расход эл.энергии за час | N12: показания счетчика | O12: разность | Q12: расход эл.энергии за час
A13: 1 | B13: 2 | C13: 3 | E13: 4 | F13: 5 | G13: 6 | I13: 7 | J13: 8 | K13: 9 | M13: 10 | N13: 11 | O13: 12 | Q13: 13
A14: 0 | E14: 353.2 | M14: 144
A15: 1 | E15: 346 | M15: 143
A16: 2 | E16: 336.2 | M16: 137
A17: 3 | E17: 335 | M17: 137
A18: 4 | E18: 330.2 | M18: 132
A19: 5 | E19: 343.2 | M19: 133
A20: 6 | E20: 378.8 | M20: 134
A21: 7 | E21: 425.6 | M21: 137
A22: 8 | E22: 487.4 | M22: 167
A23: 9 | E23: 515.8 | M23: 195
A24: 10 | E24: 507.8 | M24: 193
A25: 11 | E25: 539.8 | M25: 226
... A37: 23 | E37: 381.8 | M37: 131
A38: Итого | E38: =SUM(E14:E37) -> 10809 | I38: =SUM(I14:I37) -> 0 | M38: =SUM(M14:M37) -> 3931 | Q38: =SUM(Q14:Q37) -> 0
A41: Главный инженер АО "Вологдаоблэнерго" А.В. Чурляев

Sheet 50
B1: АО "Вологдаоблэнерго" | J1: код 900151 | N1: РТП "КОРНИЛОВО" 35/10 кВ
B2: наименование предприятия | N2: наименование источника питания
B3: уч-к "Устье-Кубенское" | N3: _________________________________
B4: ул. Горького, 99 | I4: Таблица № 1
B5: адрес
A6: почасовых записей показаний электрических счетчиков
A7: в режимный день 20 Декабря 2023 г.
A8: 393 | B8: 392
A9: часы суток | B9: Активная энергия | J9: Реактивная энергия
B10: ф. "УСТЬЕ" ПКУ | F10: ф. "СХТ" | J10: ф. "УСТЬЕ" ПКУ | N10: ф. "СХТ"
B11: Расчет. Коэф. | E11: 3000 | F11: Расчет. Коэф. | I11: 2000 | J11: Расчет. Коэф. | M11: =E11 -> 3000 | N11: Расчет. Коэф. | Q11: 2000
B12: показания счетчика | C12: разность | E12: расход эл.энергии за час | F12: показания счетчика | G12: разность | I12: расход эл.энергии за час | J12: показания счетчика | K12: разность | M12: расход эл.энергии за час | N12: показания счетчика | O12: разность | Q12: расход эл.энергии за час
A13: 1 | B13: 2 | C13: 3 | E13: 4 | F13: 5 | G13: 6 | I13: 7 | J13: 8 | K13: 9 | M13: 10 | N13: 11 | O13: 12 | Q13: 13
A14: 0 | E14: 391.8 | I14: 157.4 | M14: 189.3 | Q14: 73.6
A15: 1 | E15: 372 | I15: 152.2 | M15: 186.6 | Q15: 75.8
A16: 2 | E16: 383.7 | I16: 148.6 | M16: 185.4 | Q16: 72.8
A17: 3 | E17: 387 | I17: 144.4 | M17: 182.7 | Q17: 69.4
A18: 4 | E18: 408.9 | I18: 145.8 | M18: 173.1 | Q18: 70.6
A19: 5 | E19: 503.7 | I19: 168.4 | M19: 181.2 | Q19: 71.6
A20: 6 | E20: 534.3 | I20: 205.4 | M20: 186 | Q20: 72
A21: 7 | E21: 576 | I21: 250.6 | M21: 192.3 | Q21: 72.8
A22: 8 | E22: 620.7 | I22: 228.8 | M22: 176.4 | Q22: 67.2
A23: 9 | E23: 618.9 | I23: 221.2 | M23: 172.8 | Q23: 69.6
A24: 10 | E24: 634.5 | I24: 208.6 | M24: 179.1 | Q24: 69.6
A25: 11 | E25: 623.7 | I25: 208.8 | M25: 185.1 | Q25: 71
... A37: 23 | E37: 444.9 | I37: 170.4 | M37: 185.4 | Q37: 70
A38: Итого | E38: =SUM(E14:E37) -> 12824.7 | I38: =SUM(I14:I37) -> 4892.4 | M38: =SUM(M14:M37) -> 4520.4 | Q38: =SUM(Q14:Q37) -> 1731.8
A39: 1. При наличии на предприятии отклонений от нормальных режимов электропотребления (временное изменение схем питания, остановка на ремонт, резкое снижение
A40: эл.потребления и т.д.) последние необходимо перечислить.
A41: Главный инженер АО "Вологдаоблэнерго" А.В. Чурляев
A42: составляется самим предприятием с соблюдением всех пунктов настоящей таблицы.

Sheet 50-1
B1: АО "Вологдаоблэнерго" | J1: код 900151 | N1: РТП "КОРНИЛОВО" 35/10 кВ
B2: наименование предприятия | N2: наименование источника питания
B3: уч-к "Устье-Кубенское" | N3: _________________________________
B4: ул. Горького, 99 | I4: Таблица № 1
B5: адрес
A6: почасовых записей показаний электрических счетчиков
A7: в режимный день 20 Декабря 2023 г.
A8: 389 | B8: 388
A9: часы суток | B9: Активная энергия | J9: Реактивная энергия
B10: ф.7 - КТП-21 | F10: ф.7 - КТП-16 | J10: ф.7 - КТП-21 | N10: ф.7 - КТП-16
B11: Расчет. Коэф. | E11: 30 | F11: Расчет. Коэф. | I11: 40 | J11: Расчет. Коэф. | M11: =E11 -> 30 | N11: Расчет. Коэф. | Q11: 40
B12: показания счетчика | C12: разность | E12: расход эл.энергии за час | F12: показания счетчика | G12: разность | I12: расход эл.энергии за час | J12: показания счетчика | K12: разность | M12: расход эл.энергии за час | N12: показания счетчика | O12: разность | Q12: расход эл.энергии за час
A13: 1 | B13: 2 | C13: 3 | E13: 4 | F13: 5 | G13: 6 | I13: 7 | J13: 8 | K13: 9 | M13: 10 | N13: 11 | O13: 12 | Q13: 13
A14: 0 | E14: 25.8 | I14: 8.72 | M14: 9.39 | Q14: 3.52
A15: 1 | E15: 25.68 | I15: 7.92 | M15: 8.985 | Q15: 3.54
A16: 2 | E16: 24.39 | I16: 7.76 | M16: 8.88 | Q16: 3.68
A17: 3 | E17: 24.87 | I17: 7.7 | M17: 8.775 | Q17: 3.76
A18: 4 | E18: 24.87 | I18: 7.3 | M18: 8.94 | Q18: 3.46
A19: 5 | E19: 27.48 | I19: 8.22 | M19: 8.865 | Q19: 3.72
A20: 6 | E20: 35.58 | I20: 9.08 | M20: 8.46 | Q20: 3.52
A21: 7 | E21: 37.8 | I21: 9.16 | M21: 9.15 | Q21: 3.4
A22: 8 | E22: 32.46 | I22: 10.2 | M22: 8.52 | Q22: 3.54
A23: 9 | E23: 30.885 | I23: 10.44 | M23: 8.865 | Q23: 3.94
A24: 10 | E24: 33.27 | I24: 9.66 | M24: 8.775 | Q24: 3.3
A25: 11 | E25: 31.29 | I25: 10.3 | M25: 10.35 | Q25: 3.94
... A37: 23 | E37: 28.89 | I37: 9.64 | M37: 9.075 | Q37: 3.92
A38: Итого | E38: =SUM(E14:E37) -> 777.57 | I38: =SUM(I14:I37) -> 233.14 | M38: =SUM(M14:M37) -> 227.7 | Q38: =SUM(Q14:Q37) -> 89.28
A39: 1. При наличии на предприятии отклонений от нормальных режимов электропотребления (временное изменение схем питания, остановка на ремонт, резкое снижение
A40: эл.потребления и т.д.) последние необходимо перечислить.
A41: Главный инженер АО "Вологдаоблэнерго" А.В. Чурляев
A42: составляется самим предприятием с соблюдением всех пунктов настоящей таблицы.

Sheet 50-2
B1: АО "Вологдаоблэнерго" | J1: код 900151 | N1: РТП "КОРНИЛОВО" 35/10 кВ
B2: наименование предприятия | N2: наименование источника питания
B3: уч-к "Устье-Кубенское" | N3: _________________________________
B4: ул. Горького, 99 | I4: Таблица № 1
B5: адрес
A6: почасовых записей показаний электрических счетчиков
A7: в режимный день 20 Декабря 2023 г.
A8: 390 | B8: 391
A9: часы суток | B9: Активная энергия | J9: Реактивная энергия
B10: ф.7 - КТП-4 | F10: ф.14 - ТП-24 | J10: ф.7 - КТП-4 | N10: ф.14 - ТП-24
B11: Расчет. Коэф. | E11: 60 | F11: Расчет. Коэф. | I11: 40 | J11: Расчет. Коэф. | M11: =E11 -> 60 | N11: Расчет. Коэф. | Q11: 40
B12: показания счетчика | C12: разность | E12: расход эл.энергии за час | F12: показания счетчика | G12: разность | I12: расход эл.энергии за час | J12: показания счетчика | K12: разность | M12: расход эл.энергии за час | N12: показания счетчика | O12: разность | Q12: расход эл.энергии за час
A13: 1 | B13: 2 | C13: 3 | E13: 4 | F13: 5 | G13: 6 | I13: 7 | J13: 8 | K13: 9 | M13: 10 | N13: 11 | O13: 12 | Q13: 13
A14: 0 | E14: 28.476 | I14: 42.24 | M14: 6.456 | Q14: 10.584
A15: 1 | E15: 27.48 | I15: 36.256 | M15: 6.468 | Q15: 9.448
A16: 2 | E16: 26.796 | I16: 34.288 | M16: 6.804 | Q16: 8.536
A17: 3 | E17: 26.412 | I17: 31.56 | M17: 6.396 | Q17: 5.112
A18: 4 | E18: 26.052 | I18: 30.216 | M18: 6.54 | Q18: 2.168
A19: 5 | E19: 26.076 | I19: 28.912 | M19: 6.312 | Q19: 2.232
A20: 6 | E20: 25.944 | I20: 29.056 | M20: 6.144 | Q20: 1.8
A21: 7 | E21: 30.036 | I21: 29.952 | M21: 6.468 | Q21: 1.904
A22: 8 | E22: 30.732 | I22: 30.76 | M22: 6.276 | Q22: 2.392
A23: 9 | E23: 31.476 | I23: 33.032 | M23: 6.204 | Q23: 5.64
A24: 10 | E24: 28.176 | I24: 34.056 | M24: 5.172 | Q24: 9.384
A25: 11 | E25: 28.908 | I25: 30.584 | M25: 5.7 | Q25: 6.888
... A37: 23 | E37: 31.116 | I37: 38.032 | M37: 7.176 | Q37: 9.224
A38: Итого | E38: =SUM(E14:E37) -> 750 | I38: =SUM(I14:I37) -> 795.04 | M38: =SUM(M14:M37) -> 156.48 | Q38: =SUM(Q14:Q37) -> 146.416
A39: 1. При наличии на предприятии отклонений от нормальных режимов электропотребления (временное изменение схем питания, остановка на ремонт, резкое снижение
A40: эл.потребления и т.д.) последние необходимо перечислить.
A41: Главный инженер АО "Вологдаоблэнерго" А.В. Чурляев
A42: составляется самим предприятием с соблюдением всех пунктов настоящей таблицы.

Sheet 50-3
B1: АО "Вологдаоблэнерго" | J1: код 900151 | N1: РТП "КОРНИЛОВО" 35/10 кВ
B2: наименование предприятия | N2: наименование источника питания
B3: уч-к "Устье-Кубенское" | N3: _________________________________
B4: ул. Горького, 99 | I4: Таблица № 1
B5: адрес
A6: почасовых записей показаний электрических счетчиков
A7: в режимный день 20 Декабря 2023 г.
A8: 816 | B8: 907
A9: часы суток | B9: Активная энергия | J9: Реактивная энергия
B10: ф.1 - КТП-36 | F10: ф.7 - КТП25 | J10: ф.1 - КТП-36 | N10: ф.7 - ТП-25
B11: Расчет. Коэф. | E11: 60 | F11: Расчет. Коэф. | I11: 40 | J11: Расчет. Коэф. | M11: =E11 -> 60 | N11: Расчет. Коэф. | Q11: 40
B12: показания счетчика | C12: разность | E12: расход эл.энергии за час | F12: показания счетчика | G12: разность | I12: расход эл.энергии за час | J12: показания счетчика | K12: разность | M12: расход эл.энергии за час | N12: показания счетчика | O12: разность | Q12: расход эл.энергии за час
A13: 1 | B13: 2 | C13: 3 | E13: 4 | F13: 5 | G13: 6 | I13: 7 | J13: 8 | K13: 9 | M13: 10 | N13: 11 | O13: 12 | Q13: 13
A14: 0 | E14: 0 | I14: 23.448 | M14: 0 | Q14: 3.36
A15: 1 | E15: 0 | I15: 22.896 | M15: 0 | Q15: 3.472
A16: 2 | E16: 0 | I16: 22.488 | M16: 0 | Q16: 3.472
A17: 3 | E17: 0 | I17: 23.312 | M17: 0 | Q17: 3.544
A18: 4 | E18: 0 | I18: 23.4 | M18: 0 | Q18: 3.4
A19: 5 | E19: 0 | I19: 23.624 | M19: 0 | Q19: 3.208
A20: 6 | E20: 0 | I20: 22.256 | M20: 0 | Q20: 3.2
A21: 7 | E21: 0 | I21: 25.04 | M21: 0 | Q21: 3.264
A22: 8 | E22: 0 | I22: 24.672 | M22: 0 | Q22: 3.488
A23: 9 | E23: 0 | I23: 26.832 | M23: 0 | Q23: 3.152
A24: 10 | E24: 0 | I24: 24.84 | M24: 0 | Q24: 3.672
A25: 11 | E25: 0 | I25: 25.68 | M25: 0 | Q25: 3.768
... A37: 23 | E37: 0 | I37: 26.912 | M37: 0 | Q37: 3.224
A38: Итого | E38: =SUM(E14:E37) -> 0 | I38: =SUM(I14:I37) -> 606.264 | M38: =SUM(M14:M37) -> 0 | Q38: =SUM(Q14:Q37) -> 79.408
A39: 1. При наличии на предприятии отклонений от нормальных режимов электропотребления (временное изменение схем питания, остановка на ремонт, резкое снижение
A40: эл.потребления и т.д.) последние необходимо перечислить.
A41: Главный инженер АО "Вологдаоблэнерго" А.В. Чурляев
A42: составляется самим предприятием с соблюдением всех пунктов настоящей таблицы.

Sheet 51
B1: АО "Вологдаоблэнерго" | J1: код 900151 | N1: ПС "ШУЙСКОЕ" 35/ 10 кВ
B2: наименование предприятия | N2: наименование источника питания
B3: уч-к "Шуйское" | N3: _________________________________
B4: ул. Горького, 99 | I4: Таблица № 1
B5: адрес
A6: почасовых записей показаний электрических счетчиков
A7: в режимный день 20 Декабря 2023 г.
A8: 1643
A9: часы суток | B9: Активная энергия | J9: Реактивная энергия
B10: яч.№ 16 - ф. "Биокомплекс" | J10: яч.№ 16 - ф. "Биокомплекс"
B11: Расчет. Коэф. | E11: 1000 | F11: Расчет. Коэф. | I11: 10 | J11: Расчет. Коэф. | M11: =E11 -> 1000 | N11: Расчет. Коэф. | Q11: 10
B12: показания счетчика | C12: разность | E12: расход эл.энергии за час | F12: показания счетчика | G12: разность | I12: расход эл.энергии за час | J12: показания счетчика | K12: разность | M12: расход эл.энергии за час | N12: показания счетчика | O12: разность | Q12: расход эл.энергии за час
A13: 1 | B13: 2 | C13: 3 | E13: 4 | F13: 5 | G13: 6 | I13: 7 | J13: 8 | K13: 9 | M13: 10 | N13: 11 | O13: 12 | Q13: 13
A14: 0 | E14: 2 | M14: 2
A15: 1 | E15: 2 | M15: 3
A16: 2 | E16: 2 | M16: 2
A17: 3 | E17: 2 | M17: 3
A18: 4 | E18: 2 | M18: 2
A19: 5 | E19: 2 | M19: 2
A20: 6 | E20: 2 | M20: 3
A21: 7 | E21: 2 | M21: 2
A22: 8 | E22: 2 | M22: 2
A23: 9 | E23: 2 | M23: 2
A24: 10 | E24: 2 | M24: 3
A25: 11 | E25: 1 | M25: 2
... A37: 23 | E37: 2 | M37: 2
A38: Итого | E38: =SUM(E14:E37) -> 46 | I38: =SUM(I14:I37) -> 0 | M38: =SUM(M14:M37) -> 56 | Q38: =SUM(Q14:Q37) -> 0
A39: 1. При наличии на предприятии отклонений от нормальных режимов электропотребления (временное изменение схем питания, остановка на ремонт, резкое снижение
A40: эл.потребления и т.д.) последние необходимо перечислить.
A41: Главный инженер АО "Вологдаоблэнерго" А.В. Чурляев
A42: составляется самим предприятием с соблюдением всех пунктов настоящей таблицы.

Sheet 52
B1: АО "Вологдаоблэнерго" | J1: код 900151 | N1: ПС "ШУЙСКОЕ" 35/ 10 кВ
B2: наименование предприятия | N2: наименование источника питания
B3: уч-к "Шуйское" | N3: _________________________________
B4: ул. Горького, 99 | I4: Таблица № 1
B5: адрес
A6: почасовых записей показаний электрических счетчиков
A7: в режимный день 20 Декабря 2023 г.
A8: 1641 | B8: 1642
A9: часы суток | B9: Активная энергия | J9: Реактивная энергия
B10: яч. №7 - ф."Райцентр" | F10: яч. 14 - ф. "Школа" | J10: яч. №7 - ф."Райцентр" | N10: =F10 -> яч. 14 - ф. "Школа"
B11: Расчет. Коэф. | E11: 1500 | F11: Расчет. Коэф. | I11: 2000 | J11: Расчет. Коэф. | M11: =E11 -> 1500 | N11: Расчет. Коэф. | Q11: 2000
B12: показания счетчика | C12: разность | E12: расход эл.энергии за час | F12: показания счетчика | G12: разность | I12: расход эл.энергии за час | J12: показания счетчика | K12: разность | M12: расход эл.энергии за час | N12: показания счетчика | O12: разность | Q12: расход эл.энергии за час
A13: 1 | B13: 2 | C13: 3 | E13: 4 | F13: 5 | G13: 6 | I13: 7 | J13: 8 | K13: 9 | M13: 10 | N13: 11 | O13: 12 | Q13: 13
A14: 0 | E14: 187 | I14: 289 | M14: 64 | Q14: 104
A15: 1 | E15: 180 | I15: 280 | M15: 65 | Q15: 105
A16: 2 | E16: 177 | I16: 279 | M16: 62 | Q16: 101
A17: 3 | E17: 179 | I17: 283 | M17: 62 | Q17: 102
A18: 4 | E18: 175 | I18: 295 | M18: 58 | Q18: 99
A19: 5 | E19: 185 | I19: 309 | M19: 59 | Q19: 100
A20: 6 | E20: 222 | I20: 374 | M20: 62 | Q20: 101
A21: 7 | E21: 269 | I21: 457 | M21: 62 | Q21: 103
A22: 8 | E22: 255 | I22: 482 | M22: 61 | Q22: 99
A23: 9 | E23: 234 | I23: 453 | M23: 74 | Q23: 91
A24: 10 | E24: 232 | I24: 448 | M24: 73 | Q24: 95
A25: 11 | E25: 241 | I25: 435 | M25: 74 | Q25: 93
... A37: 23 | E37: 208 | I37: 315 | M37: 60 | Q37: 94
A38: Итого | E38: =SUM(E14:E37) -> 5563 | I38: =SUM(I14:I37) -> 9372 | M38: =SUM(M14:M37) -> 1564 | Q38: =SUM(Q14:Q37) -> 2408
A39: 1. При наличии на предприятии отклонений от нормальных режимов электропотребления (временное изменение схем питания, остановка на ремонт, резкое снижение
A40: эл.потребления и т.д.) последние необходимо перечислить.
A41: Главный инженер АО "Вологдаоблэнерго" А.В. Чурляев
A42: составляется самим предприятием с соблюдением всех пунктов настоящей таблицы.

Sheet 53
B1: АО "Вологдаоблэнерго" | J1: код 900151 | N1: ПС 110/10/10кВ ИП Сокол
B2: наименование предприятия | N2: наименование источника питания
B3: уч -к г. Сокол | N3: _________________________________
B4: ул. Горького, 99 | I4: Таблица № 1
B5: адрес
A6: почасовых записей показаний электрических счетчиков
A7: в режимный день 20 Декабря 2023 г.
A8: 359
A9: часы суток | B9: Активная энергия | J9: Реактивная энергия
B10: Ввод 1 Очистные 1 | F10: Ввод 2 Очистные 2 | J10: Ввод 1 Очистные 1 | N10: Ввод 2 Очистные 2
B11: Расчет. Коэф. | E11: 66000 | F11: Расчет. Коэф. | I11: 66000 | J11: Расчет. Коэф. | M11: 66000 | N11: Расчет. Коэф. | Q11: 66000
B12: показания счетчика | C12: разность | E12: расход эл.энергии за час | F12: показания счетчика | G12: разность | I12: расход эл.энергии за час | J12: показания счетчика | K12: разность | M12: расход эл.энергии за час | N12: показания счетчика | O12: разность | Q12: расход эл.энергии за час
A13: 1 | B13: 2 | C13: 3 | E13: 4 | F13: 5 | G13: 6 | I13: 7 | J13: 8 | K13: 9 | M13: 10 | N13: 11 | O13: 12 | Q13: 13
A14: 0 | E14: 577,5209 | I14: 306,0602 | M14: 435,4270 | Q14: 210,1877
A15: 1 | E15: 534,5764 | I15: 288,1127 | M15: 364,2848 | Q15: 200,6234
A16: 2 | E16: 525,1264 | I16: 299,7347 | M16: 371,7534 | Q16: 214,1888
A17: 3 | E17: 534,2716 | I17: 319,3207 | M17: 405,5145 | Q17: 216,3227
A18: 4 | E18: 495,8236 | I18: 285,5977 | M18: 365,4660 | Q18: 187,2485
A19: 5 | E19: 487,0975 | I19: 280,7203 | M19: 325,0746 | Q19: 176,0837
A20: 6 | E20: 509,2747 | I20: 283,2352 | M20: 352,8532 | Q20: 180,5801
A21: 7 | E21: 530,8422 | I21: 288,7224 | M21: 378,6123 | Q21: 183,0569
A22: 8 | E22: 477,3807 | I22: 300,2301 | M22: 340,4310 | Q22: 197,7655
A23: 9 | E23: 594,8969 | I23: 267,1930 | M23: 503,8637 | Q23: 174,6357
A24: 10 | E24: 635,5931 | I24: 279,6152 | M24: 563,4220 | Q24: 158,6315
A25: 11 | E25: 403,7998 | I25: 314,0623 | M25: 348,9665 | Q25: 200,6615
... A37: 23 | E37: 555,8391 | I37: 371,5247 | M37: 393,5114 | Q37: 232,3268
A38: Итого | E38: 597,4118 | I38: 385,2045 | M38: 398,1602 | Q38: 230,1167
A39: 1. При наличии на предприятии отклонений от нормальных режимов электропотребления (временное изменение схем питания, остановка на ремонт, резкое снижение
A40: эл.потребления и т.д.) последние необходимо перечислить.
A41: Главный инженер АО "Вологдаоблэнерго" А.В. Чурляев
A42: составляется самим предприятием с соблюдением всех пунктов настоящей таблицы.

Sheet 54
B1: АО "Вологдаоблэнерго" | J1: код 900151 | N1: ПС "ГДЗ" 110/6 кВ
B2: наименование предприятия | N2: наименование источника питания
B3: уч -к г. Сокол | N3: _________________________________
B4: ул. Горького, 99 | I4: Таблица № 1 | O4: РТП 6
B5: адрес
A6: почасовых записей показаний электрических счетчиков
A7: в режимный день 20 Декабря 2023 г.
A8: 358 | B8: 360
A9: часы суток | B9: Активная энергия | J9: Реактивная энергия
B10: яч. 7 - ГДЗ-1 -РТП 6 | F10: яч. 18 - ГДЗ-2 - РТП 6 | J10: яч. 7 - ГДЗ-1 -РТП 6 | N10: яч. 18 - ГДЗ-2 - РТП 6
B11: Расчет. Коэф. | E11: 4800 | F11: Расчет. Коэф. | I11: 4800 | J11: Расчет. Коэф. | M11: 4800 | N11: Расчет. Коэф. | Q11: =I11 -> 4800
B12: показания счетчика | C12: разность | E12: расход эл.энергии за час | F12: показания счетчика | G12: разность | I12: расход эл.энергии за час | J12: показания счетчика | K12: разность | M12: расход эл.энергии за час | N12: показания счетчика | O12: разность | Q12: расход эл.энергии за час
A13: 1 | B13: 2 | C13: 3 | E13: 4 | F13: 5 | G13: 6 | I13: 7 | J13: 8 | K13: 9 | M13: 10 | N13: 11 | O13: 12 | Q13: 13
A14: 0 | E14: 545.28 | I14: 409.44 | M14: 263.52 | Q14: 106.08
A15: 1 | E15: 540.48 | I15: 395.04 | M15: 267.84 | Q15: 111.84
A16: 2 | E16: 529.92 | I16: 383.04 | M16: 260.64 | Q16: 101.76
A17: 3 | E17: 511.2 | I17: 385.44 | M17: 245.28 | Q17: 100.32
A18: 4 | E18: 525.6 | I18: 391.2 | M18: 236.64 | Q18: 91.68
A19: 5 | E19: 566.4 | I19: 423.36 | M19: 228 | Q19: 95.52
A20: 6 | E20: 612 | I20: 475.68 | M20: 232.32 | Q20: 99.36
A21: 7 | E21: 643.68 | I21: 568.32 | M21: 240.48 | Q21: 114.24
A22: 8 | E22: 881.76 | I22: 612 | M22: 348.48 | Q22: 124.32
A23: 9 | E23: 900.96 | I23: 640.8 | M23: 453.6 | Q23: 134.4
A24: 10 | E24: 828 | I24: 643.2 | M24: 375.36 | Q24: 126.72
A25: 11 | E25: 857.76 | I25: 648.48 | M25: 389.28 | Q25: 134.88
... A37: 23 | E37: 586.56 | I37: 460.32 | M37: 251.52 | Q37: 109.92
A38: Итого | E38: =SUM(E14:E37) -> 16445.76 | I38: =SUM(I14:I37) -> 14586.72 | M38: =SUM(M14:M37) -> 6766.08 | Q38: =SUM(Q14:Q37) -> 3257.76
A39: 1. При наличии на предприятии отклонений от нормальных режимов электропотребления (временное изменение схем питания, остановка на ремонт, резкое снижение
A40: эл.потребления и т.д.) последние необходимо перечислить.
A41: Главный инженер АО "Вологдаоблэнерго" А.В. Чурляев
A42: составляется самим предприятием с соблюдением всех пунктов настоящей таблицы.

Sheet 55
B1: АО "Вологдаоблэнерго" | J1: код 900151 | N1: ПС "ГДЗ" 110/6 кВ
B2: наименование предприятия | N2: наименование источника питания
B3: уч -к г. Сокол | N3: _________________________________
B4: ул. Горького, 99 | I4: Таблица № 1 | O4: ЛПК-1
B5: адрес
A6: почасовых записей показаний электрических счетчиков
A7: в режимный день 20 Декабря 2023 г.
A8: 359
A9: часы суток | B9: Активная энергия | J9: Реактивная энергия
B10: яч. 15 - ГДЗ - ЛПК-1 | J10: яч. 15 - ГДЗ - ЛПК-1
B11: Расчет. Коэф. | E11: 7200 | F11: Расчет. Коэф. | J11: Расчет. Коэф. | M11: =E11 -> 7200 | N11: Расчет. Коэф.
B12: показания счетчика | C12: разность | E12: расход эл.энергии за час | F12: показания счетчика | G12: разность | I12: расход эл.энергии за час | J12: показания счетчика | K12: разность | M12: расход эл.энергии за час | N12: показания счетчика | O12: разность | Q12: расход эл.энергии за час
A13: 1 | B13: 2 | C13: 3 | E13: 4 | F13: 5 | G13: 6 | I13: 7 | J13: 8 | K13: 9 | M13: 10 | N13: 11 | O13: 12 | Q13: 13
A14: 0 | E14: 377.28 | M14: 115.92
A15: 1 | E15: 371.52 | M15: 122.4
A16: 2 | E16: 358.56 | M16: 105.84
A17: 3 | E17: 353.52 | M17: 102.24
A18: 4 | E18: 358.56 | M18: 97.92
A19: 5 | E19: 412.56 | M19: 100.08
A20: 6 | E20: 444.96 | M20: 102.24
A21: 7 | E21: 482.4 | M21: 112.32
A22: 8 | E22: 559.44 | M22: 172.8
A23: 9 | E23: 574.56 | M23: 180
A24: 10 | E24: 590.4 | M24: 161.28
A25: 11 | E25: 592.56 | M25: 174.24
... A37: 23 | E37: 408.96 | M37: 123.12
A38: Итого | E38: =SUM(E14:E37) -> 11897.28 | I38: =SUM(I14:I37) -> 0 | M38: =SUM(M14:M37) -> 3396.24 | Q38: =SUM(Q14:Q37) -> 0
A39: 1. При наличии на предприятии отклонений от нормальных режимов электропотребления (временное изменение схем питания, остановка на ремонт, резкое снижение
A40: эл.потребления и т.д.) последние необходимо перечислить.
A41: Главный инженер АО "Вологдаоблэнерго" А.В. Чурляев
A42: составляется самим предприятием с соблюдением всех пунктов настоящей таблицы.

Sheet 56
B1: АО "Вологдаоблэнерго" | J1: код 900151 | M1: ОАО "Сокольский" ЦБК" ТП 35/6 кВ
B2: наименование предприятия | M2: наименование источника питания
B3: уч -к г. Сокол | N3: _________________________________
B4: ул. Горького, 99 | I4: Таблица № 1 | O4: РП 5
B5: адрес
A6: почасовых записей показаний электрических счетчиков
A7: в режимный день 20 Декабря 2023 г.
A8: 400 | B8: 397
A9: часы суток | B9: Активная энергия | J9: Реактивная энергия
B10: яч.4 - РП 5 яч.1 | F10: яч. 6 - ТП-40 | J10: яч.4 - РП 5 яч.1 | N10: яч. 6 - ТП-40
B11: Расчет. Коэф. | E11: 2400 | F11: Расчет. Коэф. | I11: 7200 | J11: Расчет. Коэф. | M11: =E11 -> 2400 | N11: Расчет. Коэф. | Q11: =I11 -> 7200
B12: показания счетчика | C12: разность | E12: расход эл.энергии за час | F12: показания счетчика | G12: разность | I12: расход эл.энергии за час | J12: показания счетчика | K12: разность | M12: расход эл.энергии за час | N12: показания счетчика | O12: разность | Q12: расход эл.энергии за час
A13: 1 | B13: 2 | C13: 3 | E13: 4 | F13: 5 | G13: 6 | I13: 7 | J13: 8 | K13: 9 | M13: 10 | N13: 11 | O13: 12 | Q13: 13
A14: 0 | E14: 90.72 | I14: 591.12 | M14: 24.48 | Q14: 246.24
A15: 1 | E15: 84.48 | I15: 533.52 | M15: 22.8 | Q15: 240.48
A16: 2 | E16: 83.52 | I16: 517.68 | M16: 20.16 | Q16: 232.56
A17: 3 | E17: 84.72 | I17: 516.96 | M17: 20.4 | Q17: 227.52
A18: 4 | E18: 81.84 | I18: 535.68 | M18: 17.76 | Q18: 213.12
A19: 5 | E19: 85.44 | I19: 576 | M19: 18.96 | Q19: 213.84
A20: 6 | E20: 102.24 | I20: 740.16 | M20: 19.92 | Q20: 228.96
A21: 7 | E21: 110.4 | I21: 834.48 | M21: 23.76 | Q21: 253.44
A22: 8 | E22: 121.92 | I22: 1017.36 | M22: 34.32 | Q22: 377.28
A23: 9 | E23: 135.36 | I23: 1117.44 | M23: 41.28 | Q23: 437.04
A24: 10 | E24: 140.64 | I24: 1117.44 | M24: 43.92 | Q24: 421.92
A25: 11 | E25: 139.2 | I25: 1074.24 | M25: 42.24 | Q25: 466.56
... A37: 23 | E37: 102.48 | I37: 642.24 | M37: 22.32 | Q37: 216
A38: Итого | E38: =SUM(E14:E37) -> 2948.4 | I38: =SUM(I14:I37) -> 20151.36 | M38: =SUM(M14:M37) -> 728.88 | Q38: =SUM(Q14:Q37) -> 7351.2
A39: 1. При наличии на предприятии отклонений от нормальных режимов электропотребления (временное изменение схем питания, остановка на ремонт, резкое снижение
A40: эл.потребления и т.д.) последние необходимо перечислить.
A41: Главный инженер АО "Вологдаоблэнерго" А.В. Чурляев
A42: составляется самим предприятием с соблюдением всех пунктов настоящей таблицы.

Sheet 57
B1: АО "Вологдаоблэнерго" | J1: код 900151 | M1: ОАО "Сокольский" ЦБК" ГПП 35/6 кВ
B2: наименование предприятия | M2: наименование источника питания
B3: уч -к г. Сокол | N3: _________________________________
B4: ул. Горького, 99 | I4: Таблица № 1
B5: адрес
A6: почасовых записей показаний электрических счетчиков
A7: в режимный день 20 Декабря 2023 г.
A8: 398 | B8: 399
A9: часы суток | B9: Активная энергия | J9: Реактивная энергия
B10: яч.2 - РТП 2 яч. 15 | F10: яч. 3 - РТП 2 яч. 2 | J10: яч.2 - РТП 2 яч. 15 | N10: яч. 3 - РТП 2 яч. 2
B11: Расчет. Коэф. | E11: 7200 | F11: Расчет. Коэф. | I11: =Q11 -> 7200 | J11: Расчет. Коэф. | M11: =E11 -> 7200 | N11: Расчет. Коэф. | Q11: 7200
B12: показания счетчика | C12: разность | E12: расход эл.энергии за час | F12: показания счетчика | G12: разность | I12: расход эл.энергии за час | J12: показания счетчика | K12: разность | M12: расход эл.энергии за час | N12: показания счетчика | O12: разность | Q12: расход эл.энергии за час
B13: 2 | C13: 3 | E13: 4 | F13: 5 | G13: 6 | I13: 7 | J13: 8 | K13: 9 | M13: 10 | N13: 11 | O13: 12 | Q13: 13
A14: 0 | E14: 200.88 | I14: 1410.48 | M14: 67.68 | Q14: 578.16
A15: 1 | E15: 185.76 | I15: 1353.6 | M15: 64.8 | Q15: 571.68
A16: 2 | E16: 174.96 | I16: 1326.96 | M16: 51.84 | Q16: 556.56
A17: 3 | E17: 174.24 | I17: 1324.08 | M17: 52.56 | Q17: 547.2
A18: 4 | E18: 169.2 | I18: 1362.96 | M18: 50.4 | Q18: 529.2
A19: 5 | E19: 182.16 | I19: 1418.4 | M19: 58.32 | Q19: 537.12
A20: 6 | E20: 218.88 | I20: 1573.92 | M20: 71.28 | Q20: 538.56
A21: 7 | E21: 251.28 | I21: 1739.52 | M21: 61.92 | Q21: 554.4
A22: 8 | E22: 331.2 | I22: 1952.64 | M22: 70.56 | Q22: 540
A23: 9 | E23: 334.08 | I23: 2033.28 | M23: 68.4 | Q23: 550.8
A24: 10 | E24: 354.24 | I24: 2073.6 | M24: 67.68 | Q24: 560.16
A25: 11 | E25: 327.6 | I25: 2067.84 | M25: 62.64 | Q25: 562.32
... A37: 23 | E37: 198 | I37: 1500.48 | M37: 48.96 | Q37: 535.68
A38: Итого | E38: =SUM(E14:E37) -> 6130.8 | I38: =SUM(I14:I37) -> 43283.52 | M38: =SUM(M14:M37) -> 1442.16 | Q38: =SUM(Q14:Q37) -> 13403.52
A39: 1. При наличии на предприятии отклонений от нормальных режимов электропотребления (временное изменение схем питания, остановка на ремонт, резкое снижение
A40: эл.потребления и т.д.) последние необходимо перечислить.
A41: Главный инженер АО "Вологдаоблэнерго" А.В. Чурляев
A42: составляется самим предприятием с соблюдением всех пунктов настоящей таблицы.

Sheet 58
B1: АО "Вологдаоблэнерго" | J1: код 900151 | M1: ПС "Сокол" 220/110/35/10 кВ
B2: наименование предприятия | M2: наименование источника питания
B3: уч -к г. Сокол | N3: ф. Обросово | O3: КТП-90, КТП-91
B4: ул. Горького, 99 | I4: Таблица № 1
B5: адрес
A6: почасовых записей показаний электрических счетчиков
A7: в режимный день 20 Декабря 2023 г.
A8: 396 | B8: 395
A9: часы суток | B9: Активная энергия | J9: Реактивная энергия
B10: ф. 4 (Обросово) - КТП-90 (дачн. общ.) | F10: ф. 4 (Обросово) - КТП-91 (д. Бережок) | J10: =B10 -> ф. 4 (Обросово) - КТП-90 (дачн. общ.) | N10: =F10 -> ф. 4 (Обросово) - КТП-91 (д. Бережок)
B11: Расчет. Коэф. | E11: 1800 | F11: Расчет. Коэф. | I11: =Q11 -> 900 | J11: Расчет. Коэф. | M11: =E11 -> 1800 | N11: Расчет. Коэф. | Q11: 900
B12: показания счетчика | C12: разность | E12: расход эл.энергии за час | F12: показания счетчика | G12: разность | I12: расход эл.энергии за час | J12: показания счетчика | K12: разность | M12: расход эл.энергии за час | N12: показания счетчика | O12: разность | Q12: расход эл.энергии за час
A13: 1 | B13: 2 | C13: 3 | E13: 4 | F13: 5 | G13: 6 | I13: 7 | J13: 8 | K13: 9 | M13: 10 | N13: 11 | O13: 12 | Q13: 13
A14: 0 | E14: 1.46 | I14: 12.41 | M14: 0 | Q14: 1.63
A15: 1 | E15: 1.58 | I15: 12.27 | M15: 0 | Q15: 1.72
A16: 2 | E16: 1.58 | I16: 12.24 | M16: 0 | Q16: 1.79
A17: 3 | E17: 1.6 | I17: 10.38 | M17: 0 | Q17: 0.3
A18: 4 | E18: 1.5 | I18: 11.05 | M18: 0 | Q18: 0.64
A19: 5 | E19: 1.66 | I19: 10.68 | M19: 0 | Q19: 0.42
A20: 6 | E20: 2.38 | I20: 12.37 | M20: 0 | Q20: 1.65
A21: 7 | E21: 1.88 | I21: 13.77 | M21: 0 | Q21: 1.49
A22: 8 | E22: 1.96 | I22: 12.6 | M22: 0 | Q22: 1.38
A23: 9 | E23: 2 | I23: 12.6 | M23: 0 | Q23: 1.22
A24: 10 | E24: 1.46 | I24: 11.48 | M24: 0 | Q24: 0.27
A25: 11 | E25: 1.78 | I25: 12.24 | M25: 0 | Q25: 0.59
... A37: 23 | E37: 0.66 | I37: 15.75 | M37: 0 | Q37: 1.71
A38: Итого | E38: =SUM(E14:E37) -> 34.98 | I38: =SUM(I14:I37) -> 281.78 | M38: =SUM(M14:M37) -> 0 | Q38: =SUM(Q14:Q37) -> 23.88
A39: 1. При наличии на предприятии отклонений от нормальных режимов электропотребления (временное изменение схем питания, остановка на ремонт, резкое снижение
A40: эл.потребления и т.д.) последние необходимо перечислить.
A41: Главный инженер АО "Вологдаоблэнерго" А.В. Чурляев
A42: составляется самим предприятием с соблюдением всех пунктов настоящей таблицы.

Sheet 58-1
B1: АО "Вологдаоблэнерго" | J1: код 900151 | M1: ПС "Сокол" 220/110/35/10 кВ
B2: наименование предприятия | M2: наименование источника питания
B3: уч -к г. Сокол | N3: ф. Новое | O3: ТП-121
B4: ул. Горького, 99 | I4: Таблица № 1
B5: адрес
A6: почасовых записей показаний электрических счетчиков
A7: в режимный день 20 Декабря 2023 г.
A8: 396 | B8: 395
A9: часы суток | B9: Активная энергия | J9: Реактивная энергия
B10: ф. Новое - ТП-121 | J10: =B10 -> ф. Новое - ТП-121 | N10: =F10 -> 0
B11: Расчет. Коэф. | F11: Расчет. Коэф. | J11: Расчет. Коэф. | M11: =E11 -> 0 | N11: Расчет. Коэф.
B12: показания счетчика | C12: разность | E12: расход эл.энергии за час | F12: показания счетчика | G12: разность | I12: расход эл.энергии за час | J12: показания счетчика | K12: разность | M12: расход эл.энергии за час | N12: показания счетчика | O12: разность | Q12: расход эл.энергии за час
A13: 1 | B13: 2 | C13: 3 | E13: 4 | F13: 5 | G13: 6 | I13: 7 | J13: 8 | K13: 9 | M13: 10 | N13: 11 | O13: 12 | Q13: 13
A14: 0 | E14: 17.12 | M14: 14.34
A15: 1 | E15: 17.1 | M15: 14.28
A16: 2 | E16: 17.2 | M16: 14.36
A17: 3 | E17: 17.42 | M17: 14.38
A18: 4 | E18: 17.28 | M18: 14.32
A19: 5 | E19: 17.1 | M19: 14.12
A20: 6 | E20: 17.2 | M20: 14.26
A21: 7 | E21: 17.3 | M21: 14.28
A22: 8 | E22: 17.44 | M22: 14.36
A23: 9 | E23: 10.98 | M23: 8.26
A24: 10 | E24: 1.58 | M24: 0
A25: 11 | E25: 1.58 | M25: 0
... A37: 23 | E37: 17.04 | M37: 13.86
A38: Итого | E38: =SUM(E14:E37) -> 301.12 | I38: =SUM(I14:I37) -> 0 | M38: =SUM(M14:M37) -> 240.1 | Q38: =SUM(Q14:Q37) -> 0
A39: 1. При наличии на предприятии отклонений от нормальных режимов электропотребления (временное изменение схем питания, остановка на ремонт, резкое снижение
A40: эл.потребления и т.д.) последние необходимо перечислить.
A41: Главный инженер АО "Вологдаоблэнерго" А.В. Чурляев
A42: составляется самим предприятием с соблюдением всех пунктов настоящей таблицы.

Sheet 59
B1: АО "Вологдаоблэнерго" | J1: код 900151 | K1: ООО "Сокольский ЦБК" ГПП 110/6 кВ
B2: наименование предприятия | N2: наименование источника питания
B3: уч -к г. Сокол | N3: _________________________________
B4: ул. Горького, 99 | I4: Таблица № 1 | N4: ТП 77
B5: адрес
A6: почасовых записей показаний электрических счетчиков
A7: в режимный день 20 Декабря 2023 г.
A8: 487
A9: часы суток | B9: Активная энергия | J9: Реактивная энергия
B10: яч. 14 - ТП-77 (Михайлево) | J10: яч. 14 - ТП-77 (Михайлево)
B11: Расчет. Коэф. | E11: 2400 | F11: Расчет. Коэф. | I11: 0 | J11: Расчет. Коэф. | M11: 2400 | N11: Расчет. Коэф. | Q11: 0
B12: показания счетчика | C12: разность | E12: расход эл.энергии за час | F12: показания счетчика | G12: разность | I12: расход эл.энергии за час | J12: показания счетчика | K12: разность | M12: расход эл.энергии за час | N12: показания счетчика | O12: разность | Q12: расход эл.энергии за час
A13: 1 | B13: 2 | C13: 3 | E13: 4 | F13: 5 | G13: 6 | I13: 7 | J13: 8 | K13: 9 | M13: 10 | N13: 11 | O13: 12 | Q13: 13
A14: 0 | E14: 5.04 | M14: 3.96
A15: 1 | E15: 4.68 | M15: 3.96
A16: 2 | E16: 4.68 | M16: 3.6
A17: 3 | E17: 5.04 | M17: 3.6
A18: 4 | E18: 4.68 | M18: 3.6
A19: 5 | E19: 5.04 | M19: 3.6
A20: 6 | E20: 5.76 | M20: 3.6
A21: 7 | E21: 5.04 | M21: 3.6
A22: 8 | E22: 205.2 | M22: 244.8
A23: 9 | E23: 240.12 | M23: 267.12
A24: 10 | E24: 188.64 | M24: 209.88
A25: 11 | E25: 52.92 | M25: 44.64
... A37: 23 | E37: 5.4 | M37: 4.68
A38: Итого | E38: =SUM(E14:E37) -> 1429.2 | I38: =SUM(I14:I37) -> 0 | M38: =SUM(M14:M37) -> 1579.32 | Q38: =SUM(Q14:Q37) -> 0
A39: 1. При наличии на предприятии отклонений от нормальных режимов электропотребления (временное изменение схем питания, остановка на ремонт, резкое снижение
A40: эл.потребления и т.д.) последние необходимо перечислить.
A41: Главный инженер АО "Вологдаоблэнерго" А.В. Чурляев
A42: составляется самим предприятием с соблюдением всех пунктов настоящей таблицы.

Sheet 60
B1: АО "Вологдаоблэнерго" | J1: код 900151 | K1: ООО "Сухонский КБК" ГПП 110/6 кВ
B2: наименование предприятия | N2: наименование источника питания
B3: уч -к г. Сокол | N3: _________________________________
B4: ул. Горького, 99 | I4: Таблица № 1 | O4: РУ-1
B5: адрес
A6: почасовых записей показаний электрических счетчиков
A7: в режимный день 20 Декабря 2023 г.
A8: 1198 | B8: 1199
A9: часы суток | B9: Активная энергия | J9: Реактивная энергия
B10: РУ-1 яч 1 - ТП 3 | F10: РУ-1 яч 14 - ЛЭП 3 | J10: РУ-1 яч 1 - ТП 3 | N10: РУ-1 яч 14 - ЛЭП 3
B11: Расчет. Коэф. | E11: 4800 | F11: Расчет. Коэф. | I11: 2400 | J11: Расчет. Коэф. | M11: 4800 | N11: Расчет. Коэф. | Q11: 2400
B12: показания счетчика | C12: разность | E12: расход эл.энергии за час | F12: показания счетчика | G12: разность | I12: расход эл.энергии за час | J12: показания счетчика | K12: разность | M12: расход эл.энергии за час | N12: показания счетчика | O12: разность | Q12: расход эл.энергии за час
A13: 1 | B13: 2 | C13: 3 | E13: 4 | F13: 5 | G13: 6 | I13: 7 | J13: 8 | K13: 9 | M13: 10 | N13: 11 | O13: 12 | Q13: 13
A14: 0 | E14: 517.44 | I14: 570.24 | M14: 218.4 | Q14: 364.56
A15: 1 | E15: 473.28 | I15: 672.96 | M15: 200.16 | Q15: 504.72
A16: 2 | E16: 430.56 | I16: 638.16 | M16: 173.28 | Q16: 464.4
A17: 3 | E17: 437.28 | I17: 640.56 | M17: 168.96 | Q17: 429.6
A18: 4 | E18: 451.2 | I18: 636.24 | M18: 167.52 | Q18: 424.08
A19: 5 | E19: 557.76 | I19: 645.12 | M19: 174.24 | Q19: 426.72
A20: 6 | E20: 642.24 | I20: 693.36 | M20: 183.36 | Q20: 431.76
A21: 7 | E21: 719.04 | I21: 727.92 | M21: 192 | Q21: 380.88
A22: 8 | E22: 864.96 | I22: 1495.68 | M22: 284.64 | Q22: 955.44
A23: 9 | E23: 916.8 | I23: 1704.24 | M23: 304.8 | Q23: 1095.84
A24: 10 | E24: 887.04 | I24: 1557.12 | M24: 281.28 | Q24: 1015.44
A25: 11 | E25: 863.52 | I25: 1655.52 | M25: 274.56 | Q25: 1077.6
... A37: 23 | E37: 597.6 | I37: 666.96 | M37: 244.32 | Q37: 474.48
A38: Итого | E38: =SUM(E14:E37) -> 17345.76 | I38: =SUM(I14:I37) -> 25364.4 | M38: =SUM(M14:M37) -> 5637.12 | Q38: =SUM(Q14:Q37) -> 16735.92
A39: 1. При наличии на предприятии отклонений от нормальных режимов электропотребления (временное изменение схем питания, остановка на ремонт, резкое снижение
A40: эл.потребления и т.д.) последние необходимо перечислить.
A41: Главный инженер АО "Вологдаоблэнерго" А.В. Чурляев
A42: составляется самим предприятием с соблюдением всех пунктов настоящей таблицы.

Sheet 61
B1: АО "Вологдаоблэнерго" | J1: код 900151 | K1: ООО "Сухонский КБК" ГПП 110/6 кВ
B2: наименование предприятия | N2: наименование источника питания
B3: уч -к г. Сокол | N3: _________________________________
B4: ул. Горького, 99 | I4: Таблица № 1
B5: адрес
A6: почасовых записей показаний электрических счетчиков
A7: в режимный день 20 Декабря 2023 г.
A8: 1200 | B8: 1197
A9: часы суток | B9: Активная энергия | J9: Реактивная энергия
B10: РУ-3 яч 4 - ТП 7 | J10: РУ-3 яч 4 - ТП 7
B11: Расчет. Коэф. | E11: 2400 | F11: Расчет. Коэф. | J11: Расчет. Коэф. | M11: 2400 | N11: Расчет. Коэф.
B12: показания счетчика | C12: разность | E12: расход эл.энергии за час | F12: показания счетчика | G12: разность | I12: расход эл.энергии за час | J12: показания счетчика | K12: разность | M12: расход эл.энергии за час | N12: показания счетчика | O12: разность | Q12: расход эл.энергии за час
A13: 1 | B13: 2 | C13: 3 | E13: 4 | F13: 5 | G13: 6 | I13: 7 | J13: 8 | K13: 9 | M13: 10 | N13: 11 | O13: 12 | Q13: 13
A14: 0 | E14: 326.16 | M14: 123.36
A15: 1 | E15: 307.2 | M15: 115.2
A16: 2 | E16: 299.52 | M16: 114.48
A17: 3 | E17: 305.28 | M17: 119.52
A18: 4 | E18: 308.16 | M18: 110.88
A19: 5 | E19: 341.28 | M19: 112.32
A20: 6 | E20: 418.32 | M20: 125.52
A21: 7 | E21: 458.4 | M21: 106.08
A22: 8 | E22: 551.04 | M22: 180.48
A23: 9 | E23: 601.44 | M23: 221.76
A24: 10 | E24: 608.4 | M24: 235.2
A25: 11 | E25: 593.76 | M25: 267.84
... A37: 23 | E37: 359.04 | M37: 113.04
A38: Итого | E38: =SUM(E14:E37) -> 11084.88 | I38: =SUM(I14:I37) -> 0 | M38: =SUM(M14:M37) -> 3774 | Q38: =SUM(Q14:Q37) -> 0
A39: 1. При наличии на предприятии отклонений от нормальных режимов электропотребления (временное изменение схем питания, остановка на ремонт, резкое снижение
A40: эл.потребления и т.д.) последние необходимо перечислить.
A41: Главный инженер АО "Вологдаоблэнерго" А.В. Чурляев
A42: составляется самим предприятием с соблюдением всех пунктов настоящей таблицы.

Sheet 62
B1: АО "Вологдаоблэнерго" | J1: код 900151 | K1: ООО "Сухонский КБК" ГПП 110/6 кВ
B2: наименование предприятия | N2: наименование источника питания
B3: уч -к г. Сокол | N3: _________________________________
B4: ул. Горького, 99 | I4: Таблица № 1 | O4: РП-10
B5: адрес
A6: почасовых записей показаний электрических счетчиков
A7: в режимный день 20 Декабря 2023 г.
A8: 1196
A9: часы суток | B9: Активная энергия | J9: Реактивная энергия
B10: ЗРУ яч. 2 - РП-10 яч.2 | F10: ЗРУ яч. 59 - РП-10 яч.15 | J10: ЗРУ яч. 2 - РП-10 яч.2 | N10: ЗРУ яч. 59 - РП-10 яч.15
B11: Расчет. Коэф. | E11: 2400 | F11: Расчет. Коэф. | I11: 3600 | J11: Расчет. Коэф. | M11: 2400 | N11: Расчет. Коэф. | Q11: 3600
B12: показания счетчика | C12: разность | E12: расход эл.энергии за час | F12: показания счетчика | G12: разность | I12: расход эл.энергии за час | J12: показания счетчика | K12: разность | M12: расход эл.энергии за час | N12: показания счетчика | O12: разность | Q12: расход эл.энергии за час
A13: 1 | B13: 2 | C13: 3 | E13: 4 | F13: 5 | G13: 6 | I13: 7 | J13: 8 | K13: 9 | M13: 10 | N13: 11 | O13: 12 | Q13: 13
A14: 0 | E14: 406.44 | I14: 429.84 | M14: 152.64 | Q14: 127.44
A15: 1 | E15: 397.08 | I15: 412.2 | M15: 154.44 | Q15: 127.08
A16: 2 | E16: 376.56 | I16: 400.68 | M16: 147.96 | Q16: 124.56
A17: 3 | E17: 379.44 | I17: 399.6 | M17: 149.04 | Q17: 113.76
A18: 4 | E18: 367.92 | I18: 401.04 | M18: 142.56 | Q18: 118.08
A19: 5 | E19: 397.08 | I19: 401.4 | M19: 146.16 | Q19: 104.76
A20: 6 | E20: 461.88 | I20: 462.24 | M20: 151.92 | Q20: 113.4
A21: 7 | E21: 461.52 | I21: 481.68 | M21: 146.52 | Q21: 108.36
A22: 8 | E22: 718.92 | I22: 499.32 | M22: 353.16 | Q22: 173.16
A23: 9 | E23: 688.32 | I23: 532.08 | M23: 367.56 | Q23: 216.36
A24: 10 | E24: 605.88 | I24: 514.08 | M24: 304.92 | Q24: 212.4
A25: 11 | E25: 696.24 | I25: 481.68 | M25: 377.28 | Q25: 179.28
... A37: 23 | E37: 413.28 | I37: 415.8 | M37: 126 | Q37: 90.72
A38: Итого | E38: =SUM(E14:E37) -> 12679.92 | I38: =SUM(I14:I37) -> 11358.72 | M38: =SUM(M14:M37) -> 5253.12 | Q38: =SUM(Q14:Q37) -> 3537.36
A39: 1. При наличии на предприятии отклонений от нормальных режимов электропотребления (временное изменение схем питания, остановка на ремонт, резкое снижение
A40: эл.потребления и т.д.) последние необходимо перечислить.
A41: Главный инженер АО "Вологдаоблэнерго" А.В. Чурляев
A42: составляется самим предприятием с соблюдением всех пунктов настоящей таблицы.

Sheet 63
B1: АО "Вологдаоблэнерго" | J1: код 900151 | K1: ООО "Сухонский ЦБК" ГПП 110/6 кВ
B2: наименование предприятия | N2: наименование источника питания
B3: уч -к г. Сокол | N3: РУ - 6 кВ "Механического завода"
B4: ул. Горького, 99 | I4: Таблица № 1
B5: адрес
A6: почасовых записей показаний электрических счетчиков
A7: в режимный день 20 Декабря 2023 г.
A8: 1201 | B8: 1202
A9: часы суток | B9: Активная энергия | J9: Реактивная энергия
B10: яч 7 - ТП 1 | F10: яч. 4 - ТП 2 | J10: яч 7 - ТП 1 | N10: яч. 4 - ТП 2
B11: Расчет. Коэф. | E11: 600 | F11: Расчет. Коэф. | I11: 600 | J11: Расчет. Коэф. | M11: 600 | N11: Расчет. Коэф. | Q11: 600
B12: показания счетчика | C12: разность | E12: расход эл.энергии за час | F12: показания счетчика | G12: разность | I12: расход эл.энергии за час | J12: показания счетчика | K12: разность | M12: расход эл.энергии за час | N12: показания счетчика | O12: разность | Q12: расход эл.энергии за час
A13: 1 | B13: 2 | C13: 3 | E13: 4 | F13: 5 | G13: 6 | I13: 7 | J13: 8 | K13: 9 | M13: 10 | N13: 11 | O13: 12 | Q13: 13
A14: 0 | E14: 28.38 | I14: 18.72 | M14: 1.98 | Q14: 3.9
A15: 1 | E15: 23.64 | I15: 25.02 | M15: 1.56 | Q15: 3.9
A16: 2 | E16: 21.66 | I16: 15 | M16: 1.5 | Q16: 3.78
A17: 3 | E17: 20.76 | I17: 15.06 | M17: 1.92 | Q17: 4.14
A18: 4 | E18: 20.94 | I18: 14.76 | M18: 1.32 | Q18: 4.2
A19: 5 | E19: 27.06 | I19: 15.12 | M19: 1.2 | Q19: 4.02
A20: 6 | E20: 35.76 | I20: 17.1 | M20: 1.68 | Q20: 4.08
A21: 7 | E21: 35.94 | I21: 16.98 | M21: 1.62 | Q21: 3.72
A22: 8 | E22: 36.24 | I22: 18.96 | M22: 1.8 | Q22: 4.32
A23: 9 | E23: 33.18 | I23: 24.42 | M23: 2.7 | Q23: 5.76
A24: 10 | E24: 35.04 | I24: 25.38 | M24: 2.94 | Q24: 5.82
A25: 11 | E25: 34.98 | I25: 25.2 | M25: 3.72 | Q25: 6.06
... A37: 23 | E37: 29.1 | I37: 30.66 | M37: 0.54 | Q37: 3.42
A38: Итого | E38: =SUM(E14:E37) -> 804.06 | I38: =SUM(I14:I37) -> 594 | M38: =SUM(M14:M37) -> 46.86 | Q38: =SUM(Q14:Q37) -> 127.38
A39: 1. При наличии на предприятии отклонений от нормальных режимов электропотребления (временное изменение схем питания, остановка на ремонт, резкое снижение
A40: эл.потребления и т.д.) последние необходимо перечислить.
A41: Главный инженер АО "Вологдаоблэнерго" А.В. Чурляев
A42: составляется самим предприятием с соблюдением всех пунктов настоящей таблицы.

Sheet 64
B1: АО "Вологдаоблэнерго" | J1: код 900151 | K1: ПС "Белозерск" 110/10 кВ
B2: наименование предприятия | N2: наименование источника питания
B3: уч -к г. Белозерск
B4: ул. Горького, 99 | I4: Таблица № 1 | N4: РП 1
B5: адрес
A6: почасовых записей показаний электрических счетчиков
A7: в режимный день 20 Декабря 2023 г.
A8: 737 | B8: 738
A9: часы суток | B9: Активная энергия | J9: Реактивная энергия
B10: яч. 2 - ВЛ-10кВ.ф Горсеть1 | F10: яч. 3 - ВЛ-10кВ.ф Горсеть2 | J10: =B10 -> яч. 2 - ВЛ-10кВ.ф Горсеть1 | N10: яч. 3 - ВЛ-10кВ.фид. Горсеть2
B11: Расчет. Коэф. | E11: 4000 | F11: Расчет. Коэф. | I11: 2000 | J11: Расчет. Коэф. | M11: =E11 -> 4000 | N11: Расчет. Коэф. | Q11: =I11 -> 2000
B12: показания счетчика | C12: разность | E12: расход эл.энергии за час | F12: показания счетчика | G12: разность | I12: расход эл.энергии за час | J12: показания счетчика | K12: разность | M12: расход эл.энергии за час | N12: показания счетчика | O12: разность | Q12: расход эл.энергии за час
A13: 1 | B13: 2 | C13: 3 | E13: 4 | F13: 5 | G13: 6 | I13: 7 | J13: 8 | K13: 9 | M13: 10 | N13: 11 | O13: 12 | Q13: 13
A14: 0 | E14: 1678 | I14: 940 | M14: 362 | Q14: 215
A15: 1 | E15: 1578 | I15: 902 | M15: 361 | Q15: 221
A16: 2 | E16: 1520 | I16: 893 | M16: 354 | Q16: 207
A17: 3 | E17: 1511 | I17: 885 | M17: 345 | Q17: 202
A18: 4 | E18: 1562 | I18: 878 | M18: 340 | Q18: 195
A19: 5 | E19: 1690 | I19: 935 | M19: 339 | Q19: 196
A20: 6 | E20: 1974 | I20: 1094 | M20: 342 | Q20: 196
A21: 7 | E21: 2228 | I21: 1279 | M21: 322 | Q21: 207
A22: 8 | E22: 2288 | I22: 1499 | M22: 335 | Q22: 296
A23: 9 | E23: 2286 | I23: 1577 | M23: 367 | Q23: 375
A24: 10 | E24: 2251 | I24: 1492 | M24: 377 | Q24: 352
A25: 11 | E25: 2239 | I25: 1486 | M25: 382 | Q25: 348
... A37: 23 | E37: 1839 | I37: 1010 | M37: 351 | Q37: 200
A38: Итого | E38: =SUM(E14:E37) -> 50724 | I38: =SUM(I14:I37) -> 29500 | M38: =SUM(M14:M37) -> 8791 | Q38: =SUM(Q14:Q37) -> 6270
A39: 1. При наличии на предприятии отклонений от нормальных режимов электропотребления (временное изменение схем питания, остановка на ремонт, резкое снижение
A40: эл.потребления и т.д.) последние необходимо перечислить.
A41: Главный инженер АО "Вологдаоблэнерго" А.В. Чурляев
A42: составляется самим предприятием с соблюдением всех пунктов настоящей таблицы.

Sheet 65
B1: АО "Вологдаоблэнерго" | J1: код 900151 | K1: ПС "Белозерск" 110/10 кВ
B2: наименование предприятия | N2: наименование источника питания
B3: уч -к г. Белозерск
B4: ул. Горького, 99 | I4: Таблица № 1
B5: адрес
A6: почасовых записей показаний электрических счетчиков
A7: в режимный день 20 Декабря 2023 г.
A8: 739 | B8: 736
A9: часы суток | B9: Активная энергия | J9: Реактивная энергия
B10: яч. 4 - ВЛ-10кВ.ф Оптика | F10: яч. 1 - ф. Горсеть-3 | J10: яч. 4 - ВЛ-10кВ.ф Оптика | N10: яч. 1 - ф. Горсеть-3
B11: Расчет. Коэф. | E11: 4000 | F11: Расчет. Коэф. | J11: Расчет. Коэф. | M11: =E11 -> 4000 | N11: Расчет. Коэф.
B12: показания счетчика | C12: разность | E12: расход эл.энергии за час | F12: показания счетчика | G12: разность | I12: расход эл.энергии за час | J12: показания счетчика | K12: разность | M12: расход эл.энергии за час | N12: показания счетчика | O12: разность | Q12: расход эл.энергии за час
A13: 1 | B13: 2 | C13: 3 | E13: 4 | F13: 5 | G13: 6 | I13: 7 | J13: 8 | K13: 9 | M13: 10 | N13: 11 | O13: 12 | Q13: 13
A14: 0 | E14: 31 | I14: 171 | M14: 48 | Q14: 101
A15: 1 | E15: 31 | I15: 167 | M15: 48 | Q15: 102
A16: 2 | E16: 31 | I16: 158 | M16: 48 | Q16: 98
A17: 3 | E17: 31 | I17: 163 | M17: 46 | Q17: 98
A18: 4 | E18: 31 | I18: 161 | M18: 47 | Q18: 95
A19: 5 | E19: 31 | I19: 164 | M19: 46 | Q19: 93
A20: 6 | E20: 31 | I20: 193 | M20: 47 | Q20: 93
A21: 7 | E21: 31 | I21: 234 | M21: 45 | Q21: 95
A22: 8 | E22: 36 | I22: 224 | M22: 47 | Q22: 101
A23: 9 | E23: 38 | I23: 202 | M23: 53 | Q23: 103
A24: 10 | E24: 29 | I24: 210 | M24: 42 | Q24: 107
A25: 11 | E25: 26 | I25: 201 | M25: 37 | Q25: 106
... A37: 23 | E37: 22 | I37: 190 | M37: 37 | Q37: 98
A38: Итого | E38: =SUM(E14:E37) -> 667 | I38: =SUM(I14:I37) -> 4848 | M38: =SUM(M14:M37) -> 995 | Q38: =SUM(Q14:Q37) -> 2431
A39: 1. При наличии на предприятии отклонений от нормальных режимов электропотребления (временное изменение схем питания, остановка на ремонт, резкое снижение
A40: эл.потребления и т.д.) последние необходимо перечислить.
A41: Главный инженер АО "Вологдаоблэнерго" А.В. Чурляев
A42: составляется самим предприятием с соблюдением всех пунктов настоящей таблицы.

Sheet 66
B1: АО "Вологдаоблэнерго" | J1: код 900151 | K1: ПС "Белозерск" 110/10 кВ
B2: наименование предприятия | N2: наименование источника питания
B3: уч -к г. Белозерск
B4: ул. Горького, 99 | I4: Таблица № 1
B5: адрес
A6: почасовых записей показаний электрических счетчиков
A7: в режимный день 20 Декабря 2023 г.
A8: 1192 | B8: 1193
A9: часы суток | B9: Активная энергия | J9: Реактивная энергия
B10: ВЛ-10кВ.фид. Аэропорт КТП-46 | F10: ВЛ-10кВ.фид. Аэропорт КТП-47 | J10: =B10 -> ВЛ-10кВ.фид. Аэропорт КТП-46 | N10: =F10 -> ВЛ-10кВ.фид. Аэропорт КТП-47
B11: Расчет. Коэф. | E11: 60 | F11: Расчет. Коэф. | I11: 60 | J11: Расчет. Коэф. | M11: =E11 -> 60 | N11: Расчет. Коэф. | Q11: =I11 -> 60
B12: показания счетчика | C12: разность | E12: расход эл.энергии за час | F12: показания счетчика | G12: разность | I12: расход эл.энергии за час | J12: показания счетчика | K12: разность | M12: расход эл.энергии за час | N12: показания счетчика | O12: разность | Q12: расход эл.энергии за час
A13: 1 | B13: 2 | C13: 3 | E13: 4 | F13: 5 | G13: 6 | I13: 7 | J13: 8 | K13: 9 | M13: 10 | N13: 11 | O13: 12 | Q13: 13
A14: 0 | E14: 15.42 | I14: 29.07 | Q14: 2.25
A15: 1 | E15: 13.2 | I15: 32.37 | Q15: 1.65
A16: 2 | E16: 11.22 | I16: 27.75 | Q16: 2.25
A17: 3 | E17: 11.34 | I17: 31.5 | Q17: 1.44
A18: 4 | E18: 11.4 | I18: 28.89 | Q18: 1.32
A19: 5 | E19: 11.52 | I19: 28.23 | Q19: 1.32
A20: 6 | E20: 20.4 | I20: 41.13 | Q20: 1.17
A21: 7 | E21: 25.56 | I21: 57.03 | Q21: 1.35
A22: 8 | E22: 19.98 | I22: 48.42 | Q22: 1.53
A23: 9 | E23: 14.7 | I23: 37.98 | Q23: 1.56
A24: 10 | E24: 17.34 | I24: 34.11 | Q24: 1.98
A25: 11 | E25: 18.06 | I25: 38.25 | Q25: 1.86
... A37: 23 | E37: 17.34 | I37: 35.94 | Q37: 2.01
A38: Итого | E38: =SUM(E14:E37) -> 430.68 | I38: =SUM(I14:I37) -> 929.94 | M38: =SUM(M14:M37) -> 0 | Q38: =SUM(Q14:Q37) -> 42.03
A39: 1. При наличии на предприятии отклонений от нормальных режимов электропотребления (временное изменение схем питания, остановка на ремонт, резкое снижение
A40: эл.потребления и т.д.) последние необходимо перечислить.
A41: Главный инженер АО "Вологдаоблэнерго" А.В. Чурляев
A42: составляется самим предприятием с соблюдением всех пунктов настоящей таблицы.

Sheet 66_1
B1: АО "Вологдаоблэнерго" | J1: код 900151 | K1: ПС "Вашки" 110/10 кВ
B2: наименование предприятия | N2: наименование источника питания
B3: уч -к г. Белозерск с. Липин Бор
B4: ул. Горького, 99 | I4: Таблица № 1
B5: адрес
A6: почасовых записей показаний электрических счетчиков
A7: в режимный день 20 Декабря 2023 г.
A8: 1704 | B8: 1705
A9: часы суток | B9: Активная энергия | J9: Реактивная энергия
B10: яч. 1 - ВЛ-10кВ.фид. Липин Бор | F10: яч.2 - ВЛ-10кВ.фид. Коммунальный | J10: =B10 -> яч. 1 - ВЛ-10кВ.фид. Липин Бор | N10: =F10 -> яч.2 - ВЛ-10кВ.фид. Коммунальный
B11: Расчет. Коэф. | E11: 60 | F11: Расчет. Коэф. | I11: 60 | J11: Расчет. Коэф. | M11: =E11 -> 60 | N11: Расчет. Коэф. | Q11: =I11 -> 60
B12: показания счетчика | C12: разность | E12: расход эл.энергии за час | F12: показания счетчика | G12: разность | I12: расход эл.энергии за час | J12: показания счетчика | K12: разность | M12: расход эл.энергии за час | N12: показания счетчика | O12: разность | Q12: расход эл.энергии за час
A13: 1 | B13: 2 | C13: 3 | E13: 4 | F13: 5 | G13: 6 | I13: 7 | J13: 8 | K13: 9 | M13: 10 | N13: 11 | O13: 12 | Q13: 13
A14: 0 | E14: 269 | I14: 678 | M14: 69 | Q14: 154
A15: 1 | E15: 260 | I15: 640 | M15: 69 | Q15: 155
A16: 2 | E16: 266 | I16: 616 | M16: 67 | Q16: 150
A17: 3 | E17: 256 | I17: 632 | M17: 67 | Q17: 149
A18: 4 | E18: 264 | I18: 642 | M18: 65 | Q18: 143
A19: 5 | E19: 278 | I19: 674 | M19: 65 | Q19: 129
A20: 6 | E20: 312 | I20: 741 | M20: 69 | Q20: 119
A21: 7 | E21: 368 | I21: 958 | M21: 72 | Q21: 139
A22: 8 | E22: 355 | I22: 1046 | M22: 73 | Q22: 165
A23: 9 | E23: 332 | I23: 1088 | M23: 91 | Q23: 182
A24: 10 | E24: 358 | I24: 1077 | M24: 112 | Q24: 196
A25: 11 | E25: 331 | I25: 1044 | M25: 96 | Q25: 170
... A37: 23 | E37: 307 | I37: 751 | M37: 66 | Q37: 164
A38: Итого | E38: =SUM(E14:E37) -> 7855 | I38: =SUM(I14:I37) -> 21332 | M38: =SUM(M14:M37) -> 1728 | Q38: =SUM(Q14:Q37) -> 3907
A39: 1. При наличии на предприятии отклонений от нормальных режимов электропотребления (временное изменение схем питания, остановка на ремонт, резкое снижение
A40: эл.потребления и т.д.) последние необходимо перечислить.
A41: Главный инженер АО "Вологдаоблэнерго" А.В. Чурляев
A42: составляется самим предприятием с соблюдением всех пунктов настоящей таблицы.

Sheet 67
B1: АО "Вологдаоблэнерго" | J1: код 900151 | K1: ПС "Белоусово"
B2: наименование предприятия | N2: наименование источника питания
B3: уч -к г. Вытегра
B4: ул. Горького, 99 | I4: Таблица № 1
B5: адрес
A6: почасовых записей показаний электрических счетчиков
A7: в режимный день 20 Декабря 2023 г.
A8: 852 | B8: 851
A9: часы суток | B9: Активная энергия | J9: Реактивная энергия
B10: ВЛ-6кВ Ф-9 Погрузка | F10: ВЛ-6 кВ Ф-7 ЛПХ | J10: =B10 -> ВЛ-6кВ Ф-9 Погрузка | N10: =F10 -> ВЛ-6 кВ Ф-7 ЛПХ
B11: Расчет. Коэф. | E11: 1800 | F11: Расчет. Коэф. | I11: 2400 | J11: Расчет. Коэф. | M11: =E11 -> 1800 | N11: Расчет. Коэф. | Q11: =I11 -> 2400
B12: показания счетчика | C12: разность | E12: расход эл.энергии за час | F12: показания счетчика | G12: разность | I12: расход эл.энергии за час | J12: показания счетчика | K12: разность | M12: расход эл.энергии за час | N12: показания счетчика | O12: разность | Q12: расход эл.энергии за час
A13: 1 | B13: 2 | C13: 3 | E13: 4 | F13: 5 | G13: 6 | I13: 7 | J13: 8 | K13: 9 | M13: 10 | N13: 11 | O13: 12 | Q13: 13
A14: 0 | E14: 0 | I14: 9 | M14: 0 | Q14: 37
A15: 1 | E15: 0 | I15: 8 | M15: 0 | Q15: 36
A16: 2 | E16: 0 | I16: 8 | M16: 0 | Q16: 37
A17: 3 | E17: 0 | I17: 9 | M17: 0 | Q17: 37
A18: 4 | E18: 0 | I18: 8 | M18: 0 | Q18: 37
A19: 5 | E19: 0 | I19: 9 | M19: 0 | Q19: 36
A20: 6 | E20: 0 | I20: 8 | M20: 0 | Q20: 36
A21: 7 | E21: 0 | I21: 9 | M21: 0 | Q21: 36
A22: 8 | E22: 0 | I22: 9 | M22: 0 | Q22: 34
A23: 9 | E23: 0 | I23: 8 | M23: 0 | Q23: 32
A24: 10 | E24: 0 | I24: 9 | M24: 0 | Q24: 34
A25: 11 | E25: 0 | I25: 8 | M25: 0 | Q25: 33
... A37: 23 | E37: 0 | I37: 8 | M37: 0 | Q37: 35
A38: Итого | E38: =SUM(E14:E37) -> 0 | I38: =SUM(I14:I37) -> 200 | M38: =SUM(M14:M37) -> 0 | Q38: =SUM(Q14:Q37) -> 831
A39: 1. При наличии на предприятии отклонений от нормальных режимов электропотребления (временное изменение схем питания, остановка на ремонт, резкое снижение
A40: эл.потребления и т.д.) последние необходимо перечислить.
A41: Главный инженер АО "Вологдаоблэнерго" А.В. Чурляев
A42: составляется самим предприятием с соблюдением всех пунктов настоящей таблицы.

Sheet 68
B1: АО "Вологдаоблэнерго" | J1: код 900151 | K1: ПС "Ольховская"
B2: наименование предприятия | N2: наименование источника питания
B3: уч -к г. Вытегра
B4: ул. Горького, 99 | I4: Таблица № 1
B5: адрес
A6: почасовых записей показаний электрических счетчиков
A7: в режимный день 20 Декабря 2023 г.
A8: 2138 | B8: 2139
A9: часы суток | B9: Активная энергия | J9: Реактивная энергия
B10: яч. 1 - ВЛ-10 кВ Ф-2 ЛПХ | F10: ВЛ-10 кВ Ф-3 Мирный | J10: яч. 1 - ВЛ-10 кВ Ф-2 ЛПХ | N10: =F10 -> ВЛ-10 кВ Ф-3 Мирный
B11: Расчет. Коэф. | E11: 1000 | F11: Расчет. Коэф. | I11: 1000 | J11: Расчет. Коэф. | M11: =E11 -> 1000 | N11: Расчет. Коэф. | Q11: =I11 -> 1000
B12: показания счетчика | C12: разность | E12: расход эл.энергии за час | F12: показания счетчика | G12: разность | I12: расход эл.энергии за час | J12: показания счетчика | K12: разность | M12: расход эл.энергии за час | N12: показания счетчика | O12: разность | Q12: расход эл.энергии за час
A13: 1 | B13: 2 | C13: 3 | E13: 4 | F13: 5 | G13: 6 | I13: 7 | J13: 8 | K13: 9 | M13: 10 | N13: 11 | O13: 12 | Q13: 13
A14: 0 | E14: 57 | I14: 89 | M14: 30 | Q14: 14
A15: 1 | E15: 56 | I15: 88 | M15: 30 | Q15: 14
A16: 2 | E16: 55 | I16: 89 | M16: 29 | Q16: 14
A17: 3 | E17: 56 | I17: 89 | M17: 29 | Q17: 14
A18: 4 | E18: 57 | I18: 90 | M18: 29 | Q18: 14
A19: 5 | E19: 62 | I19: 88 | M19: 30 | Q19: 13
A20: 6 | E20: 65 | I20: 93 | M20: 28 | Q20: 14
A21: 7 | E21: 78 | I21: 94 | M21: 29 | Q21: 14
A22: 8 | E22: 81 | I22: 98 | M22: 29 | Q22: 14
A23: 9 | E23: 79 | I23: 92 | M23: 28 | Q23: 14
A24: 10 | E24: 68 | I24: 96 | M24: 28 | Q24: 14
A25: 11 | E25: 67 | I25: 102 | M25: 27 | Q25: 16
... A37: 23 | E37: 64 | I37: 86 | M37: 30 | Q37: 13
A38: Итого | E38: =SUM(E14:E37) -> 1612 | I38: =SUM(I14:I37) -> 2223 | M38: =SUM(M14:M37) -> 679 | Q38: =SUM(Q14:Q37) -> 333
A39: 1. При наличии на предприятии отклонений от нормальных режимов электропотребления (временное изменение схем питания, остановка на ремонт, резкое снижение
A40: эл.потребления и т.д.) последние необходимо перечислить.
A41: Главный инженер АО "Вологдаоблэнерго" А.В. Чурляев
A42: составляется самим предприятием с соблюдением всех пунктов настоящей таблицы.

Sheet 69
B1: АО "Вологдаоблэнерго" | J1: код 900151 | K1: ПС "Восточная"
B2: наименование предприятия | N2: наименование источника питания
B3: уч -к г. Вытегра
B4: ул. Горького, 99 | I4: Таблица № 1
B5: адрес
A6: почасовых записей показаний электрических счетчиков
A7: в режимный день 20 Декабря 2023 г.
A8: 855 | B8: 854
A9: часы суток | B9: Активная энергия | J9: Реактивная энергия
B10: ВЛ-10 кВ Центр | F10: ВЛ-10 кВ Воинская часть | J10: =B10 -> ВЛ-10 кВ Центр | N10: =F10 -> ВЛ-10 кВ Воинская часть
B11: Расчет. Коэф. | E11: 6000 | F11: Расчет. Коэф. | I11: 4000 | J11: Расчет. Коэф. | M11: =E11 -> 6000 | N11: Расчет. Коэф. | Q11: =I11 -> 4000
B12: показания счетчика | C12: разность | E12: расход эл.энергии за час | F12: показания счетчика | G12: разность | I12: расход эл.энергии за час | J12: показания счетчика | K12: разность | M12: расход эл.энергии за час | N12: показания счетчика | O12: разность | Q12: расход эл.энергии за час
A13: 1 | B13: 2 | C13: 3 | E13: 4 | F13: 5 | G13: 6 | I13: 7 | J13: 8 | K13: 9 | M13: 10 | N13: 11 | O13: 12 | Q13: 13
A14: 0 | E14: 391 | I14: 1084 | M14: 55 | Q14: 191
A15: 1 | E15: 367 | I15: 1046 | M15: 54 | Q15: 194
A16: 2 | E16: 358 | I16: 1025 | M16: 56 | Q16: 191
A17: 3 | E17: 356 | I17: 1023 | M17: 57 | Q17: 198
A18: 4 | E18: 376 | I18: 1009 | M18: 55 | Q18: 186
A19: 5 | E19: 413 | I19: 1061 | M19: 57 | Q19: 188
A20: 6 | E20: 495 | I20: 1216 | M20: 57 | Q20: 183
A21: 7 | E21: 573 | I21: 1324 | M21: 66 | Q21: 188
A22: 8 | E22: 667 | I22: 1290 | M22: 74 | Q22: 183
A23: 9 | E23: 683 | I23: 1514 | M23: 81 | Q23: 232
A24: 10 | E24: 638 | I24: 1699 | M24: 81 | Q24: 270
A25: 11 | E25: 608 | I25: 1688 | M25: 79 | Q25: 268
... A37: 23 | E37: 812 | I37: 1190 | M37: 80 | Q37: 180
A38: Итого | E38: =SUM(E14:E37) -> 17782 | I38: =SUM(I14:I37) -> 31854 | M38: =SUM(M14:M37) -> 1917 | Q38: =SUM(Q14:Q37) -> 4844
A39: 1. При наличии на предприятии отклонений от нормальных режимов электропотребления (временное изменение схем питания, остановка на ремонт, резкое снижение
A40: эл.потребления и т.д.) последние необходимо перечислить.
A41: Главный инженер АО "Вологдаоблэнерго" А.В. Чурляев
A42: составляется самим предприятием с соблюдением всех пунктов настоящей таблицы.

Sheet 70
B1: АО "Вологдаоблэнерго" | J1: код 900151 | K1: ПС "Восточная"
B2: наименование предприятия | N2: наименование источника питания
B3: уч -к г. Вытегра
B4: ул. Горького, 99 | I4: Таблица № 1
B5: адрес
A6: почасовых записей показаний электрических счетчиков
A7: в режимный день 20 Декабря 2023 г.
A8: 856 | B8: 951
A9: часы суток | B9: Активная энергия | J9: Реактивная энергия
B10: ВЛ-10 кВ Шестово | F10: ф.1 Город | J10: =B10 -> ВЛ-10 кВ Шестово | N10: =F10 -> ф.1 Город
B11: Расчет. Коэф. | E11: 4000 | F11: Расчет. Коэф. | J11: Расчет. Коэф. | M11: =E11 -> 4000 | N11: Расчет. Коэф.
B12: показания счетчика | C12: разность | E12: расход эл.энергии за час | F12: показания счетчика | G12: разность | I12: расход эл.энергии за час | J12: показания счетчика | K12: разность | M12: расход эл.энергии за час | N12: показания счетчика | O12: разность | Q12: расход эл.энергии за час
A13: 1 | B13: 2 | C13: 3 | E13: 4 | F13: 5 | G13: 6 | I13: 7 | J13: 8 | K13: 9 | M13: 10 | N13: 11 | O13: 12 | Q13: 13
A14: 0 | E14: 607 | I14: 1074 | M14: 132
A15: 1 | E15: 552 | I15: 1027.2 | M15: 132
A16: 2 | E16: 540 | I16: 1005.6 | M16: 131
A17: 3 | E17: 518 | I17: 995.4 | M17: 130
A18: 4 | E18: 527 | I18: 1003.8 | M18: 129
A19: 5 | E19: 548 | I19: 1035 | M19: 125
A20: 6 | E20: 670 | I20: 1186.8 | M20: 126
A21: 7 | E21: 723 | I21: 1360.8 | M21: 126
A22: 8 | E22: 708 | I22: 1431 | M22: 125
A23: 9 | E23: 726 | I23: 1155 | M23: 129
A24: 10 | E24: 706 | I24: 774 | M24: 125
A25: 11 | E25: 694 | I25: 766.2 | M25: 127
... A37: 23 | E37: 641 | I37: 796.8 | M37: 127
A38: Итого | E38: =SUM(E14:E37) -> 16567 | I38: =SUM(I14:I37) -> 24993.6 | M38: =SUM(M14:M37) -> 3039 | Q38: =SUM(Q14:Q37) -> 0
A39: 1. При наличии на предприятии отклонений от нормальных режимов электропотребления (временное изменение схем питания, остановка на ремонт, резкое снижение
A40: эл.потребления и т.д.) последние необходимо перечислить.
A41: Главный инженер АО "Вологдаоблэнерго" А.В. Чурляев
A42: составляется самим предприятием с соблюдением всех пунктов настоящей таблицы.

Sheet 70_1
B1: АО "Вологдаоблэнерго" | J1: код 900151 | K1: ПС "Восточная"
B2: наименование предприятия | N2: наименование источника питания
B3: уч -к г. Вытегра | N3: яч.25 ф Стадион
B4: ул. Горького, 99 | I4: Таблица № 1
B5: адрес
A6: почасовых записей показаний электрических счетчиков
A7: в режимный день 20 Декабря 2023 г.
A8: 856 | B8: 951
A9: часы суток | B9: Активная энергия | J9: Реактивная энергия
B10: ВЛ-10 кВ ф Стадион | J10: =B10 -> ВЛ-10 кВ ф Стадион | N10: =F10 -> 0
B11: Расчет. Коэф. | E11: 4000 | F11: Расчет. Коэф. | J11: Расчет. Коэф. | M11: =E11 -> 4000 | N11: Расчет. Коэф.
B12: показания счетчика | C12: разность | E12: расход эл.энергии за час | F12: показания счетчика | G12: разность | I12: расход эл.энергии за час | J12: показания счетчика | K12: разность | M12: расход эл.энергии за час | N12: показания счетчика | O12: разность | Q12: расход эл.энергии за час
A13: 1 | B13: 2 | C13: 3 | E13: 4 | F13: 5 | G13: 6 | I13: 7 | J13: 8 | K13: 9 | M13: 10 | N13: 11 | O13: 12 | Q13: 13
A14: 0 | E14: 26.8
A15: 1 | E15: 22.4
A16: 2 | E16: 24
A17: 3 | E17: 22
A18: 4 | E18: 24
A19: 5 | E19: 24
A20: 6 | E20: 31.2
A21: 7 | E21: 32
A22: 8 | E22: 30.8
