Workbook

Sheet Содержание книги
A1: Содержание
A4: № листа | B4: Электросетевой участок | C4: Центр питания
A5: 1, 2 | B5: г. Вологда | C5: ПС "АНАНЬИНО"
A6: 3 | B6: г. Вологда | C6: ПС ЕРМАКОВО
A7: 4 | B7: г. Вологда | C7: ПС "МАЕГА"
A8: 5,6, 7, 8, 9 | B8: г. Вологда | C8: ПС "ЗАПАДНАЯ
A9: 10 | B9: г. Вологда | C9: ПС "СЕВЕРНАЯ 35/6 кВ
A10: 11 | B10: г. Вологда | C10: РТП "ТЕПЛИЧНОГО ХОЗ - ВА"
A11: 12,13, 14 | B11: г. Вологда | C11: ГПП 110/10 кВ "ВОМЗ"
A12: 15,16,17,18,19,20, 21, 21-1, 21-2, 21-3, 21-4 | B12: г. Вологда | C12: ПС ВОЛОГДА-ЮЖНАЯ РУ - 6 -10 кВ
A13: 21-5, | C13: ПС ВОЛОГДА-ЮЖНАЯ РУ 6 кВ ОАО "БМЗ"
A14: 22 | B14: г. Вологда | C14: ГПП ВОЛОГДА - ТЯГОВАЯ 110/27,5/6 кВ
A15: 23 | B15: г. Вологда | C15: ТП 10 РЖД
A16: 24 | B16: г. Вологда | C16: ТП 34 РЖД
A17: 25,26,27,28,29 | B17: г. Вологда | C17: ТГК- 2 ВТЭЦ РП 6 кВ
A18: 30,31,32,33,34,34-1 | B18: г. Вологда | C18: ПС "ЦЕНТРАЛЬНАЯ" 110/6 кВ
A19: 35, 36 | B19: г. Вологда | C19: ПС "ГОРОДСКАЯ" 35/6 кВ
A20: 37, 38, 39, 39-1 | B20: г. Вологда | C20: ПС "ВОСТОЧНАЯ" 110/35/10 кВ
A21: 40, 40-1, 41,41-1 | B21: г. Вологда | C21: ПС "ЛУГОВАЯ"
A22: 42 | B22: г. Вологда | C22: РП "ГОРКА"
A23: 43, 44 | B23: г. Вологда | C23: ГПП 2 ЗАО ВПЗ
A24: 45 | B24: г. Вологда | C24: ГПП 1 ЗАО ВПЗ
A25: 46 | B25: ЭСУ "Кубенское" | C25: ПС "Кубенское"
A26: 47, 48, 48-1,48-2 | B26: ЭСУ п. Молочное | C26: ПС "Молочное" 35/10 кВ
A27: 49, 50, 50-1, 50-2, 50-3 | B27: ЭСУ "Устье-Кубенское" | C27: РТП "КОРНИЛОВО" 35/10 кВ
A28: 51, 52, | B28: ЭСУ "Шуйское" | C28: ПС "ШУЙСКОЕ" 35/ 10 кВ
A29: 53 | B29: ЭСУ г. Сокол | C29: ПС ИП Сокол 110/10/10
A30: 54.55 | B30: ЭСУ г. Сокол | C30: ПС "ГДЗ" 110/6 кВ
A31: 56, 57, 58, | B31: ЭСУ г. Сокол | C31: ОАО "Сокольский" ЦБК" ГПП 35/6 кВ
A32: 59 | B32: ЭСУ г. Сокол | C32: ОАО "Сокольский" ЦБК" ГПП 110/6 кВ
A33: 60, 61, 62, 63 | B33: ЭСУ г. Сокол | C33: ООО "Сухонский ЦБК" ГПП 110/6 кВ
A34: 64-66-1 | B34: ЭСУ "Белозерск" | C34: ПС Белозерск, ПС Вашки
A35: 67-75 | B35: ЭСУ "Вытегра" | C35: ПС 35 кВ Вытегра, ПС 110 кВ Восточная ПС
A36: 76-81_1 | B36: ЭСУ "Харовск" | C36: ПС 110 кВ Харовск (Р), ПС 110 кВ Харовск-Тяговая
A37: 82-86 | B37: ЭТУ "Вожега" | C37: ПС 110 кВ Вожега
A38: 87-91 | B38: ЭТУ "Тотьма" | C38: ПС 110 кВ Тоьма-1, ПС 110 кВ Тотьма-2
A39: 92-95 | B39: ЭСУ "Сямжа" | C39: ПС 110 кВ Сямжа
A40: 96-97 | B40: ЭСУ "Грязовец" | C40: ПС 110 кВ Грязовец
A42: Содержание
A45: № листа | B45: Электросетевой участок | C45: Центр питания
...

Sheet 1
B1: АО "Вологдаоблэнерго" | J1: код 900151 | N1: ПС "АНАНЬИНО"
B2: наименование предприятия | N2: наименование источника питания
N3: _________________________________
B4: ул. Горького, 99 | I4: Таблица № 1 | O4: ВЛ 10 кВ № 31
B5: адрес
A6: почасовых записей показаний электрических счетчиков
A7: в режимный день 20 Декабря 2023 г.
A8: 1629
A9: часы суток | B9: Активная энергия | J9: Реактивная энергия
B10: ЯЧ. № 7 - Ф."Город 7" | J10: ЯЧ. № 7 - Ф."Город 7"
B11: Расчет. Коэф. | E11: 3600 | F11: Расчет. Коэф. | J11: Расчет. Коэф. | M11: =E11 -> 3600 | N11: Расчет. Коэф.
B12: показания счетчика | C12: разность | E12: расход эл.энергии за час | F12: показания счетчика | G12: разность | I12: расход эл.энергии за час | J12: показания счетчика | K12: разность | M12: расход эл.энергии за час | N12: показания счетчика | O12: разность | Q12: расход эл.энергии за час
A13: 1 | B13: 2 | C13: 3 | E13: 4 | F13: 5 | G13: 6 | I13: 7 | J13: 8 | K13: 9 | M13: 10 | N13: 11 | O13: 12 | Q13: 13
A14: 0 | E14: 668 | M14: 286
A15: 1 | E15: 657 | M15: 290
A16: 2 | E16: 672 | M16: 287
A17: 3 | E17: 614 | M17: 258
A18: 4 | E18: 641 | M18: 255
A19: 5 | E19: 673 | M19: 255
A20: 6 | E20: 739 | M20: 255
A21: 7 | E21: 784 | M21: 245
A22: 8 | E22: 825 | M22: 253
A23: 9 | E23: 863 | M23: 322
A24: 10 | E24: 879 | M24: 331
A25: 11 | E25: 883 | M25: 283
... A37: 23 | E37: 698 | M37: 269
A38: Итого | E38: =SUM(E14:E37) -> 18523 | I38: =SUM(I14:I37) -> 0 | M38: =SUM(M14:M37) -> 6793 | Q38: =SUM(Q14:Q37) -> 0
A39: 1. При наличии на предприятии отклонений от нормальных режимов электропотребления (временное изменение схем питания, остановка на ремонт, резкое снижение
A40: эл.потребления и т.д.) последние необходимо перечислить.
A41: Главный инженер АО "Вологдаоблэнерго" А.В. Чурляев
A42: составляется самим предприятием с соблюдением всех пунктов настоящей таблицы.

Sheet 2
B1: АО "Вологдаоблэнерго" | J1: код 900151 | N1: ПС "АНАНЬИНО"
B2: наименование предприятия | N2: наименование источника питания
N3: _________________________________
B4: ул. Горького, 99 | I4: Таблица № 1 | O4: РП 36 ф 16; ТП 360
B5: адрес
A6: почасовых записей показаний электрических счетчиков
A7: в режимный день 20 Декабря 2023 г.
A8: 1630 | B8: 1628
A9: часы суток | B9: Активная энергия | J9: Реактивная энергия
B10: ЯЧ. № 2 - Ф."Овощехранилище" | F10: ЯЧ. № 8 - Ф."Городской" | J10: ЯЧ. № 2 - Ф."Овощехранилище" | N10: ЯЧ. № 8 - Ф."Городской"
B11: Расчет. Коэф. | E11: 3600 | F11: Расчет. Коэф. | I11: 2400 | J11: Расчет. Коэф. | M11: =E11 -> 3600 | N11: Расчет. Коэф. | Q11: =I11 -> 2400
B12: показания счетчика | C12: разность | E12: расход эл.энергии за час | F12: показания счетчика | G12: разность | I12: расход эл.энергии за час | J12: показания счетчика | K12: разность | M12: расход эл.энергии за час | N12: показания счетчика | O12: разность | Q12: расход эл.энергии за час
A13: 1 | B13: 2 | C13: 3 | E13: 4 | F13: 5 | G13: 6 | I13: 7 | J13: 8 | K13: 9 | M13: 10 | N13: 11 | O13: 12 | Q13: 13
A14: 0 | E14: 179 | I14: 260 | M14: 94 | Q14: 82
A15: 1 | E15: 154 | I15: 249 | M15: 75 | Q15: 80
A16: 2 | E16: 155 | I16: 246 | M16: 68 | Q16: 79
A17: 3 | E17: 153 | I17: 254 | M17: 67 | Q17: 80
A18: 4 | E18: 155 | I18: 258 | M18: 58 | Q18: 76
A19: 5 | E19: 269 | I19: 282 | M19: 60 | Q19: 77
A20: 6 | E20: 231 | I20: 300 | M20: 56 | Q20: 78
A21: 7 | E21: 314 | I21: 311 | M21: 61 | Q21: 83
A22: 8 | E22: 545 | I22: 321 | M22: 309 | Q22: 89
A23: 9 | E23: 660 | I23: 345 | M23: 395 | Q23: 100
A24: 10 | E24: 597 | I24: 330 | M24: 325 | Q24: 93
A25: 11 | E25: 701 | I25: 345 | M25: 389 | Q25: 100
... A37: 23 | E37: 162 | I37: 273 | M37: 62 | Q37: 77
A38: Итого | E38: =SUM(E14:E37) -> 9108 | I38: =SUM(I14:I37) -> 7080 | M38: =SUM(M14:M37) -> 4263 | Q38: =SUM(Q14:Q37) -> 1979
A39: 1. При наличии на предприятии отклонений от нормальных режимов электропотребления (временное изменение схем питания, остановка на ремонт, резкое снижение
A40: эл.потребления и т.д.) последние необходимо перечислить.
A41: Главный инженер АО "Вологдаоблэнерго" А.В. Чурляев
A42: составляется самим предприятием с соблюдением всех пунктов настоящей таблицы.

Sheet 3
B1: АО "Вологдаоблэнерго" | J1: код 900151 | N1: ПС 110 кВ ЕРМАКОВО
B2: наименование предприятия | N2: наименование источника питания
N3: яч. 18 ф."РУБЦОВО"
B4: ул. Горького, 99 | I4: Таблица № 1 | O4: ВЛ-10кВ № 2
B5: адрес
A6: почасовых записей показаний электрических счетчиков
A7: в режимный день 20 Декабря 2023 г.
A8: 374
A9: часы суток | B9: Активная энергия | J9: Реактивная энергия
B10: яч. 18 ф."РУБЦОВО"- ПКУ - ВЛ№2 | J10: яч. 18 ф."РУБЦОВО"- ПКУ - ВЛ№2
B11: Расчет. Коэф. | E11: 1000 | F11: Расчет. Коэф. | I11: 0 | J11: Расчет. Коэф. | M11: =E11 -> 1000 | N11: Расчет. Коэф. | Q11: =I11 -> 0
B12: показания счетчика | C12: разность | E12: расход эл.энергии за час | F12: показания счетчика | G12: разность | I12: расход эл.энергии за час | J12: показания счетчика | K12: разность | M12: расход эл.энергии за час | N12: показания счетчика | O12: разность | Q12: расход эл.энергии за час
A13: 1 | B13: 2 | C13: 3 | E13: 4 | F13: 5 | G13: 6 | I13: 7 | J13: 8 | K13: 9 | M13: 10 | N13: 11 | O13: 12 | Q13: 13
A14: 0 | E14: 497.4 | M14: 20.6
A15: 1 | E15: 489.6 | M15: 18.2
A16: 2 | E16: 461.6 | M16: 16.6
A17: 3 | E17: 470.8 | M17: 16.4
A18: 4 | E18: 493.8 | M18: 18
A19: 5 | E19: 505.4 | M19: 19.4
A20: 6 | E20: 541.6 | M20: 20.6
A21: 7 | E21: 541.6 | M21: 19.8
A22: 8 | E22: 515.8 | M22: 17
A23: 9 | E23: 484.6 | M23: 19
A24: 10 | E24: 482.4 | M24: 23.8
A25: 11 | E25: 479 | M25: 23
... A37: 23 | E37: 523.2 | M37: 20.8
A38: Итого | E38: =SUM(E14:E37) -> 12473 | I38: =SUM(I14:I37) -> 0 | M38: =SUM(M14:M37) -> 550.4 | Q38: =SUM(Q14:Q37) -> 0
A39: 1. При наличии на предприятии отклонений от нормальных режимов электропотребления (временное изменение схем питания, остановка на ремонт, резкое снижение
A40: эл.потребления и т.д.) последние необходимо перечислить.
A41: Главный инженер АО "Вологдаоблэнерго" А.В. Чурляев
A42: составляется самим предприятием с соблюдением всех пунктов настоящей таблицы.

Sheet 4
B1: АО "Вологдаоблэнерго" | J1: код 900151 | N1: ПС "МАЕГА"
B2: наименование предприятия | N2: наименование источника питания
N3: яч. 13 - Ф НИКИТИНО
B4: ул. Горького, 99 | I4: Таблица № 1 | O4: ВЛ 10 кВ №27
B5: адрес
A6: почасовых записей показаний электрических счетчиков
A7: в режимный день 20 Декабря 2023 г.
A8: 363
A9: часы суток | B9: Активная энергия | J9: Реактивная энергия
B10: яч. 13 - Ф НИКИТИНО-СВ - ВЛ№27 | J10: яч. 13 - Ф НИКИТИНО-СВ - ВЛ№27
B11: Расчет. Коэф. | E11: 1500 | F11: Расчет. Коэф. | I11: 0 | J11: Расчет. Коэф. | M11: =E11 -> 1500 | N11: Расчет. Коэф. | Q11: =I11 -> 0
B12: показания счетчика | C12: разность | E12: расход эл.энергии за час | F12: показания счетчика | G12: разность | I12: расход эл.энергии за час | J12: показания счетчика | K12: разность | M12: расход эл.энергии за час | N12: показания счетчика | O12: разность | Q12: расход эл.энергии за час
A13: 1 | B13: 2 | C13: 3 | E13: 4 | F13: 5 | G13: 6 | I13: 7 | J13: 8 | K13: 9 | M13: 10 | N13: 11 | O13: 12 | Q13: 13
A14: 0 | E14: 763.35 | M14: 59.25
A15: 1 | E15: 748.8 | M15: 57.45
A16: 2 | E16: 733.05 | M16: 55.05
A17: 3 | E17: 728.25 | M17: 54
A18: 4 | E18: 728.55 | M18: 54.3
A19: 5 | E19: 777 | M19: 57.6
A20: 6 | E20: 836.85 | M20: 56.55
A21: 7 | E21: 907.35 | M21: 73.95
A22: 8 | E22: 945.45 | M22: 94.35
A23: 9 | E23: 1456.35 | M23: 185.7
A24: 10 | E24: 1441.05 | M24: 187.95
A25: 11 | E25: 1405.2 | M25: 184.65
... A37: 23 | E37: 1246.5 | M37: 116.7
A38: Итого | E38: =SUM(E14:E37) -> 28875.9 | I38: =SUM(I14:I37) -> 0 | M38: =SUM(M14:M37) -> 2898.75 | Q38: =SUM(Q14:Q37) -> 0
A39: 1. При наличии на предприятии отклонений от нормальных режимов электропотребления (временное изменение схем питания, остановка на ремонт, резкое снижение
A40: эл.потребления и т.д.) последние необходимо перечислить.
A41: Главный инженер АО "Вологдаоблэнерго" А.В. Чурляев
A42: составляется самим предприятием с соблюдением всех пунктов настоящей таблицы.

Sheet 5
B1: АО "Вологдаоблэнерго" | J1: код 900151 | N1: ПС "ЗАПАДНАЯ"
B2: наименование предприятия | N2: наименование источника питания
N3: _________________________________
B4: ул. Горького, 99 | I4: Таблица № 1 | O4: РП 16
B5: адрес
A6: почасовых записей показаний электрических счетчиков
A7: в режимный день 20 Декабря 2023 г.
A8: 372 | B8: 368
A9: часы суток | B9: Активная энергия | J9: Реактивная энергия
B10: Яч. 21 - "РМЗ-1" | F10: Яч. 28 - "РМЗ-2" | J10: Яч. 21 - "РМЗ-1" | N10: Яч. 28 - "РМЗ-2"
B11: Расчет. Коэф. | E11: 7200 | F11: Расчет. Коэф. | I11: 7200 | J11: Расчет. Коэф. | M11: =E11 -> 7200 | N11: Расчет. Коэф. | Q11: =I11 -> 7200
B12: показания счетчика | C12: разность | E12: расход эл.энергии за час | F12: показания счетчика | G12: разность | I12: расход эл.энергии за час | J12: показания счетчика | K12: разность | M12: расход эл.энергии за час | N12: показания счетчика | O12: разность | Q12: расход эл.энергии за час
A13: 1 | B13: 2 | C13: 3 | E13: 4 | F13: 5 | G13: 6 | I13: 7 | J13: 8 | K13: 9 | M13: 10 | N13: 11 | O13: 12 | Q13: 13
A14: 0 | E14: 501.1375 | I14: 1130.8832
A15: 1 | E15: 472.16377 | I15: 1072.1909
A16: 2 | E16: 481.96371 | I16: 1032.094
A17: 3 | E17: 493.21164 | I17: 1033.9958
A18: 4 | E18: 550.71225 | I18: 1046.7402
A19: 5 | E19: 564.00055 | I19: 1148.6748
A20: 6 | E20: 639.23041 | I20: 1335.5215
A21: 7 | E21: 842.20932 | I21: 1586.6583
A22: 8 | E22: 1060.6312 | I22: 1730.2141
A23: 9 | E23: 1111.415 | I23: 1799.7836
A24: 10 | E24: 1152.5096 | I24: 1795.4397
A25: 11 | E25: 1114.737 | I25: 1842.2155
... A37: 23 | E37: 486.62985 | I37: 1236.1122
A38: Итого | E38: =SUM(E14:E37) -> 19239.501 | I38: =SUM(I14:I37) -> 36489.244 | M38: =SUM(M14:M37) -> 0 | Q38: =SUM(Q14:Q37) -> 0
A39: 1. При наличии на предприятии отклонений от нормальных режимов электропотребления (временное изменение схем питания, остановка на ремонт, резкое снижение
A40: эл.потребления и т.д.) последние необходимо перечислить.
A41: Главный инженер АО "Вологдаоблэнерго" А.В. Чурляев
A42: составляется самим предприятием с соблюдением всех пунктов настоящей таблицы.

Sheet 6
B1: АО "Вологдаоблэнерго" | J1: код 900151 | N1: ПС "ЗАПАДНАЯ"
B2: наименование предприятия | N2: наименование источника питания
N3: _________________________________
B4: ул. Горького, 99 | I4: Таблица № 1 | N4: РП 10 ф7 | Q4: РП 36 ф17
B5: адрес
A6: почасовых записей показаний электрических счетчиков
A7: в режимный день 20 Декабря 2023 г.
A8: 370 | B8: 365
A9: часы суток | B9: Активная энергия | J9: Реактивная энергия
B10: яч. 16 - ф."ОЧИСТНЫЕ-1" | F10: яч. 24 - "ГОРОД-1" | J10: яч. 16 - ф."ОЧИСТНЫЕ-1" | N10: яч. 24 - "ГОРОД-1"
B11: Расчет. Коэф. | E11: 4800 | F11: Расчет. Коэф. | I11: 7200 | J11: Расчет. Коэф. | M11: =E11 -> 4800 | N11: Расчет. Коэф. | Q11: =I11 -> 7200
B12: показания счетчика | C12: разность | E12: расход эл.энергии за час | F12: показания счетчика | G12: разность | I12: расход эл.энергии за час | J12: показания счетчика | K12: разность | M12: расход эл.энергии за час | N12: показания счетчика | O12: разность | Q12: расход эл.энергии за час
A13: 1 | B13: 2 | C13: 3 | E13: 4 | F13: 5 | G13: 6 | I13: 7 | J13: 8 | K13: 9 | M13: 10 | N13: 11 | O13: 12 | Q13: 13
A14: 0 | E14: 336.86296 | I14: 1338.1583
A15: 1 | E15: 266.80151 | I15: 1385.3476
A16: 2 | E16: 298.61237 | I16: 1404.6275
A17: 3 | E17: 305.72069 | I17: 1307.5884
A18: 4 | E18: 230.14442 | I18: 1339.3472
A19: 5 | E19: 283.64399 | I19: 1331.4075
A20: 6 | E20: 650.50952 | I20: 1198.4026
A21: 7 | E21: 756.82275 | I21: 1220.4011
A22: 8 | E22: 622.336 | I22: 1428.6586
A23: 9 | E23: 607.04889 | I23: 1592.4705
A24: 10 | E24: 615.24496 | I24: 1627.0269
A25: 11 | E25: 617.42386 | I25: 1884.4983
... A37: 23 | E37: 367.02142 | I37: 1548.4652
A38: Итого | E38: =SUM(E14:E37) -> 12586.454 | I38: =SUM(I14:I37) -> 36229.264 | M38: =SUM(M14:M37) -> 0 | Q38: =SUM(Q14:Q37) -> 0
A39: 1. При наличии на предприятии отклонений от нормальных режимов электропотребления (временное изменение схем питания, остановка на ремонт, резкое снижение
A40: эл.потребления и т.д.) последние необходимо перечислить.
A41: Главный инженер АО "Вологдаоблэнерго" А.В. Чурляев
A42: составляется самим предприятием с соблюдением всех пунктов настоящей таблицы.

Sheet 7
B1: АО "Вологдаоблэнерго" | J1: код 900151 | N1: ПС "ЗАПАДНАЯ"
B2: наименование предприятия | N2: наименование источника питания
N3: _________________________________
B4: ул. Горького, 99 | I4: Таблица № 1 | O4: РП 7
B5: адрес
A6: почасовых записей показаний электрических счетчиков
A7: в режимный день 20 Декабря 2023 г.
A8: 371 | B8: 367
A9: часы суток | B9: Активная энергия | J9: Реактивная энергия
B10: яч. 3 "П/Я-1" | F10: яч. 10 "П/Я-2" | J10: яч. 3 "П/Я-1" | N10: яч. 10 "П/Я-2"
B11: Расчет. Коэф. | E11: 12000 | F11: Расчет. Коэф. | I11: 7200 | J11: Расчет. Коэф. | M11: =E11 -> 12000 | N11: Расчет. Коэф. | Q11: =I11 -> 7200
B12: показания счетчика | C12: разность | E12: расход эл.энергии за час | F12: показания счетчика | G12: разность | I12: расход эл.энергии за час | J12: показания счетчика | K12: разность | M12: расход эл.энергии за час | N12: показания счетчика | O12: разность | Q12: расход эл.энергии за час
A13: 1 | B13: 2 | C13: 3 | E13: 4 | F13: 5 | G13: 6 | I13: 7 | J13: 8 | K13: 9 | M13: 10 | N13: 11 | O13: 12 | Q13: 13
A14: 0 | E14: 1417.0872 | I14: 2114.0294
A15: 1 | E15: 1333.7894 | I15: 2045.2705
A16: 2 | E16: 1302.3769 | I16: 1983.4052
A17: 3 | E17: 1306.6447 | I17: 1987.3681
A18: 4 | E18: 1389.8039 | I18: 1971.7623
A19: 5 | E19: 1494.3643 | I19: 2088.7726
A20: 6 | E20: 1543.0557 | I20: 2357.625
A21: 7 | E21: 1638.6164 | I21: 2565.4883
A22: 8 | E22: 1849.788 | I22: 2782.2509
A23: 9 | E23: 1681.4396 | I23: 2856.2545
A24: 10 | E24: 1593.4238 | I24: 2907.5889
A25: 11 | E25: 1512.246 | I25: 2837.6212
... A37: 23 | E37: 1324.1453 | I37: 2202.9425
A38: Итого | E38: =SUM(E14:E37) -> 35954.457 | I38: =SUM(I14:I37) -> 60802.838 | M38: =SUM(M14:M37) -> 0 | Q38: =SUM(Q14:Q37) -> 0
A39: 1. При наличии на предприятии отклонений от нормальных режимов электропотребления (временное изменение схем питания, остановка на ремонт, резкое снижение
A40: эл.потребления и т.д.) последние необходимо перечислить.
A41: Главный инженер АО "Вологдаоблэнерго" А.В. Чурляев
A42: составляется самим предприятием с соблюдением всех пунктов настоящей таблицы.

Sheet 8
B1: АО "Вологдаоблэнерго" | J1: код 900151 | N1: ПС "ЗАПАДНАЯ"
B2: наименование предприятия | I2: _ | N2: наименование источника питания
N3: _________________________________
B4: ул. Горького, 99 | I4: Таблица № 1 | O4: РП 35; РП 37
B5: адрес
A6: почасовых записей показаний электрических счетчиков
A7: в режимный день 20 Декабря 2023 г.
A8: 129 | B8: 130
A9: часы суток | B9: Активная энергия | J9: Реактивная энергия
B10: яч. 15 "РП -35" | F10: яч. 35 "РП-37" | J10: яч. 15 "РП -35" | N10: яч. 35 "РП-37"
B11: Расчет. Коэф. | E11: 3600 | F11: Расчет. Коэф. | I11: 4800 | J11: Расчет. Коэф. | M11: =E11 -> 3600 | N11: Расчет. Коэф. | Q11: =I11 -> 4800
B12: показания счетчика | C12: разность | E12: расход эл.энергии за час | F12: показания счетчика | G12: разность | I12: расход эл.энергии за час | J12: показания счетчика | K12: разность | M12: расход эл.энергии за час | N12: показания счетчика | O12: разность | Q12: расход эл.энергии за час
A13: 1 | B13: 2 | C13: 3 | E13: 4 | F13: 5 | G13: 6 | I13: 7 | J13: 8 | K13: 9 | M13: 10 | N13: 11 | O13: 12 | Q13: 13
A14: 0 | E14: 286.6716 | I14: 556.23749
A15: 1 | E15: 285.08504 | I15: 522.02258
A16: 2 | E16: 284.46843 | I16: 583.41681
A17: 3 | E17: 283.92456 | I17: 551.0275
A18: 4 | E18: 284.36105 | I18: 513.71913
A19: 5 | E19: 285.00539 | I19: 570.07312
A20: 6 | E20: 285.86795 | I20: 637.4187
A21: 7 | E21: 286.00305 | I21: 666.97437
A22: 8 | E22: 284.53772 | I22: 701.6431
A23: 9 | E23: 284.48576 | I23: 742.05527
A24: 10 | E24: 284.87025 | I24: 778.3244
A25: 11 | E25: 284.43379 | I25: 819.02417
... A37: 23 | E37: 285.39336 | I37: 645.2233
A38: Итого | E38: =SUM(E14:E37) -> 6820.2866 | I38: =SUM(I14:I37) -> 16466.34 | M38: =SUM(M14:M37) -> 0 | Q38: =SUM(Q14:Q37) -> 0
A39: 1. При наличии на предприятии отклонений от нормальных режимов электропотребления (временное изменение схем питания, остановка на ремонт, резкое снижение
A40: эл.потребления и т.д.) последние необходимо перечислить.
A41: Главный инженер АО "Вологдаоблэнерго" А.В. Чурляев
A42: составляется самим предприятием с соблюдением всех пунктов настоящей таблицы.

Sheet 9
B1: АО "Вологдаоблэнерго" | J1: код 900151 | N1: ПС "ЗАПАДНАЯ"
B2: наименование предприятия | N2: наименование источника питания
N3: _________________________________
B4: ул. Горького, 99 | I4: Таблица № 1 | O4: РП 28
B5: адрес
A6: почасовых записей показаний электрических счетчиков
A7: в режимный день 20 Декабря 2023 г.
A8: 366 | B8: 369
A9: часы суток | B9: Активная энергия | J9: Реактивная энергия
B10: яч. 17 "ГОРОД-2" | F10: яч. 22 - "ОЧИСТНЫЕ-2" | J10: ЯЧ. №17 - "ГОРОД-2" | N10: ЯЧ. №22 - "ОЧИСТНЫЕ-2"
B11: Расчет. Коэф. | E11: 7200 | F11: Расчет. Коэф. | I11: 7200 | J11: Расчет. Коэф. | M11: =E11 -> 7200 | N11: Расчет. Коэф. | Q11: =I11 -> 7200
B12: показания счетчика | C12: разность | E12: расход эл.энергии за час | F12: показания счетчика | G12: разность | I12: расход эл.энергии за час | J12: показания счетчика | K12: разность | M12: расход эл.энергии за час | N12: показания счетчика | O12: разность | Q12: расход эл.энергии за час
A13: 1 | B13: 2 | C13: 3 | E13: 4 | F13: 5 | G13: 6 | I13: 7 | J13: 8 | K13: 9 | M13: 10 | N13: 11 | O13: 12 | Q13: 13
A14: 0 | E14: 752.99146 | I14: 681.59634
A15: 1 | E15: 721.6344 | I15: 681.59979
A16: 2 | E16: 716.59763 | I16: 771.25418
A17: 3 | E17: 708.26642 | I17: 707.62213
A18: 4 | E18: 721.99121 | I18: 667.9166
A19: 5 | E19: 735.19986 | I19: 678.85623
A20: 6 | E20: 834.5329 | I20: 688.55569
A21: 7 | E21: 931.51035 | I21: 720.0929
A22: 8 | E22: 1176.8171 | I22: 824.78491
A23: 9 | E23: 1240.2795 | I23: 879.03616
A24: 10 | E24: 1217.7802 | I24: 950.20612
A25: 11 | E25: 1220.4717 | I25: 860.34738
... A37: 23 | E37: 796.62183 | I37: 730.53024
A38: Итого | E38: =SUM(E14:E37) -> 23908.738 | I38: =SUM(I14:I37) -> 18528.949 | M38: =SUM(M14:M37) -> 0 | Q38: =SUM(Q14:Q37) -> 0
A39: 1. При наличии на предприятии отклонений от нормальных режимов электропотребления (временное изменение схем питания, остановка на ремонт, резкое снижение
A40: эл.потребления и т.д.) последние необходимо перечислить.
A41: Главный инженер АО "Вологдаоблэнерго" А.В. Чурляев
A42: составляется самим предприятием с соблюдением всех пунктов настоящей таблицы.

Sheet 10
B1: АО "Вологдаоблэнерго" | J1: код 900151 | N1: ПС "СЕВЕРНАЯ 35/6 кВ
B2: наименование предприятия | N2: наименование источника питания
N3: _________________________________
B4: ул, Горького, 99 | I4: Таблица № 1 | N4: Т1, Т2 | O4: РП 5
B5: адрес
A6: почасовых записей показаний электрических счетчиков
A7: в режимный день 20 Декабря 2023 г,
A8: 325 | B8: 328
A9: часы суток | B9: Активная энергия | J9: Реактивная энергия
B10: Т 1 -РП 5 Ф 3 ввод № 1 | F10: Т 2 - РП 5 Ф 17 ввод № 2 | J10: Т 1 -РП 5 Ф 3 ввод № 1 | N10: Т 2 - РП 5 Ф 17 ввод № 2
B11: Расчет, Коэф, | E11: 18000 | F11: Расчет, Коэф, | I11: 18000 | J11: Расчет, Коэф, | M11: =E11 -> 18000 | N11: Расчет, Коэф, | Q11: =I11 -> 18000
B12: показания счетчика | C12: разность | E12: расход эл,энергии за час | F12: показания счетчика | G12: разность | I12: расход эл,энергии за час | J12: показания счетчика | K12: разность | M12: расход эл,энергии за час | N12: показания счетчика | O12: разность | Q12: расход эл,энергии за час
A13: 1 | B13: 2 | C13: 3 | E13: 4 | F13: 5 | G13: 6 | I13: 7 | J13: 8 | K13: 9 | M13: 10 | N13: 11 | O13: 12 | Q13: 13
A14: 0 | E14: 1864.8 | I14: 2466 | M14: 369 | Q14: 360
A15: 1 | E15: 1742.4 | I15: 2300.4 | M15: 365.4 | Q15: 372.6
A16: 2 | E16: 1666.8 | I16: 2158.2 | M16: 349.2 | Q16: 379.8
A17: 3 | E17: 1638 | I17: 2061 | M17: 351 | Q17: 367.2
A18: 4 | E18: 1654.2 | I18: 2041.2 | M18: 345.6 | Q18: 352.8
A19: 5 | E19: 1657.8 | I19: 2120.4 | M19: 343.8 | Q19: 327.6
A20: 6 | E20: 1744.2 | I20: 2226.6 | M20: 360 | Q20: 320.4
A21: 7 | E21: 1920.6 | I21: 2592 | M21: 383.4 | Q21: 320.4
A22: 8 | E22: 2131.2 | I22: 2907 | M22: 378 | Q22: 329.4
A23: 9 | E23: 2394 | I23: 3317.4 | M23: 480.6 | Q23: 466.2
A24: 10 | E24: 2356.2 | I24: 3515.4 | M24: 478.8 | Q24: 532.8
A25: 11 | E25: 2318.4 | I25: 3524.4 | M25: 478.8 | Q25: 565.2
... A37: 23 | E37: 1949.4 | I37: 2826 | M37: 405 | Q37: 340.2
A38: Итого | E38: =SUM(E14:E37) -> 50346 | I38: =SUM(I14:I37) -> 72493.2 | M38: =SUM(M14:M37) -> 10141.2 | Q38: =SUM(Q14:Q37) -> 10206
A39: 1, При наличии на предприятии отклонений от нормальных режимов электропотребления (временное изменение схем питания, остановка на ремонт, резкое снижение
A40: эл,потребления и т,д,) последние необходимо перечислить,
A41: Главный инженер АО "Вологдаоблэнерго" А,В, Чурляев
A42: составляется самим предприятием с соблюдением всех пунктов настоящей таблицы,

Sheet 11
B1: АО "Вологдаоблэнерго" | G1: код 900151 | I1: ПС "ВОЛОГДА-ЮЖНАЯ" 110/6 транзит через РТП "ТЕПЛИЧНОГО ХОЗ - ВА"
B2: наименование предприятия | N2: наименование источника питания
N3: _________________________________
B4: ул. Горького, 99 | I4: Таблица № 1 | O4: ТП 438
B5: адрес
A6: почасовых записей показаний электрических счетчиков
A7: в режимный день 20 Декабря 2023 г.
A8: 635 | B8: 634
A9: часы суток | B9: Активная энергия | J9: Реактивная энергия
B10: ЯЧ. 3 - ф. "Микрорайон-1" ввод № 1 | F10: яч. 13 - ф. "Микрорайон-2" ввод № 2 | J10: ЯЧ. 3 - ф. "Микрорайон-1" ввод № 1 | N10: яч. 13 - ф. "Микрорайон-2" ввод № 2
B11: Расчет. Коэф. | E11: 3600 | F11: Расчет. Коэф. | I11: 3600 | J11: Расчет. Коэф. | M11: =E11 -> 3600 | N11: Расчет. Коэф. | Q11: =I11 -> 3600
B12: показания счетчика | C12: разность | E12: расход эл.энергии за час | F12: показания счетчика | G12: разность | I12: расход эл.энергии за час | J12: показания счетчика | K12: разность | M12: расход эл.энергии за час | N12: показания счетчика | O12: разность | Q12: расход эл.энергии за час
A13: 1 | B13: 2 | C13: 3 | E13: 4 | F13: 5 | G13: 6 | I13: 7 | J13: 8 | K13: 9 | M13: 10 | N13: 11 | O13: 12 | Q13: 13
A14: 0 | E14: 111.24 | I14: 158.76 | M14: 46.08 | Q14: 48.24
A15: 1 | E15: 99.36 | I15: 146.16 | M15: 42.48 | Q15: 48.24
A16: 2 | E16: 95.76 | I16: 137.16 | M16: 43.56 | Q16: 45.72
A17: 3 | E17: 95.4 | I17: 133.92 | M17: 41.4 | Q17: 45.72
A18: 4 | E18: 96.48 | I18: 133.56 | M18: 40.68 | Q18: 43.2
A19: 5 | E19: 139.68 | I19: 178.56 | M19: 43.92 | Q19: 46.8
A20: 6 | E20: 153 | I20: 201.96 | M20: 42.48 | Q20: 49.32
A21: 7 | E21: 174.6 | I21: 218.16 | M21: 45 | Q21: 48.6
A22: 8 | E22: 200.16 | I22: 236.16 | M22: 47.52 | Q22: 50.4
A23: 9 | E23: 222.84 | I23: 241.92 | M23: 47.52 | Q23: 50.04
A24: 10 | E24: 223.92 | I24: 236.16 | M24: 49.32 | Q24: 51.84
A25: 11 | E25: 225.36 | I25: 240.12 | M25: 54.72 | Q25: 50.76
... A37: 23 | E37: 128.52 | I37: 180.72 | M37: 45 | Q37: 51.12
A38: Итого | E38: =SUM(E14:E37) -> 4178.16 | I38: =SUM(I14:I37) -> 5257.8 | M38: =SUM(M14:M37) -> 1144.08 | Q38: =SUM(Q14:Q37) -> 1224.72
A39: 1. При наличии на предприятии отклонений от нормальных режимов электропотребления (временное изменение схем питания, остановка на ремонт, резкое снижение
A40: эл.потребления и т.д.) последние необходимо перечислить.
A41: Главный инженер АО "Вологдаоблэнерго" А.В. Чурляев
A42: составляется самим предприятием с соблюдением всех пунктов настоящей таблицы.

Sheet 12
B1: АО "Вологдаоблэнерго" | J1: код 900151 | N1: ГПП 110/10 кВ "ВОМЗ"
B2: наименование предприятия | N2: наименование источника питания
N3: _________________________________
B4: ул. Горького, 99 | I4: Таблица № 1 | O4: РП 29
B5: адрес
A6: почасовых записей показаний электрических счетчиков
A7: в режимный день 20 Декабря 2023 г.
A8: 613 | B8: 610
A9: часы суток | B9: Активная энергия | J9: Реактивная энергия
B10: ЯЧ.47 - РП 29 ввод № 1 | F10: ЯЧ.31 - РП 29 ввод № 2 | J10: ЯЧ.47 - РП 29 ввод № 1 | N10: ЯЧ.31 - РП 29 ввод № 2
B11: Расчет. Коэф. | E11: 12000 | F11: Расчет. Коэф. | I11: 20000 | J11: Расчет. Коэф. | M11: =E11 -> 12000 | N11: Расчет. Коэф. | Q11: =I11 -> 20000
B12: показания счетчика | C12: разность | E12: расход эл.энергии за час | F12: показания счетчика | G12: разность | I12: расход эл.энергии за час | J12: показания счетчика | K12: разность | M12: расход эл.энергии за час | N12: показания счетчика | O12: разность | Q12: расход эл.энергии за час
A13: 1 | B13: 2 | C13: 3 | E13: 4 | F13: 5 | G13: 6 | I13: 7 | J13: 8 | K13: 9 | M13: 10 | N13: 11 | O13: 12 | Q13: 13
A14: 0 | E14: 977 | I14: 804 | M14: 251 | Q14: 108
A15: 1 | E15: 902 | I15: 760 | M15: 249 | Q15: 108
A16: 2 | E16: 862 | I16: 724 | M16: 238 | Q16: 96
A17: 3 | E17: 846 | I17: 706 | M17: 231 | Q17: 94
A18: 4 | E18: 848 | I18: 738 | M18: 222 | Q18: 88
A19: 5 | E19: 1001 | I19: 828 | M19: 222 | Q19: 76
A20: 6 | E20: 1281 | I20: 1030 | M20: 231 | Q20: 84
A21: 7 | E21: 1544 | I21: 1290 | M21: 270 | Q21: 124
A22: 8 | E22: 1831 | I22: 1584 | M22: 321 | Q22: 180
A23: 9 | E23: 2035 | I23: 1686 | M23: 319 | Q23: 184
A24: 10 | E24: 2056 | I24: 1740 | M24: 319 | Q24: 190
A25: 11 | E25: 1993 | I25: 1674 | M25: 315 | Q25: 182
... A37: 23 | E37: 1114 | I37: 900 | M37: 246 | Q37: 108
A38: Итого | E38: =SUM(E14:E37) -> 37581 | I38: =SUM(I14:I37) -> 30880 | M38: =SUM(M14:M37) -> 6651 | Q38: =SUM(Q14:Q37) -> 3180
A39: 1. При наличии на предприятии отклонений от нормальных режимов электропотребления (временное изменение схем питания, остановка на ремонт, резкое снижение
A40: эл.потребления и т.д.) последние необходимо перечислить.
A41: Главный инженер АО "Вологдаоблэнерго" А.В. Чурляев
A42: составляется самим предприятием с соблюдением всех пунктов настоящей таблицы.

Sheet 13
B1: АО "Вологдаоблэнерго" | J1: код 900151 | N1: ГПП 110/10 кВ "ВОМЗ"
B2: наименование предприятия | N2: наименование источника питания
N3: _________________________________
B4: ул. Горького, 99 | I4: Таблица № 1 | O4: РП 14
B5: адрес
A6: почасовых записей показаний электрических счетчиков
A7: в режимный день 20 Декабря 2023 г.
A8: 614 | B8: 615
A9: часы суток | B9: Активная энергия | J9: Реактивная энергия
B10: ЯЧ.5 - РП 14 ввод № 1 | F10: ЯЧ.22 - РП 14 ввод № 2 | J10: ЯЧ.5 - РП 14 ввод № 1 | N10: ЯЧ.22 - РП 14 ввод № 2
B11: Расчет. Коэф. | E11: 12000 | F11: Расчет. Коэф. | I11: 12000 | J11: Расчет. Коэф. | M11: =E11 -> 12000 | N11: Расчет. Коэф. | Q11: =I11 -> 12000
B12: показания счетчика | C12: разность | E12: расход эл.энергии за час | F12: показания счетчика | G12: разность | I12: расход эл.энергии за час | J12: показания счетчика | K12: разность | M12: расход эл.энергии за час | N12: показания счетчика | O12: разность | Q12: расход эл.энергии за час
A13: 1 | B13: 2 | C13: 3 | E13: 4 | F13: 5 | G13: 6 | I13: 7 | J13: 8 | K13: 9 | M13: 10 | N13: 11 | O13: 12 | Q13: 13
A14: 0 | E14: 1511 | I14: 2682 | M14: 6 | Q14: 159
A15: 1 | E15: 1403 | I15: 2478 | M15: 11 | Q15: 164
A16: 2 | E16: 1328 | I16: 2380 | M16: 2 | Q16: 91
A17: 3 | E17: 1322 | I17: 2354 | M17: 3 | Q17: 79
A18: 4 | E18: 1339 | I18: 2365 | M18: 0 | Q18: 24
A19: 5 | E19: 1435 | I19: 2615 | M19: 1 | Q19: 70
A20: 6 | E20: 1716 | I20: 3277 | M20: 5 | Q20: 145
A21: 7 | E21: 2014 | I21: 3951 | M21: 21 | Q21: 230
A22: 8 | E22: 2210 | I22: 4480 | M22: 51 | Q22: 441
A23: 9 | E23: 2442 | I23: 4812 | M23: 58 | Q23: 525
A24: 10 | E24: 2564 | I24: 4799 | M24: 117 | Q24: 490
A25: 11 | E25: 2548 | I25: 4691 | M25: 109 | Q25: 444
... A37: 23 | E37: 1685 | I37: 2968 | M37: 2 | Q37: 86
A38: Итого | E38: =SUM(E14:E37) -> 51261 | I38: =SUM(I14:I37) -> 92719 | M38: =SUM(M14:M37) -> 949 | Q38: =SUM(Q14:Q37) -> 6361
A39: 1. При наличии на предприятии отклонений от нормальных режимов электропотребления (временное изменение схем питания, остановка на ремонт, резкое снижение
A40: эл.потребления и т.д.) последние необходимо перечислить.
A41: Главный инженер АО "Вологдаоблэнерго" А.В. Чурляев
A42: составляется самим предприятием с соблюдением всех пунктов настоящей таблицы.

Sheet 14
B1: АО "Вологдаоблэнерго" | J1: код 900151 | N1: ГПП 110/10 кВ "ВОМЗ"
B2: наименование предприятия | N2: наименование источника питания
N3: _________________________________
B4: ул. Горького, 99 | I4: Таблица № 1 | O4: РП 2
B5: адрес
A6: почасовых записей показаний электрических счетчиков
A7: в режимный день 20 Декабря 2023 г.
A8: 612 | B8: 611
A9: часы суток | B9: Активная энергия | J9: Реактивная энергия
B10: ЯЧ.44 - РП 2 ввод № 1 | F10: ЯЧ.26в - РП 2 ввод № 2 | J10: ЯЧ.44 - РП 2 ввод № 1 | N10: ЯЧ.26в - РП 2 ввод № 2
B11: Расчет. Коэф. | E11: 12000 | F11: Расчет. Коэф. | I11: 12000 | J11: Расчет. Коэф. | M11: =E11 -> 12000 | N11: Расчет. Коэф. | Q11: =I11 -> 12000
B12: показания счетчика | C12: разность | E12: расход эл.энергии за час | F12: показания счетчика | G12: разность | I12: расход эл.энергии за час | J12: показания счетчика | K12: разность | M12: расход эл.энергии за час | N12: показания счетчика | O12: разность | Q12: расход эл.энергии за час
A13: 1 | B13: 2 | C13: 3 | E13: 4 | F13: 5 | G13: 6 | I13: 7 | J13: 8 | K13: 9 | M13: 10 | N13: 11 | O13: 12 | Q13: 13
A14: 0 | E14: 581 | I14: 439 | M14: 36 | Q14: 2
A15: 1 | E15: 540 | I15: 408 | M15: 45 | Q15: 1
A16: 2 | E16: 535 | I16: 377 | M16: 26 | Q16: 1
A17: 3 | E17: 511 | I17: 372 | M17: 20 | Q17: 0
A18: 4 | E18: 509 | I18: 398 | M18: 21 | Q18: 0
A19: 5 | E19: 553 | I19: 423 | M19: 20 | Q19: 1
A20: 6 | E20: 713 | I20: 503 | M20: 25 | Q20: 1
A21: 7 | E21: 824 | I21: 577 | M21: 35 | Q21: 5
A22: 8 | E22: 915 | I22: 696 | M22: 67 | Q22: 11
A23: 9 | E23: 989 | I23: 755 | M23: 88 | Q23: 5
A24: 10 | E24: 1012 | I24: 772 | M24: 88 | Q24: 3
A25: 11 | E25: 974 | I25: 786 | M25: 84 | Q25: 5
... A37: 23 | E37: 680 | I37: 473 | M37: 36 | Q37: 1
A38: Итого | E38: =SUM(E14:E37) -> 20158 | I38: =SUM(I14:I37) -> 15053 | M38: =SUM(M14:M37) -> 1129 | Q38: =SUM(Q14:Q37) -> 77
A39: 1. При наличии на предприятии отклонений от нормальных режимов электропотребления (временное изменение схем питания, остановка на ремонт, резкое снижение
A40: эл.потребления и т.д.) последние необходимо перечислить.
A41: Главный инженер АО "Вологдаоблэнерго" А.В. Чурляев
A42: составляется самим предприятием с соблюдением всех пунктов настоящей таблицы.

Sheet 15
B1: АО "Вологдаоблэнерго" | J1: код 900151 | N1: ПС ВОЛОГДА-ЮЖНАЯ РУ - 6 кВ
B2: наименование предприятия | N2: наименование источника питания
N3: _________________________________
B4: ул. Горького, 99 | I4: Таблица № 1 | N4: ТП 450 | Q4: ТП 630
B5: адрес
A6: почасовых записей показаний электрических счетчиков
A7: в режимный день 20 Декабря 2023 г.
A8: 591 | B8: 595
A9: часы суток | B9: Активная энергия | J9: Реактивная энергия
B10: ЯЧ.№ 206 - "ГОРОД-15" | F10: ЯЧ.№103 - "ТУБДИСПАНСЕР" | J10: =B10 -> ЯЧ.№ 206 - "ГОРОД-15" | N10: =F10 -> ЯЧ.№103 - "ТУБДИСПАНСЕР"
B11: Расчет. Коэф. | E11: 4800 | F11: Расчет. Коэф. | I11: 2400 | J11: Расчет. Коэф. | M11: =E11 -> 4800 | N11: Расчет. Коэф. | Q11: =I11 -> 2400
B12: показания счетчика | C12: разность | E12: расход эл.энергии за час | F12: показания счетчика | G12: разность | I12: расход эл.энергии за час | J12: показания счетчика | K12: разность | M12: расход эл.энергии за час | N12: показания счетчика | O12: разность | Q12: расход эл.энергии за час
A13: 1 | B13: 2 | C13: 3 | E13: 4 | F13: 5 | G13: 6 | I13: 7 | J13: 8 | K13: 9 | M13: 10 | N13: 11 | O13: 12 | Q13: 13
A14: 0 | E14: 186.84 | I14: 263.16 | M14: 42.3 | Q14: 35.82
A15: 1 | E15: 172.35 | I15: 241.74 | M15: 38.16 | Q15: 37.98
A16: 2 | E16: 168.39 | I16: 235.35 | M16: 35.46 | Q16: 35.01
A17: 3 | E17: 161.64 | I17: 233.64 | M17: 32.4 | Q17: 34.2
A18: 4 | E18: 160.38 | I18: 227.7 | M18: 26.46 | Q18: 31.05
A19: 5 | E19: 184.05 | I19: 246.42 | M19: 28.44 | Q19: 32.67
A20: 6 | E20: 238.23 | I20: 294.39 | M20: 37.98 | Q20: 36.36
A21: 7 | E21: 303.3 | I21: 339.12 | M21: 109.08 | Q21: 41.49
A22: 8 | E22: 410.67 | I22: 387.81 | M22: 179.37 | Q22: 56.88
A23: 9 | E23: 450.27 | I23: 399.96 | M23: 212.67 | Q23: 66.87
A24: 10 | E24: 445.95 | I24: 370.62 | M24: 206.73 | Q24: 51.84
A25: 11 | E25: 445.05 | I25: 389.25 | M25: 201.24 | Q25: 56.97
... A37: 23 | E37: 210.69 | I37: 301.95 | M37: 52.38 | Q37: 36.09
A38: Итого | E38: =SUM(E14:E37) -> 7352.1 | I38: =SUM(I14:I37) -> 8215.38 | M38: =SUM(M14:M37) -> 2461.5 | Q38: =SUM(Q14:Q37) -> 1043.01
A39: 1. При наличии на предприятии отклонений от нормальных режимов электропотребления (временное изменение схем питания, остановка на ремонт, резкое снижение
A40: эл.потребления и т.д.) последние необходимо перечислить.
A41: Главный инженер АО "Вологдаоблэнерго" А.В. Чурляев
A42: составляется самим предприятием с соблюдением всех пунктов настоящей таблицы.

Sheet 16
B1: АО "Вологдаоблэнерго" | J1: код 900151 | N1: ПС ВОЛОГДА-ЮЖНАЯ РУ-10 кВ
B2: наименование предприятия | I2: _ | N2: наименование источника питания
N3: _________________________________
B4: ул. Горького, 99 | I4: Таблица № 1 | O4: РП 32
B5: адрес
A6: почасовых записей показаний электрических счетчиков
A7: в режимный день 20 Декабря 2023 г.
A8: 590 | B8: 593
A9: часы суток | B9: Активная энергия | J9: Реактивная энергия
B10: ЯЧ.№206 - "ГОРОД-10" | F10: ЯЧ.№404- "ГОРОД-14" | J10: =B10 -> ЯЧ.№206 - "ГОРОД-10" | N10: =F10 -> ЯЧ.№404- "ГОРОД-14"
B11: Расчет. Коэф. | E11: 6000 | F11: Расчет. Коэф. | I11: 3000 | J11: Расчет. Коэф. | M11: =E11 -> 6000 | N11: Расчет. Коэф. | Q11: =I11 -> 3000
B12: показания счетчика | C12: разность | E12: расход эл.энергии за час | F12: показания счетчика | G12: разность | I12: расход эл.энергии за час | J12: показания счетчика | K12: разность | M12: расход эл.энергии за час | N12: показания счетчика | O12: разность | Q12: расход эл.энергии за час
A13: 1 | B13: 2 | C13: 3 | E13: 4 | F13: 5 | G13: 6 | I13: 7 | J13: 8 | K13: 9 | M13: 10 | N13: 11 | O13: 12 | Q13: 13
A14: 0 | E14: 824.7 | I14: 762.3 | M14: 106.5 | Q14: 53.4
A15: 1 | E15: 761.4 | I15: 755.4 | M15: 87.6 | Q15: 51.9
A16: 2 | E16: 761.4 | I16: 706.2 | M16: 84.9 | Q16: 59.1
A17: 3 | E17: 804.9 | I17: 712.8 | M17: 89.7 | Q17: 62.4
A18: 4 | E18: 834.9 | I18: 762.9 | M18: 76.8 | Q18: 67.8
A19: 5 | E19: 814.5 | I19: 781.8 | M19: 71.1 | Q19: 66.6
A20: 6 | E20: 933.3 | I20: 906.9 | M20: 80.1 | Q20: 59.4
A21: 7 | E21: 1164.9 | I21: 1172.4 | M21: 103.2 | Q21: 60.3
A22: 8 | E22: 1417.2 | I22: 1497 | M22: 211.2 | Q22: 13.8
A23: 9 | E23: 1479.9 | I23: 1459.5 | M23: 222.6 | Q23: 11.4
A24: 10 | E24: 1475.1 | I24: 1377.9 | M24: 226.5 | Q24: 13.8
A25: 11 | E25: 1434.3 | I25: 1348.5 | M25: 200.1 | Q25: 8.4
... A37: 23 | E37: 956.7 | I37: 794.7 | M37: 140.4 | Q37: 60.6
A38: Итого | E38: =SUM(E14:E37) -> 27243 | I38: =SUM(I14:I37) -> 25222.5 | M38: =SUM(M14:M37) -> 3625.5 | Q38: =SUM(Q14:Q37) -> 1168.5
A39: 1. При наличии на предприятии отклонений от нормальных режимов электропотребления (временное изменение схем питания, остановка на ремонт, резкое снижение
A40: эл.потребления и т.д.) последние необходимо перечислить.
A41: Главный инженер АО "Вологдаоблэнерго" А.В. Чурляев
A42: составляется самим предприятием с соблюдением всех пунктов настоящей таблицы.

Sheet 17
B1: АО "Вологдаоблэнерго" | J1: код 900151 | N1: ПС ВОЛОГДА-ЮЖНАЯ РУ-10 кВ
B2: наименование предприятия | N2: наименование источника питания
N3: РП-44
B4: ул. Горького, 99 | I4: Таблица № 1
B5: адрес
A6: почасовых записей показаний электрических счетчиков
A7: в режимный день 20 Декабря 2023 г.
A9: часы суток | B9: Активная энергия | J9: Реактивная энергия
B10: яч. 307 ф "Охмыльцево-1" | F10: яч. 409 ф "Охмыльцево-2" | J10: яч. 307 ф "Охмыльцево-1" | N10: яч. 409 ф "Охмыльцево-2"
B11: Расчет. Коэф. | F11: Расчет. Коэф. | J11: Расчет. Коэф. | N11: Расчет. Коэф.
B12: показания счетчика | C12: разность | E12: расход эл.энергии за час | F12: показания счетчика | G12: разность | I12: расход эл.энергии за час | J12: показания счетчика | K12: разность | M12: расход эл.энергии за час | N12: показания счетчика | O12: разность | Q12: расход эл.энергии за час
A13: 1 | B13: 2 | C13: 3 | E13: 4 | F13: 5 | G13: 6 | I13: 7 | J13: 8 | K13: 9 | M13: 10 | N13: 11 | O13: 12 | Q13: 13
A14: 0 | E14: 961.2 | I14: 325.2 | M14: 48 | Q14: 16.5
A15: 1 | E15: 865.5 | I15: 291.9 | M15: 48 | Q15: 13.8
A16: 2 | E16: 814.5 | I16: 270.6 | M16: 54 | Q16: 20.7
A17: 3 | E17: 811.8 | I17: 273.3 | M17: 56.4 | Q17: 24.6
A18: 4 | E18: 821.7 | I18: 274.5 | M18: 78 | Q18: 31.5
A19: 5 | E19: 999.3 | I19: 330 | M19: 84.6 | Q19: 35.1
A20: 6 | E20: 1291.2 | I20: 450.9 | M20: 80.4 | Q20: 30.3
A21: 7 | E21: 1437.9 | I21: 542.1 | M21: 87.9 | Q21: 22.8
A22: 8 | E22: 1450.2 | I22: 535.2 | M22: 102.9 | Q22: 28.8
A23: 9 | E23: 1477.2 | I23: 544.5 | M23: 94.5 | Q23: 31.2
A24: 10 | E24: 1551 | I24: 562.5 | M24: 84.6 | Q24: 31.8
A25: 11 | E25: 1625.4 | I25: 579.6 | M25: 79.5 | Q25: 27.6
... A37: 23 | E37: 1182.3 | I37: 432.3 | M37: 69.3 | Q37: 17.4
A38: Итого | E38: =SUM(E14:E37) -> 34493.7 | I38: =SUM(I14:I37) -> 12414.3 | M38: =SUM(M14:M37) -> 1886.7 | Q38: =SUM(Q14:Q37) -> 541.5
A39: 1. При наличии на предприятии отклонений от нормальных режимов электропотребления (временное изменение схем питания, остановка на ремонт, резкое снижение
A40: эл.потребления и т.д.) последние необходимо перечислить.
A41: Главный инженер АО "Вологдаоблэнерго" А.В. Чурляев
A42: составляется самим предприятием с соблюдением всех пунктов настоящей таблицы.

Sheet 18
B1: АО "Вологдаоблэнерго" | J1: код 900151 | N1: ПС ВОЛОГДА-ЮЖНАЯ РУ-10 кВ
B2: наименование предприятия | N2: наименование источника питания
N3: _________________________________
B4: ул. Горького, 99 | I4: Таблица № 1 | O4: РП 26
B5: адрес
A6: почасовых записей показаний электрических счетчиков
A7: в режимный день 20 Декабря 2023 г.
A8: 589 | B8: 592
A9: часы суток | B9: Активная энергия | J9: Реактивная энергия
B10: ЯЧ. № 107- ф."ГОРОД 7" | F10: ЯЧ. № 204 - ф."ГОРОД 17" | J10: ЯЧ. № 107- ф."ГОРОД 7" | N10: ЯЧ. № 204 - ф."ГОРОД 17"
B11: Расчет. Коэф. | E11: 8000 | F11: Расчет. Коэф. | I11: 8000 | J11: Расчет. Коэф. | M11: =E11 -> 8000 | N11: Расчет. Коэф. | Q11: =I11 -> 8000
B12: показания счетчика | C12: разность | E12: расход эл.энергии за час | F12: показания счетчика | G12: разность | I12: расход эл.энергии за час | J12: показания счетчика | K12: разность | M12: расход эл.энергии за час | N12: показания счетчика | O12: разность | Q12: расход эл.энергии за час
A13: 1 | B13: 2 | C13: 3 | E13: 4 | F13: 5 | G13: 6 | I13: 7 | J13: 8 | K13: 9 | M13: 10 | N13: 11 | O13: 12 | Q13: 13
A14: 0 | E14: 1535.4 | I14: 1306.2 | M14: 157.5 | Q14: 108.6
A15: 1 | E15: 1394.1 | I15: 1199.1 | M15: 153.6 | Q15: 102.3
A16: 2 | E16: 1331.7 | I16: 1138.2 | M16: 137.4 | Q16: 96.3
A17: 3 | E17: 1305 | I17: 1132.5 | M17: 128.4 | Q17: 89.7
A18: 4 | E18: 1312.8 | I18: 1150.5 | M18: 115.5 | Q18: 75.9
A19: 5 | E19: 1399.8 | I19: 1379.1 | M19: 115.8 | Q19: 92.7
A20: 6 | E20: 1800.3 | I20: 1737.9 | M20: 145.2 | Q20: 116.4
A21: 7 | E21: 2125.5 | I21: 2115.6 | M21: 267.6 | Q21: 186
A22: 8 | E22: 2207.7 | I22: 2262.6 | M22: 240.9 | Q22: 156.6
A23: 9 | E23: 2193 | I23: 2196.9 | M23: 221.7 | Q23: 140.4
A24: 10 | E24: 2196 | I24: 2123.4 | M24: 213.9 | Q24: 137.4
A25: 11 | E25: 2213.4 | I25: 2122.2 | M25: 222 | Q25: 140.4
... A37: 23 | E37: 1820.4 | I37: 1496.7 | M37: 143.4 | Q37: 114.6
A38: Итого | E38: =SUM(E14:E37) -> 50046 | I38: =SUM(I14:I37) -> 45021.6 | M38: =SUM(M14:M37) -> 4898.4 | Q38: =SUM(Q14:Q37) -> 3370.2
A39: 1. При наличии на предприятии отклонений от нормальных режимов электропотребления (временное изменение схем питания, остановка на ремонт, резкое снижение
A40: эл.потребления и т.д.) последние необходимо перечислить.
A41: Главный инженер АО "Вологдаоблэнерго" А.В. Чурляев
A42: составляется самим предприятием с соблюдением всех пунктов настоящей таблицы.

Sheet 19
B1: АО "Вологдаоблэнерго" | J1: код 900151 | N1: ПС ВОЛОГДА-ЮЖНАЯ РУ - 10 кВ
B2: наименование предприятия | N2: наименование источника питания
N3: _________________________________
B4: ул. Горького, 99 | I4: Таблица № 1 | O4: РП 43
B5: адрес
A6: почасовых записей показаний электрических счетчиков
A7: в режимный день 20 Декабря 2023 г.
A8: 597 | B8: 596
A9: часы суток | B9: Активная энергия | J9: Реактивная энергия
B10: ЯЧ.№ 407 - "ГОРОД-3" | F10: ЯЧ.№ 305 - "ГОРОД-5" | J10: ЯЧ.№ 407- "ГОРОД-3" | N10: ЯЧ.№ 305- "ГОРОД-5"
B11: Расчет. Коэф. | E11: 6000 | F11: Расчет. Коэф. | I11: 4000 | J11: Расчет. Коэф. | M11: =E11 -> 6000 | N11: Расчет. Коэф. | Q11: =I11 -> 4000
B12: показания счетчика | C12: разность | E12: расход эл.энергии за час | F12: показания счетчика | G12: разность | I12: расход эл.энергии за час | J12: показания счетчика | K12: разность | M12: расход эл.энергии за час | N12: показания счетчика | O12: разность | Q12: расход эл.энергии за час
A13: 1 | B13: 2 | C13: 3 | E13: 4 | F13: 5 | G13: 6 | I13: 7 | J13: 8 | K13: 9 | M13: 10 | N13: 11 | O13: 12 | Q13: 13
A14: 0 | E14: 2448 | I14: 2005.2 | M14: 264.6 | Q14: 294
A15: 1 | E15: 2283.9 | I15: 1868.7 | M15: 255.9 | Q15: 285.9
A16: 2 | E16: 2237.4 | I16: 1750.8 | M16: 233.7 | Q16: 268.2
A17: 3 | E17: 2234.1 | I17: 1771.8 | M17: 228 | Q17: 267.9
A18: 4 | E18: 2314.8 | I18: 1848.9 | M18: 207.6 | Q18: 261.9
A19: 5 | E19: 2536.2 | I19: 2088.9 | M19: 224.4 | Q19: 269.4
A20: 6 | E20: 2862.6 | I20: 2520.9 | M20: 243.9 | Q20: 306.9
A21: 7 | E21: 3296.1 | I21: 2835.3 | M21: 306 | Q21: 375.6
A22: 8 | E22: 3608.7 | I22: 3243.6 | M22: 363.6 | Q22: 405.3
A23: 9 | E23: 3787.2 | I23: 3369.3 | M23: 369.6 | Q23: 419.4
A24: 10 | E24: 3858 | I24: 3459.6 | M24: 357 | Q24: 428.1
A25: 11 | E25: 3847.5 | I25: 3416.7 | M25: 369 | Q25: 430.5
... A37: 23 | E37: 2693.7 | I37: 2495.7 | M37: 237.9 | Q37: 309.6
A38: Итого | E38: =SUM(E14:E37) -> 80285.1 | I38: =SUM(I14:I37) -> 72360.3 | M38: =SUM(M14:M37) -> 7456.5 | Q38: =SUM(Q14:Q37) -> 9120.3
A39: 1. При наличии на предприятии отклонений от нормальных режимов электропотребления (временное изменение схем питания, остановка на ремонт, резкое снижение
A40: эл.потребления и т.д.) последние необходимо перечислить.
A41: Главный инженер АО "Вологдаоблэнерго" А.В. Чурляев
A42: составляется самим предприятием с соблюдением всех пунктов настоящей таблицы.

Sheet 20
B1: АО "Вологдаоблэнерго" | J1: код 900151 | N1: ПС ВОЛОГДА-ЮЖНАЯ РУ-10 кВ
B2: наименование предприятия | N2: наименование источника питания
N3: _________________________________
B4: ул. Горького, 99 | I4: Таблица № 1 | O4: РП 27
B5: адрес
A6: почасовых записей показаний электрических счетчиков
A7: в режимный день 20 Декабря 2023 г.
A8: 30 | B8: 49
A9: часы суток | B9: Активная энергия | J9: Реактивная энергия
B10: ЯЧ. № 408 - "ГОРОД -1" | F10: ЯЧ.№ 105 - "РП 27" | J10: ЯЧ. № 408 - "ГОРОД -1" | N10: ЯЧ.№ 105 - "РП 27"
B11: Расчет. Коэф. | E11: 12000 | F11: Расчет. Коэф. | I11: 12000 | J11: Расчет. Коэф. | M11: =E11 -> 12000 | N11: Расчет. Коэф. | Q11: =I11 -> 12000
B12: показания счетчика | C12: разность | E12: расход эл.энергии за час | F12: показания счетчика | G12: разность | I12: расход эл.энергии за час | J12: показания счетчика | K12: разность | M12: расход эл.энергии за час | N12: показания счетчика | O12: разность | Q12: расход эл.энергии за час
A13: 1 | B13: 2 | C13: 3 | E13: 4 | F13: 5 | G13: 6 | I13: 7 | J13: 8 | K13: 9 | M13: 10 | N13: 11 | O13: 12 | Q13: 13
A14: 0 | E14: 0 | I14: 0 | M14: 0 | Q14: 0
A15: 1 | E15: 0 | I15: 0 | M15: 0 | Q15: 0
A16: 2 | E16: 0 | I16: 0 | M16: 0 | Q16: 0
A17: 3 | E17: 0 | I17: 0 | M17: 0 | Q17: 0
A18: 4 | E18: 0 | I18: 0 | M18: 0 | Q18: 0
A19: 5 | E19: 0 | I19: 0 | M19: 0 | Q19: 0
A20: 6 | E20: 0 | I20: 0 | M20: 0 | Q20: 0
A21: 7 | E21: 0 | I21: 0 | M21: 0 | Q21: 0
A22: 8 | E22: 0 | I22: 0 | M22: 0 | Q22: 0
A23: 9 | E23: 0 | I23: 0 | M23: 0 | Q23: 0
A24: 10 | E24: 0 | I24: 0 | M24: 0 | Q24: 0
A25: 11 | E25: 0 | I25: 0 | M25: 0 | Q25: 0
... A37: 23 | E37: 0 | I37: 0 | M37: 0 | Q37: 0
A38: Итого | E38: =SUM(E14:E37) -> 0 | I38: =SUM(I14:I37) -> 0 | M38: =SUM(M14:M37) -> 0 | Q38: =SUM(Q14:Q37) -> 0
A39: 1. При наличии на предприятии отклонений от нормальных режимов электропотребления (временное изменение схем питания, остановка на ремонт, резкое снижение
A40: эл.потребления и т.д.) последние необходимо перечислить.
A41: Главный инженер АО "Вологдаоблэнерго" А.В. Чурляев
A42: составляется самим предприятием с соблюдением всех пунктов настоящей таблицы.

Sheet 21
B1: АО "Вологдаоблэнерго" | J1: код 900151 | N1: ПС ВОЛОГДА-ЮЖНАЯ РУ-10 кВ
B2: наименование предприятия | N2: наименование источника питания
N3: яч. 406 ф "РОДИОНЦЕВО",
B4: ул. Горького, 99 | I4: Таблица № 1 | N4: КТП-906, ПКУ- ЛЭП-43
B5: адрес
A6: почасовых записей показаний электрических счетчиков
A7: в режимный день 20 Декабря 2023 г.
A8: 362 | B8: 985
A9: часы суток | B9: Активная энергия | J9: Реактивная энергия
B10: яч. 406 ф "РОДИОНЦЕВО" - ПКУ | F10: КТП-906 | J10: яч. 406 ф "РОДИОНЦЕВО" - ПКУ | N10: КТП-906
B11: Расчет. Коэф. | E11: 2000 | F11: Расчет. Коэф. | I11: 80 | J11: Расчет. Коэф. | M11: =E11 -> 2000 | N11: Расчет. Коэф. | Q11: =I11 -> 80
B12: показания счетчика | C12: разность | E12: расход эл.энергии за час | F12: показания счетчика | G12: разность | I12: расход эл.энергии за час | J12: показания счетчика | K12: разность | M12: расход эл.энергии за час | N12: показания счетчика | O12: разность | Q12: расход эл.энергии за час
A13: 1 | B13: 2 | C13: 3 | E13: 4 | F13: 5 | G13: 6 | I13: 7 | J13: 8 | K13: 9 | M13: 10 | N13: 11 | O13: 12 | Q13: 13
A14: 0 | E14: 28 | I14: 32.28 | M14: 0 | Q14: 3.56
A15: 1 | E15: 29.2 | I15: 32.16 | M15: 0 | Q15: 3.56
A16: 2 | E16: 29.4 | I16: 29.88 | M16: 0 | Q16: 3.08
A17: 3 | E17: 29 | I17: 31.76 | M17: 0 | Q17: 2.84
A18: 4 | E18: 28.6 | I18: 31.6 | M18: 0 | Q18: 3.12
A19: 5 | E19: 30.4 | I19: 33.24 | M19: 0 | Q19: 2.92
A20: 6 | E20: 31.2 | I20: 37.52 | M20: 0 | Q20: 3.24
A21: 7 | E21: 35.2 | I21: 39.04 | M21: 0 | Q21: 4.48
A22: 8 | E22: 39.4 | I22: 39.92 | M22: 0 | Q22: 4.32
A23: 9 | E23: 32.6 | I23: 35.28 | M23: 0 | Q23: 3.52
A24: 10 | E24: 32.8 | I24: 35.72 | M24: 0 | Q24: 3.4
A25: 11 | E25: 34 | I25: 34.96 | M25: 0 | Q25: 2.44
... A37: 23 | E37: 28.6 | I37: 36.2 | M37: 0 | Q37: 3.92
A38: Итого | E38: =SUM(E14:E37) -> 755.4 | I38: =SUM(I14:I37) -> 867.92 | M38: =SUM(M14:M37) -> 0 | Q38: =SUM(Q14:Q37) -> 88.76
A39: 1. При наличии на предприятии отклонений от нормальных режимов электропотребления (временное изменение схем питания, остановка на ремонт, резкое снижение
A40: эл.потребления и т.д.) последние необходимо перечислить.
A41: Главный инженер АО "Вологдаоблэнерго" А.В. Чурляев
A42: составляется самим предприятием с соблюдением всех пунктов настоящей таблицы.

Sheet 21_1
B1: АО "Вологдаоблэнерго" | J1: код 900151 | N1: ПС ВОЛОГДА-ЮЖНАЯ РУ- 6 кВ
B2: наименование предприятия | N2: наименование источника питания
N3: _________________________________
B4: ул. Горького, 99 | I4: Таблица № 1 | O4: ТП 461
B5: адрес
A6: почасовых записей показаний электрических счетчиков
A7: в режимный день 20 Декабря 2023 г.
A8: 594
A9: часы суток | B9: Активная энергия | J9: Реактивная энергия
B10: ЯЧ.№203 - "ГОРОД 20" | J10: ЯЧ.№203 - "ГОРОД 20"
B11: Расчет. Коэф. | E11: 7200 | F11: Расчет. Коэф. | I11: 0 | J11: Расчет. Коэф. | M11: =E11 -> 7200 | N11: Расчет. Коэф. | Q11: =I11 -> 0
B12: показания счетчика | C12: разность | E12: расход эл.энергии за час | F12: показания счетчика | G12: разность | I12: расход эл.энергии за час | J12: показания счетчика | K12: разность | M12: расход эл.энергии за час | N12: показания счетчика | O12: разность | Q12: расход эл.энергии за час
A13: 1 | B13: 2 | C13: 3 | E13: 4 | F13: 5 | G13: 6 | I13: 7 | J13: 8 | K13: 9 | M13: 10 | N13: 11 | O13: 12 | Q13: 13
A14: 0 | E14: 259.83 | M14: 52.2
A15: 1 | E15: 233.91 | M15: 43.2
A16: 2 | E16: 222.75 | M16: 40.5
A17: 3 | E17: 215.1 | M17: 40.41
A18: 4 | E18: 237.33 | M18: 35.01
A19: 5 | E19: 328.68 | M19: 53.01
A20: 6 | E20: 351.27 | M20: 51.39
A21: 7 | E21: 392.67 | M21: 52.74
A22: 8 | E22: 433.8 | M22: 58.14
A23: 9 | E23: 462.87 | M23: 58.86
A24: 10 | E24: 462.69 | M24: 65.34
A25: 11 | E25: 435.24 | M25: 58.86
... A37: 23 | E37: 276.66 | M37: 44.01
A38: Итого | E38: =SUM(E14:E37) -> 8545.41 | I38: =SUM(I14:I37) -> 0 | M38: =SUM(M14:M37) -> 1239.3 | Q38: =SUM(Q14:Q37) -> 0
A39: 1. При наличии на предприятии отклонений от нормальных режимов электропотребления (временное изменение схем питания, остановка на ремонт, резкое снижение
A40: эл.потребления и т.д.) последние необходимо перечислить.
A41: Главный инженер АО "Вологдаоблэнерго" А.В. Чурляев
A42: составляется самим предприятием с соблюдением всех пунктов настоящей таблицы.

Sheet 21_2
B1: АО "Вологдаоблэнерго" | J1: код 900151 | N1: ПС ВОЛОГДА-ЮЖНАЯ РУ-10 кВ
B2: наименование предприятия | N2: наименование источника питания
N3: яч. 104 ф 6 кВ Керамик-1
B4: ул. Горького, 99 | I4: Таблица № 1
B5: адрес
A6: почасовых записей показаний электрических счетчиков
A7: в режимный день 20 Декабря 2023 г.
A9: часы суток | B9: Активная энергия | J9: Реактивная энергия
B10: яч. 104 ф 6 кВ Керамик-1 ТП-841Т-1 | F10: яч. 104 ф 6 кВ Керамик-1 ТП-417 | J10: яч. 104 ф 6 кВ Керамик-1 ТП-841Т-1 | N10: яч. 104 ф 6 кВ Керамик-1 ТП-417
B11: Расчет. Коэф. | F11: Расчет. Коэф. | I11: 200 | J11: Расчет. Коэф. | N11: Расчет. Коэф. | Q11: 200
B12: показания счетчика | C12: разность | E12: расход эл.энергии за час | F12: показания счетчика | G12: разность | I12: расход эл.энергии за час | J12: показания счетчика | K12: разность | M12: расход эл.энергии за час | N12: показания счетчика | O12: разность | Q12: расход эл.энергии за час
A13: 1 | B13: 2 | C13: 3 | E13: 4 | F13: 5 | G13: 6 | I13: 7 | J13: 8 | K13: 9 | M13: 10 | N13: 11 | O13: 12 | Q13: 13
A14: 0 | E14: 28.95 | I14: 1.36
A15: 1 | E15: 23.7 | I15: 1.36
A16: 2 | E16: 23.55 | I16: 1.52
A17: 3 | E17: 22.8 | I17: 1.28
A18: 4 | E18: 22.8 | I18: 1.48
A19: 5 | E19: 25.95 | I19: 1.64
A20: 6 | E20: 44.55 | I20: 1.4
A21: 7 | E21: 44.85 | I21: 1.6
A22: 8 | E22: 54.15 | I22: 1.36
A23: 9 | E23: 46.2 | I23: 1.64
A24: 10 | E24: 52.35 | I24: 1.76
A25: 11 | E25: 54.45 | I25: 1.52
... A37: 23 | E37: 39 | I37: 1.28
A38: Итого | E38: =SUM(E14:E37) -> 1098.6 | I38: =SUM(I14:I37) -> 39.04 | M38: =SUM(M14:M37) -> 0 | Q38: =SUM(Q14:Q37) -> 0
A39: 1. При наличии на предприятии отклонений от нормальных режимов электропотребления (временное изменение схем питания, остановка на ремонт, резкое снижение
A40: эл.потребления и т.д.) последние необходимо перечислить.
A41: Главный инженер АО "Вологдаоблэнерго" А.В. Чурляев
A42: составляется самим предприятием с соблюдением всех пунктов настоящей таблицы.

Sheet 21_3
B1: АО "Вологдаоблэнерго" | J1: код 900151 | N1: ПС ВОЛОГДА-ЮЖНАЯ РУ-10 кВ
B2: наименование предприятия | N2: наименование источника питания
N3: яч, 104 ф 6 кВ Керамик-1
B4: ул, Горького, 99 | I4: Таблица № 1
B5: адрес
A6: почасовых записей показаний электрических счетчиков
A7: в режимный день 20 Декабря 2023 г.
A9: часы суток | B9: Активная энергия | J9: Реактивная энергия
B10: яч, 104 ф 6 кВ Керамик-1 КТП-1004 | J10: яч, 104 ф 6 кВ Керамик-1 КТП-1004
B11: Расчет, Коэф, | F11: Расчет, Коэф, | J11: Расчет, Коэф, | N11: Расчет, Коэф,
B12: показания счетчика | C12: разность | E12: расход эл,энергии за час | F12: показания счетчика | G12: разность | I12: расход эл,энергии за час | J12: показания счетчика | K12: разность | M12: расход эл,энергии за час | N12: показания счетчика | O12: разность | Q12: расход эл,энергии за час
A13: 1 | B13: 2 | C13: 3 | E13: 4 | F13: 5 | G13: 6 | I13: 7 | J13: 8 | K13: 9 | M13: 10 | N13: 11 | O13: 12 | Q13: 13
A14: 0 | E14: 18.75 | M14: 0.044
A15: 1 | E15: 15.526 | M15: 0
A16: 2 | E16: 19.064 | M16: 0.014
A17: 3 | E17: 16.87 | M17: 0.012
A18: 4 | E18: 18.036 | M18: 0.012
A19: 5 | E19: 17.164 | M19: 0.002
A20: 6 | E20: 17.072 | M20: 0.014
A21: 7 | E21: 19.686 | M21: 0.006
A22: 8 | E22: 17.986 | M22: 0.05
A23: 9 | E23: 17.386 | M23: 0.3
A24: 10 | E24: 24.114 | M24: 0.194
A25: 11 | E25: 21.618 | M25: 0.008
A26: 12 | E26: 17.4 | M26: 0.146
A27: 13 | E27: 19.76 | M27: 0.006
... A37: 23 | E37: 20.462 | M37: 0.124
A38: Итого | E38: =SUM(E14:E37) -> 470.592 | I38: =SUM(I14:I37) -> 0 | M38: =SUM(M14:M37) -> 1.114 | Q38: =SUM(Q14:Q37) -> 0
A39: 1, При наличии на предприятии отклонений от нормальных режимов электропотребления (временное изменение схем питания, остановка на ремонт, резкое снижение
A40: эл,потребления и т,д,) последние необходимо перечислить,
A41: Главный инженер АО "Вологдаоблэнерго" А,В, Чурляев
A42: составляется самим предприятием с соблюдением всех пунктов настоящей таблицы,

Sheet 21_4
B1: АО "Вологдаоблэнерго" | J1: код 900151 | N1: ПС ВОЛОГДА-ЮЖНАЯ РУ-10 кВ
B2: наименование предприятия | N2: наименование источника питания
N3: яч. 207 ф 10 кВ Керамик 2
B4: ул. Горького, 99 | I4: Таблица № 1
B5: адрес
A6: почасовых записей показаний электрических счетчиков
A7: в режимный день 20 Декабря 2023 г.
A9: часы суток | B9: Активная энергия | J9: Реактивная энергия
B10: яч. 207 ф 10 кВ Керамик 2 ТП841 Т-2 | J10: яч. 207 ф 10 кВ Керамик 2 ТП841 Т-2
B11: Расчет. Коэф. | F11: Расчет. Коэф. | J11: Расчет. Коэф. | N11: Расчет. Коэф.
B12: показания счетчика | C12: разность | E12: расход эл.энергии за час | F12: показания счетчика | G12: разность | I12: расход эл.энергии за час | J12: показания счетчика | K12: разность | M12: расход эл.энергии за час | N12: показания счетчика | O12: разность | Q12: расход эл.энергии за час
A13: 1 | B13: 2 | C13: 3 | E13: 4 | F13: 5 | G13: 6 | I13: 7 | J13: 8 | K13: 9 | M13: 10 | N13: 11 | O13: 12 | Q13: 13
A14: 0 | E14: 70.8
A15: 1 | E15: 66.6
A16: 2 | E16: 66.15
A17: 3 | E17: 62.7
A18: 4 | E18: 59.7
A19: 5 | E19: 70.05
A20: 6 | E20: 84
A21: 7 | E21: 86.55
A22: 8 | E22: 84.6
A23: 9 | E23: 90.75
A24: 10 | E24: 92.7
A25: 11 | E25: 94.5
... A37: 23 | E37: 90.6
A38: Итого | E38: =SUM(E14:E37) -> 2288.1 | I38: =SUM(I14:I37) -> 0 | M38: =SUM(M14:M37) -> 0 | Q38: =SUM(Q14:Q37) -> 0
A39: 1. При наличии на предприятии отклонений от нормальных режимов электропотребления (временное изменение схем питания, остановка на ремонт, резкое снижение
A40: эл.потребления и т.д.) последние необходимо перечислить.
A41: Главный инженер АО "Вологдаоблэнерго" А.В. Чурляев
A42: составляется самим предприятием с соблюдением всех пунктов настоящей таблицы.

Sheet 21_5
B1: АО "Вологдаоблэнерго" | J1: код 900151 | K1: ПС "Вологда-Южная"РУ 6кВ - транзит через "БМЗ"
B2: наименование предприятия | N2: наименование источника питания
N3: ф 6 кВ БМЗ-1, БМЗ-2
B4: ул. Горького, 99 | I4: Таблица № 1
B5: адрес
A6: почасовых записей показаний электрических счетчиков
A7: в режимный день 20 Декабря 2023 г.
A9: часы суток | B9: Активная энергия | J9: Реактивная энергия
B10: яч. 106 ф 6 кВ БМЗ-1 РТП 25 Т1 | F10: яч. 204 ф 6 кВ БМЗ-2 РТП 25 Т2 | J10: яч. 204 ф 6 кВ БМЗ-2 РТП 25 Т1 | N10: яч. 204 ф 6 кВ БМЗ-2 РТП 25 Т2
B11: Расчет. Коэф. | F11: Расчет. Коэф. | J11: Расчет. Коэф. | N11: Расчет. Коэф.
B12: показания счетчика | C12: разность | E12: расход эл.энергии за час | F12: показания счетчика | G12: разность | I12: расход эл.энергии за час | J12: показания счетчика | K12: разность | M12: расход эл.энергии за час | N12: показания счетчика | O12: разность | Q12: расход эл.энергии за час
A13: 1 | B13: 2 | C13: 3 | E13: 4 | F13: 5 | G13: 6 | I13: 7 | J13: 8 | K13: 9 | M13: 10 | N13: 11 | O13: 12 | Q13: 13
A14: 0 | E14: 106.56 | I14: 65.04 | M14: 24.12 | Q14: 33.72
A15: 1 | E15: 100.56 | I15: 59.4 | M15: 24.36 | Q15: 34.08
A16: 2 | E16: 95.88 | I16: 54.3 | M16: 22.44 | Q16: 32.16
A17: 3 | E17: 93.6 | I17: 50.88 | M17: 21.72 | Q17: 31.44
A18: 4 | E18: 94.44 | I18: 60.84 | M18: 22.08 | Q18: 31.08
A19: 5 | E19: 99.6 | I19: 69.36 | M19: 21.36 | Q19: 30.78
A20: 6 | E20: 112.08 | I20: 111.18 | M20: 24 | Q20: 32.88
A21: 7 | E21: 126.6 | I21: 110.22 | M21: 25.92 | Q21: 35.94
A22: 8 | E22: 165.24 | I22: 118.38 | M22: 33.84 | Q22: 37.74
A23: 9 | E23: 171.72 | I23: 106.38 | M23: 35.04 | Q23: 37.2
A24: 10 | E24: 170.76 | I24: 109.74 | M24: 34.68 | Q24: 39.72
A25: 11 | E25: 171.6 | I25: 104.82 | M25: 35.04 | Q25: 38.64
... A37: 23 | E37: 124.56 | I37: 79.5 | M37: 25.2 | Q37: 34.2
A38: Итого | E38: =SUM(E14:E37) -> 3495.36 | I38: =SUM(I14:I37) -> 2279.46 | M38: =SUM(M14:M37) -> 692.52 | Q38: =SUM(Q14:Q37) -> 856.68
A39: 1. При наличии на предприятии отклонений от нормальных режимов электропотребления (временное изменение схем питания, остановка на ремонт, резкое снижение
A40: эл.потребления и т.д.) последние необходимо перечислить.
A41: Главный инженер АО "Вологдаоблэнерго" А.В. Чурляев
A42: составляется самим предприятием с соблюдением всех пунктов настоящей таблицы.

Sheet 21_5.1
B1: АО "Вологдаоблэнерго" | J1: код 900151 | K1: ПС "Вологда-Южная"РУ 6кВ - транзит через "БМЗ"
B2: наименование предприятия | N2: наименование источника питания
N3: ф 6 кВ БМЗ-1, БМЗ-2
B4: ул. Горького, 99 | I4: Таблица № 1
B5: адрес
A6: почасовых записей показаний электрических счетчиков
A7: в режимный день 20 Декабря 2023 г.
A9: часы суток | B9: Активная энергия | J9: Реактивная энергия
B10: яч. 204 ф 6 кВ БМЗ КТП-1038 Т1 | F10: яч. 106 ф 6 кВ БМЗ-1 КТП-1038 Т2 | J10: яч. 204 ф 6 кВ БМЗ КТП-1038 Т1 | N10: яч. 106 ф 6 кВ БМЗ-1 КТП-1038 Т2
B11: Расчет. Коэф. | F11: Расчет. Коэф. | J11: Расчет. Коэф. | N11: Расчет. Коэф.
B12: показания счетчика | C12: разность | E12: расход эл.энергии за час | F12: показания счетчика | G12: разность | I12: расход эл.энергии за час | J12: показания счетчика | K12: разность | M12: расход эл.энергии за час | N12: показания счетчика | O12: разность | Q12: расход эл.энергии за час
A13: 1 | B13: 2 | C13: 3 | E13: 4 | F13: 5 | G13: 6 | I13: 7 | J13: 8 | K13: 9 | M13: 10 | N13: 11 | O13: 12 | Q13: 13
A14: 0 | E14: 49.6 | I14: 60.4
A15: 1 | E15: 37.8 | I15: 53.6
A16: 2 | E16: 33.7 | I16: 49
A17: 3 | E17: 30.7 | I17: 47.2
A18: 4 | E18: 30.7 | I18: 46.2
A19: 5 | E19: 32.7 | I19: 46.9
A20: 6 | E20: 38.8 | I20: 54.6
A21: 7 | E21: 52.3 | I21: 65.5
A22: 8 | E22: 47.3 | I22: 72.7
